Workbook

Sheet DG
A2: DEVIZ GENERAL - ACTUALIZAT | G2: CONTROL DEVIZ
A3: al obiectivului de investiţii | G3: Erori identificate | H3: =COUNTIF(H9:H82,"EROARE") -> 0
G4: Status | H4: =IF(H3=0,"VERIFICARE OK","EXISTĂ ERORI") -> VERIFICARE OK
A5: CONSTRUIRE CORP C3 LICEU TEORETIC MIHAIL KOGALNICEANU | G5: Notă | H5: Completează doar celulele galbene din coloana C.
A7: Nr. crt. | B7: Denumirea capitolelor şi subcapitolelor de cheltuieli | C7: Valoare | D7: TVA | E7: Valoare | G7: Cotă TVA | H7: Verificare
C8: (fără TVA) | D8: 0.21 | E8: ( cu TVA) | G8: (tehnic) | H8: automat
A9: 1 | B9: 2 | C9: 3 | D9: 4 | E9: 5
A10: CAPITOLUL 1 Cheltuieli pentru obţinerea şi amenajarea terenului
A11: 1.1 | B11: Obţinerea terenului | C11: 0 | D11: =ROUND(C11*G11,2) -> 0 | E11: =ROUND(C11+D11,2) -> 0 | G11: 0.21 | H11: =IF(ABS(E11-C11-D11)<0.01,"OK","EROARE") -> OK
A12: 1.2 | B12: Amenajarea terenului | C12: 0 | D12: =ROUND(C12*G12,2) -> 0 | E12: =ROUND(C12+D12,2) -> 0 | G12: 0.21 | H12: =IF(ABS(E12-C12-D12)<0.01,"OK","EROARE") -> OK
A13: 1.3 | B13: Amenajări pentru protecţia mediului şi aducerea terenului la starea iniţială | C13: 0 | D13: =ROUND(C13*G13,2) -> 0 | E13: =ROUND(C13+D13,2) -> 0 | G13: 0.21 | H13: =IF(ABS(E13-C13-D13)<0.01,"OK","EROARE") -> OK
A14: 1.4 | B14: Cheltuieli pentru relocarea/protecţia utilităţilor | C14: 0 | D14: =ROUND(C14*G14,2) -> 0 | E14: =ROUND(C14+D14,2) -> 0 | G14: 0.21 | H14: =IF(ABS(E14-C14-D14)<0.01,"OK","EROARE") -> OK
A15: Total capitol 1 | C15: =SUM(C11:C14) -> 0 | D15: =SUM(D11:D14) -> 0 | E15: =ROUND(C15+D15,2) -> 0 | H15: =IF(ABS(E15-C15-D15)<0.01,"OK","EROARE") -> OK
A16: CAPITOLUL 2 Cheltuieli pentru asigurarea utilităţilor necesare obiectivului de investiţii
A17: 2.1 | B17: Alimentare cu apa | C17: 0 | D17: =ROUND(C17*G17,2) -> 0 | E17: =ROUND(C17+D17,2) -> 0 | G17: 0.21 | H17: =IF(ABS(E17-C17-D17)<0.01,"OK","EROARE") -> OK
A18: 2.2 | B18: Alimentare cu energie electrica | C18: 200000 | D18: =ROUND(C18*G18,2) -> 42000 | E18: =ROUND(C18+D18,2) -> 242000 | G18: 0.21 | H18: =IF(ABS(E18-C18-D18)<0.01,"OK","EROARE") -> OK
A19: 2.3 | B19: Alimentare cu gaz | C19: 0 | D19: =ROUND(C19*G19,2) -> 0 | E19: =ROUND(C19+D19,2) -> 0 | G19: 0.21 | H19: =IF(ABS(E19-C19-D19)<0.01,"OK","EROARE") -> OK
A20: Total capitol 2 | C20: =SUM(C17:C19) -> 200000 | D20: =SUM(D17:D19) -> 42000 | E20: =ROUND(C20+D20,2) -> 242000 | H20: =IF(ABS(E20-C20-D20)<0.01,"OK","EROARE") -> OK
A21: CAPITOLUL 3 Cheltuieli pentru proiectare şi asistenţă tehnică
A22: 3.1 | B22: Studii | C22: =SUM(C23:C25) -> 9500 | D22: =SUM(D23:D25) -> 1995 | E22: =ROUND(C22+D22,2) -> 11495 | H22: =IF(ABS(E22-C22-D22)<0.01,"OK","EROARE") -> OK
B23: 3.1.1. Studii de teren | C23: 6000 | D23: =ROUND(C23*G23,2) -> 1260 | E23: =ROUND(C23+D23,2) -> 7260 | G23: 0.21 | H23: =IF(ABS(E23-C23-D23)<0.01,"OK","EROARE") -> OK
B24: 3.1.2. Raport privind impactul asupra mediului | C24: 0 | D24: =ROUND(C24*G24,2) -> 0 | E24: =ROUND(C24+D24,2) -> 0 | G24: 0.21 | H24: =IF(ABS(E24-C24-D24)<0.01,"OK","EROARE") -> OK
B25: 3.1.3. Alte studii specifice - Studiu energii alternative | C25: 3500 | D25: =ROUND(C25*G25,2) -> 735 | E25: =ROUND(C25+D25,2) -> 4235 | G25: 0.21 | H25: =IF(ABS(E25-C25-D25)<0.01,"OK","EROARE") -> OK
A26: 3.2 | B26: Documentaţii-suport şi cheltuieli pentru obţinerea de avize, acorduri şi autorizaţii - avize conform certificat urbanism | C26: 20000 | D26: =ROUND(C26*G26,2) -> 4200 | E26: =ROUND(C26+D26,2) -> 24200 | G26: 0.21 | H26: =IF(ABS(E26-C26-D26)<0.01,"OK","EROARE") -> OK
A27: 3.3 | B27: Expertizare tehnică | C27: 0 | D27: =ROUND(C27*21%,2) -> 0 | E27: =ROUND(C27+D27,2) -> 0 | G27: 0.21 | H27: =IF(ABS(E27-C27-D27)<0.01,"OK","EROARE") -> OK
H28: =IF(ABS(E28-C28-D28)<0.01,"OK","EROARE") -> OK
H29: =IF(ABS(E29-C29-D29)<0.01,"OK","EROARE") -> OK
A30: 3.4 | B30: Certificarea performanţei energetice şi auditul energetic al clădirilor | C30: 7000 | D30: =ROUND(C30*21%,2) -> 1470 | E30: =ROUND(C30+D30,2) -> 8470 | G30: 0.21 | H30: =IF(ABS(E30-C30-D30)<0.01,"OK","EROARE") -> OK
H31: =IF(ABS(E31-C31-D31)<0.01,"OK","EROARE") -> OK
H32: =IF(ABS(E32-C32-D32)<0.01,"OK","EROARE") -> OK
A33: 3.5 | B33: Proiectare | C33: =SUM(C34:C40) -> 227500 | D33: =SUM(D34:D40) -> 47775 | E33: =SUM(E34:E40) -> 275275 | H33: =IF(ABS(E33-C33-D33)<0.01,"OK","EROARE") -> OK
B34: 3.5.1. Temă de proiectare | C34: 0 | D34: =ROUND(C34*G34,2) -> 0 | E34: =ROUND(C34+D34,2) -> 0 | G34: 0.21 | H34: =IF(ABS(E34-C34-D34)<0.01,"OK","EROARE") -> OK
B35: 3.5.2. Studiu de prefezabilitate | C35: 0 | D35: =ROUND(C35*G35,2) -> 0 | E35: =ROUND(C35+D35,2) -> 0 | G35: 0.21 | H35: =IF(ABS(E35-C35-D35)<0.01,"OK","EROARE") -> OK
B36: 3.5.3. Studiu de fezabilitate/documentaţie de avizare a lucrărilor de intervenţii şi deviz general | C36: 60000 | D36: =ROUND(C36*G36,2) -> 12600 | E36: =ROUND(C36+D36,2) -> 72600 | G36: 0.21 | H36: =IF(ABS(E36-C36-D36)<0.01,"OK","EROARE") -> OK
B37: 3.5.4. Documentaţiile tehnice necesare în vederea obţinerii avizelor/acordurilor/autorizaţiilor - documentatie DTAC si DTOE | C37: 50000 | D37: =ROUND(C37*G37,2) -> 10500 | E37: =ROUND(C37+D37,2) -> 60500 | G37: 0.21 | H37: =IF(ABS(E37-C37-D37)<0.01,"OK","EROARE") -> OK
B38: 3.5.5. Verificarea tehnică de calitate a proiectului tehnic şi a detaliilor de execuţie | C38: 30000 | D38: =ROUND(C38*G38,2) -> 6300 | E38: =ROUND(C38+D38,2) -> 36300 | G38: 0.21 | H38: =IF(ABS(E38-C38-D38)<0.01,"OK","EROARE") -> OK
B39: 3.5.6. Proiect tehnic şi detalii de execuţie | C39: 83500 | D39: =ROUND(C39*G39,2) -> 17535 | E39: =ROUND(C39+D39,2) -> 101035 | G39: 0.21 | H39: =IF(ABS(E39-C39-D39)<0.01,"OK","EROARE") -> OK
B40: 3.5.7. Actualizari deviz, grafic executie, AS-BUILT | C40: 4000 | D40: =ROUND(C40*G40,2) -> 840 | E40: =ROUND(C40+D40,2) -> 4840 | G40: 0.21 | H40: =IF(ABS(E40-C40-D40)<0.01,"OK","EROARE") -> OK
A41: 3.6 | B41: Organizarea procedurilor de achiziţie | C41: 0 | D41: =ROUND(C41*G41,2) -> 0 | E41: =ROUND(C41+D41,2) -> 0 | G41: 0.21 | H41: =IF(ABS(E41-C41-D41)<0.01,"OK","EROARE") -> OK
A42: 3.7 | B42: Consultanţă | C42: =SUM(C43:C44) -> 390000 | D42: =SUM(D43:D44) -> 81900 | E42: =ROUND(C42+D42,2) -> 471900 | H42: =IF(ABS(E42-C42-D42)<0.01,"OK","EROARE") -> OK
B43: 3.7.1. Managementul de proiect pentru obiectivul de investiţii | C43: 390000 | D43: =ROUND(C43*G43,2) -> 81900 | E43: =ROUND(C43+D43,2) -> 471900 | G43: 0.21 | H43: =IF(ABS(E43-C43-D43)<0.01,"OK","EROARE") -> OK
B44: 3.7.2. Auditul financiar | C44: 0 | D44: =ROUND(C44*G44,2) -> 0 | E44: =ROUND(C44+D44,2) -> 0 | G44: 0.21 | H44: =IF(ABS(E44-C44-D44)<0.01,"OK","EROARE") -> OK
A45: 3.8 | B45: Asistenţă tehnică | C45: =SUM(C46:C48) -> 223000 | D45: =SUM(D46:D48) -> 46830 | E45: =ROUND(C45+D45,2) -> 269830 | H45: =IF(ABS(E45-C45-D45)<0.01,"OK","EROARE") -> OK
B46: 3.8.1. Asistenţă tehnică din partea proiectantului | C46: 36000 | D46: =ROUND(C46*G46,2) -> 7560 | E46: =ROUND(C46+D46,2) -> 43560 | G46: 0.21 | H46: =IF(ABS(E46-C46-D46)<0.01,"OK","EROARE") -> OK
B47: 3.8.2. Dirigenţie de şantier | C47: 142000 | D47: =ROUND(C47*G47,2) -> 29820 | E47: =ROUND(C47+D47,2) -> 171820 | G47: 0.21 | H47: =IF(ABS(E47-C47-D47)<0.01,"OK","EROARE") -> OK
B48: 3.8.3 Coordonator în materie de securitate și sănătate - conf. H. G. 300/2006, cu modificările și completările ulterioare | C48: 45000 | D48: =ROUND(C48*G48,2) -> 9450 | E48: =ROUND(C48+D48,2) -> 54450 | G48: 0.21 | H48: =IF(ABS(E48-C48-D48)<0.01,"OK","EROARE") -> OK
A49: Total capitol 3 | C49: =C22+C26+C27+C30+C33+C41+C42+C45 -> 877000 | D49: =D22+D26+D27+D30+D33+D41+D42+D45 -> 184170 | E49: =ROUND(C49+D49,2) -> 1061170 | H49: =IF(ABS(E49-C49-D49)<0.01,"OK","EROARE") -> OK
A50: CAPITOLUL 4 Cheltuieli pentru investiţia de bază
A51: 4.1 | B51: Construcţii şi instalaţii | C51: =SUM(C52:C53) -> 9494509.6 | D51: =SUM(D52:D53) -> 1993847 | E51: =ROUND(C51+D51,2) -> 11488357 | H51: =IF(ABS(E51-C51-D51)<0.01,"OK","EROARE") -> OK
A52: 4.1.1. | B52: ='Ob. 1'!A3 -> Obiectul: Ob. 1 - Construire Corp C3 | C52: ='Ob. 1'!C15 -> 8550683 | D52: =ROUND(C52*G52,2) -> 1795643.4 | E52: =ROUND(C52+D52,2) -> 10346326 | G52: 0.21 | H52: =IF(ABS(E52-C52-D52)<0.01,"OK","EROARE") -> OK
A53: 4.1.2. | B53: ='Ob. 2'!A3 -> Obiectul: Ob. 2 - Amenajari exterioare | C53: ='Ob. 2'!C15 -> 943826.64 | D53: =ROUND(C53*G53,2) -> 198203.59 | E53: =ROUND(C53+D53,2) -> 1142030.2 | G53: 0.21 | H53: =IF(ABS(E53-C53-D53)<0.01,"OK","EROARE") -> OK
A54: 4.2 | B54: Montaj utilaje, echipamente tehnologice şi funcţionale | C54: ='Ob. 1'!C17+'Ob. 2'!C17 -> 155812.33 | D54: =ROUND(C54*G54,2) -> 32720.59 | E54: =ROUND(C54+D54,2) -> 188532.92 | G54: 0.21 | H54: =IF(ABS(E54-C54-D54)<0.01,"OK","EROARE") -> OK
A55: 4.3 | B55: Utilaje, echipamente tehnologice şi funcţionale care necesită montaj | C55: ='Ob. 1'!C19+'Ob. 2'!C19 -> 1316434.4 | D55: =ROUND(C55*G55,2) -> 276451.22 | E55: =ROUND(C55+D55,2) -> 1592885.6 | G55: 0.21 | H55: =IF(ABS(E55-C55-D55)<0.01,"OK","EROARE") -> OK
A56: 4.4 | B56: Utilaje, echipamente tehnologice şi funcţionale care nu necesită montaj şi echipamente de transport | C56: ='Ob. 1'!C20+'Ob. 2'!C20 -> 15900 | D56: =ROUND(C56*G56,2) -> 3339 | E56: =ROUND(C56+D56,2) -> 19239 | G56: 0.21 | H56: =IF(ABS(E56-C56-D56)<0.01,"OK","EROARE") -> OK
A57: 4.5 | B57: Dotări | C57: ='Ob. 1'!C21+'Ob. 2'!C21 -> 52388.23 | D57: =ROUND(C57*G57,2) -> 11001.53 | E57: =ROUND(C57+D57,2) -> 63389.76 | G57: 0.21 | H57: =IF(ABS(E57-C57-D57)<0.01,"OK","EROARE") -> OK
A58: 4.6 | B58: Active necorporale | C58: 0 | D58: =ROUND(C58*G58,2) -> 0 | E58: =ROUND(C58+D58,2) -> 0 | G58: 0.21 | H58: =IF(ABS(E58-C58-D58)<0.01,"OK","EROARE") -> OK
A59: Total capitol 4 | C59: =C51+C54+C55+C56+C57+C58 -> 11035045 | D59: =D51+D55+D54+D56+D57+D58 -> 2317359.4 | E59: =ROUND(C59+D59,2) -> 13352404 | H59: =IF(ABS(E59-C59-D59)<0.01,"OK","EROARE") -> OK
A60: CAPITOLUL 5 Alte cheltuieli
A61: 5.1 | B61: Organizare de şantier | C61: =SUM(C62:C63) -> 75500 | D61: =SUM(D62:D63) -> 15855 | E61: =ROUND(C61+D61,2) -> 91355 | H61: =IF(ABS(E61-C61-D61)<0.01,"OK","EROARE") -> OK
A62: 5.1.1. | B62: Lucrări de construcţii şi instalaţii aferente organizării de şantier | C62: 0 | D62: =ROUND(C62*G62,2) -> 0 | E62: =ROUND(C62+D62,2) -> 0 | G62: 0.21 | H62: =IF(ABS(E62-C62-D62)<0.01,"OK","EROARE") -> OK
A63: 5.1.2. | B63: Cheltuieli conexe organizării şantierului | C63: 75500 | D63: =ROUND(C63*G63,2) -> 15855 | E63: =ROUND(C63+D63,2) -> 91355 | G63: 0.21 | H63: =IF(ABS(E63-C63-D63)<0.01,"OK","EROARE") -> OK
A64: 5.2 | B64: Comisioane, cote, taxe, costul creditului | C64: =SUM(C65:C69) -> 108353.54 | D64: =SUM(D65:D69) -> 0 | E64: =ROUND(C64+D64,2) -> 108353.54 | H64: =IF(ABS(E64-C64-D64)<0.01,"OK","EROARE") -> OK
B65: 5.2.1. Comisioanele şi dobânzile aferente creditului băncii finanţatoare | C65: 0 | D65: =ROUND(C65*G65,2) -> 0 | E65: =ROUND(C65+D65,2) -> 0 | G65: 0 | H65: =IF(ABS(E65-C65-D65)<0.01,"OK","EROARE") -> OK
B66: 5.2.2. Cota aferentă ISC pentru controlul calităţii lucrărilor de construcţii | C66: =0.1%*C82 -> 9850.322 | D66: =ROUND(C66*G66,2) -> 0 | E66: =ROUND(C66+D66,2) -> 9850.32 | G66: 0 | H66: =IF(ABS(E66-C66-D66)<0.01,"OK","EROARE") -> OK
B67: 5.2.3. Cota aferentă ISC pentru controlul statului în amenajarea teritoriului, urbanism şi pentru autorizarea lucrărilor de construcţii | C67: =0.5%*C82 -> 49251.61 | D67: =ROUND(C67*G67,2) -> 0 | E67: =ROUND(C67+D67,2) -> 49251.61 | G67: 0 | H67: =IF(ABS(E67-C67-D67)<0.01,"OK","EROARE") -> OK
B68: 5.2.4. Cota aferentă Casei Sociale a Constructorilor - CSC | C68: =0.5%*C82 -> 49251.61 | D68: =ROUND(C68*G68,2) -> 0 | E68: =ROUND(C68+D68,2) -> 49251.61 | G68: 0 | H68: =IF(ABS(E68-C68-D68)<0.01,"OK","EROARE") -> OK
B69: 5.2.5. Taxe pentru acorduri, avize conforme şi autorizaţia de construire/desfiinţare | C69: 0 | D69: =ROUND(C69*G69,2) -> 0 | E69: =ROUND(C69+D69,2) -> 0 | G69: 0 | H69: =IF(ABS(E69-C69-D69)<0.01,"OK","EROARE") -> OK
A70: 5.3 | B70: Cheltuieli diverse şi neprevăzute (1.2+1.3+1.4+2+3.5+3.8+4) | C70: =0*(C12+C13+C14+C20+C33+C45+C59) -> 0 | D70: =ROUND(C70*G70,2) -> 0 | E70: =ROUND(C70+D70,2) -> 0 | G70: 0.21 | H70: =IF(ABS(E70-C70-D70)<0.01,"OK","EROARE") -> OK
A71: 5.4 | B71: Cheltuieli pentru informare şi publicitate | C71: 0 | D71: =ROUND(C71*G71,2) -> 0 | E71: =ROUND(C71+D71,2) -> 0 | G71: 0.21 | H71: =IF(ABS(E71-C71-D71)<0.01,"OK","EROARE") -> OK
A72: Total capitol 5 | C72: =C61+C64+C70+C71 -> 183853.54 | D72: =D61+D64+D70+D71 -> 15855 | E72: =ROUND(C72+D72,2) -> 199708.54 | H72: =IF(ABS(E72-C72-D72)<0.01,"OK","EROARE") -> OK
A73: CAPITOLUL 6 Cheltuieli pentru probe tehnologice şi teste
A74: 6.1 | B74: Pregătirea personalului de exploatare | C74: 5000 | D74: =ROUND(C74*G74,2) -> 1050 | E74: =ROUND(C74+D74,2) -> 6050 | G74: 0.21 | H74: =IF(ABS(E74-C74-D74)<0.01,"OK","EROARE") -> OK
A75: 6.2 | B75: Probe tehnologice şi teste | C75: ='Ob. 1'!C25 -> 15000 | D75: =ROUND(C75*G75,2) -> 3150 | E75: =ROUND(C75+D75,2) -> 18150 | G75: 0.21 | H75: =IF(ABS(E75-C75-D75)<0.01,"OK","EROARE") -> OK
A76: Total capitol 6 | C76: =SUM(C74:C75) -> 20000 | D76: =SUM(D74:D75) -> 4200 | E76: =ROUND(C76+D76,2) -> 24200 | H76: =IF(ABS(E76-C76-D76)<0.01,"OK","EROARE") -> OK
A77: CAPITOLUL 7 Cheltuieli aferente marjei de buget și pentru constituirea rezervei de implementare pentru ajustarea de preț
A78: 7.1 | B78: Cheltuieli aferente marjei de buget 10% din (1.2+1.3+1.4+2+3.1+3.2+3.3+3.5+3.7+3.8+4+5.1.1) | C78: =10%*(C12+C13+C14+C20+C22+C26+C27+C33+C42+C45+C59+C62) -> 1210504.5 | D78: =ROUND(C78*G78,2) -> 254205.94 | E78: =ROUND(C78+D78,2) -> 1464710.4 | G78: 0.21 | H78: =IF(ABS(E78-C78-D78)<0.01,"OK","EROARE") -> OK
A79: 7.2 | B79: Cheltuieli pentru constituirea rezervei de implementare pentru ajustarea de preț 5% din (1.2+1.3+1.4+2+3.1+3.2+3.3+3.5+3.7+3.8+4+5.1.1) | C79: =5%*(C12+C13+C14+C20+C22+C26+C27+C33+C42+C45+C59+C62) -> 605252.23 | D79: =ROUND(C79*G79,2) -> 127102.97 | E79: =ROUND(C79+D79,2) -> 732355.2 | G79: 0.21 | H79: =IF(ABS(E79-C79-D79)<0.01,"OK","EROARE") -> OK
A80: Total capitol 7 | C80: =SUM(C78:C79) -> 1815756.7 | D80: =SUM(D78:D79) -> 381308.91 | E80: =ROUND(C80+D80,2) -> 2197065.6 | H80: =IF(ABS(E80-C80-D80)<0.01,"OK","EROARE") -> OK
A81: TOTAL GENERAL | C81: =C15+C20+C49+C59+C72+C76+C80 -> 14131655 | D81: =D15+D20+D49+D59+D72+D76+D80 -> 2944893.3 | E81: =ROUND(C81+D81,2) -> 17076548 | H81: =IF(ABS(E81-C81-D81)<0.01,"OK","EROARE") -> OK
A82: din care: C + M (1.2 + 1.3 +1.4 + 2 + 4.1 + 4.2 + 5.1.1) | C82: =C12+C13+C14+C20+C51+C54+C62 -> 9850322 | D82: =D12+D13+D14+D20+D51+D54+D62 -> 2068567.6 | E82: =ROUND(C82+D82,2) -> 11918890 | H82: =IF(ABS(E82-C82-D82)<0.01,"OK","EROARE") -> OK
B84: Data, | C84: Intocmit,
B85: 16.07.2026 | C85: Ing. Bogorodea Lucian
B86: Beneficiar,
B87: Comuna Mihail Kogalniceanu

Sheet Ob. 1
A1: PROIECTANT: EL PDB S.R.L.
A2: DEVIZUL OBIECTULUI - CONSTRUIRE CORP C3 LICEU TEORETIC MIHAIL KOGALNICEANU
A3: Obiectul: Ob. 1 - Construire Corp C3
A4: D.O. conform anexei nr. 8 la HG nr. 907/2016
A6: Nr. crt. | B6: Denumirea capitolelor și subcapitolelor de cheltuieli | C6: Valoare fără TVA | D6: TVA | E6: Valoare cu TVA | G6: Verificare | H6: Cotă TVA
C7: lei | D7: lei | E7: lei | G7: automat | H7: tehnic
A8: 1 | B8: 2 | C8: 3 | D8: 4 | E8: 5
B9: Cap. 4 - Cheltuieli pentru investiția de bază | G9: =IF(OR(C9="",D9="",E9=""),"",IF(ABS(E9-C9-D9)<0.01,"OK","EROARE"))
A10: 4.1 | B10: Construcții și instalații | C10: =SUM(C11:C14) -> 8550683 | D10: =SUM(D11:D14) -> 1795643.4 | E10: =SUM(E11:E14) -> 10346326 | G10: =IF(OR(C10="",D10="",E10=""),"",IF(ABS(E10-C10-D10)<0.01,"OK","EROARE")) -> OK
A11: 4.1.1 | B11: Terasamente, sistematizare pe verticală și amenajări exterioare | C11: 0 | D11: =ROUND(C11*H11,2) -> 0 | E11: =ROUND(C11+D11,2) -> 0 | G11: =IF(OR(C11="",D11="",E11=""),"",IF(ABS(E11-C11-D11)<0.01,"OK","EROARE")) -> OK | H11: 0.21
A12: 4.1.2 | B12: Rezistență | C12: =2247978.72 -> 2247978.7 | D12: =ROUND(C12*H12,2) -> 472075.53 | E12: =ROUND(C12+D12,2) -> 2720054.2 | G12: =IF(OR(C12="",D12="",E12=""),"",IF(ABS(E12-C12-D12)<0.01,"OK","EROARE")) -> OK | H12: 0.21
A13: 4.1.3 | B13: Arhitectură | C13: 3987467.4 | D13: =ROUND(C13*H13,2) -> 837368.14 | E13: =ROUND(C13+D13,2) -> 4824835.5 | G13: =IF(OR(C13="",D13="",E13=""),"",IF(ABS(E13-C13-D13)<0.01,"OK","EROARE")) -> OK | H13: 0.21
A14: 4.1.4 | B14: Instalații | C14: 2315236.9 | D14: =ROUND(C14*H14,2) -> 486199.75 | E14: =ROUND(C14+D14,2) -> 2801436.7 | G14: =IF(OR(C14="",D14="",E14=""),"",IF(ABS(E14-C14-D14)<0.01,"OK","EROARE")) -> OK | H14: 0.21
A15: TOTAL I | B15: Total subcap. 4.1 | C15: =C10 -> 8550683 | D15: =D10 -> 1795643.4 | E15: =E10 -> 10346326 | G15: =IF(OR(C15="",D15="",E15=""),"",IF(ABS(E15-C15-D15)<0.01,"OK","EROARE")) -> OK
A16: 4.2 | B16: Montaj utilaje, echipamente tehnologice și funcționale | C16: 155812.33 | D16: =ROUND(C16*H16,2) -> 32720.59 | E16: =ROUND(C16+D16,2) -> 188532.92 | G16: =IF(OR(C16="",D16="",E16=""),"",IF(ABS(E16-C16-D16)<0.01,"OK","EROARE")) -> OK | H16: 0.21
A17: TOTAL II | B17: Total subcap. 4.2 | C17: =C16 -> 155812.33 | D17: =D16 -> 32720.59 | E17: =E16 -> 188532.92 | G17: =IF(OR(C17="",D17="",E17=""),"",IF(ABS(E17-C17-D17)<0.01,"OK","EROARE")) -> OK
B18: Procurare | G18: =IF(OR(C18="",D18="",E18=""),"",IF(ABS(E18-C18-D18)<0.01,"OK","EROARE"))
A19: 4.3 | B19: Utilaje, echipamente tehnologice și funcționale care necesită montaj | C19: 1316434.4 | D19: =ROUND(C19*H19,2) -> 276451.22 | E19: =ROUND(C19+D19,2) -> 1592885.6 | G19: =IF(OR(C19="",D19="",E19=""),"",IF(ABS(E19-C19-D19)<0.01,"OK","EROARE")) -> OK | H19: 0.21
A20: 4.4 | B20: Utilaje, echipamente tehnologice și funcționale care nu necesită montaj și echipamente de transport | C20: 15900 | D20: =ROUND(C20*H20,2) -> 3339 | E20: =ROUND(C20+D20,2) -> 19239 | G20: =IF(OR(C20="",D20="",E20=""),"",IF(ABS(E20-C20-D20)<0.01,"OK","EROARE")) -> OK | H20: 0.21
A21: 4.5 | B21: Dotări | C21: 52388.23 | D21: =ROUND(C21*H21,2) -> 11001.53 | E21: =ROUND(C21+D21,2) -> 63389.76 | G21: =IF(OR(C21="",D21="",E21=""),"",IF(ABS(E21-C21-D21)<0.01,"OK","EROARE")) -> OK | H21: 0.21
A22: 4.6 | B22: Active necorporale | C22: 0 | D22: =ROUND(C22*H22,2) -> 0 | E22: =ROUND(C22+D22,2) -> 0 | G22: =IF(OR(C22="",D22="",E22=""),"",IF(ABS(E22-C22-D22)<0.01,"OK","EROARE")) -> OK | H22: 0.21
A23: TOTAL III | B23: Total subcap. 4.3 + 4.4 + 4.5 + 4.6 | C23: =SUM(C19:C22) -> 1384722.6 | D23: =SUM(D19:D22) -> 290791.75 | E23: =SUM(E19:E22) -> 1675514.4 | G23: =IF(OR(C23="",D23="",E23=""),"",IF(ABS(E23-C23-D23)<0.01,"OK","EROARE")) -> OK
A24: 6.2 | B24: Probe tehnologice și teste | C24: 15000 | D24: =ROUND(C24*H24,2) -> 3150 | E24: =ROUND(C24+D24,2) -> 18150 | G24: =IF(OR(C24="",D24="",E24=""),"",IF(ABS(E24-C24-D24)<0.01,"OK","EROARE")) -> OK | H24: 0.21
A25: TOTAL IV | B25: Total subcap. 6.2 | C25: =C24 -> 15000 | D25: =D24 -> 3150 | E25: =E24 -> 18150 | G25: =IF(OR(C25="",D25="",E25=""),"",IF(ABS(E25-C25-D25)<0.01,"OK","EROARE")) -> OK
A26: TOTAL | B26: Total deviz pe obiect (Total I + Total II + Total III + Total IV) | C26: =C15+C17+C23+C25 -> 10106218 | D26: =D15+D17+D23+D25 -> 2122305.8 | E26: =E15+E17+E23+E25 -> 12228524 | G26: =IF(OR(C26="",D26="",E26=""),"",IF(ABS(E26-C26-D26)<0.01,"OK","EROARE")) -> OK
A29: Proiectant - Bogorodea Lucian
A31: Notă:
A32: Completează doar celulele galbene din coloana C.
A33: Toate pozițiile sunt setate implicit cu TVA 21%.
A34: Pozițiile fără TVA vor fi modificate punctual după identificarea lor.

Sheet Ob. 2
A1: PROIECTANT: EL PDB S.R.L.
A2: DEVIZUL OBIECTULUI - CONSTRUIRE CORP C3 LICEU TEORETIC MIHAIL KOGALNICEANU
A3: Obiectul: Ob. 2 - Amenajari exterioare
A4: D.O. conform anexei nr. 8 la HG nr. 907/2016
A6: Nr. crt. | B6: Denumirea capitolelor și subcapitolelor de cheltuieli | C6: Valoare fără TVA | D6: TVA | E6: Valoare cu TVA | G6: Verificare | H6: Cotă TVA
C7: lei | D7: lei | E7: lei | G7: automat | H7: tehnic
A8: 1 | B8: 2 | C8: 3 | D8: 4 | E8: 5
B9: Cap. 4 - Cheltuieli pentru investiția de bază | G9: =IF(OR(C9="",D9="",E9=""),"",IF(ABS(E9-C9-D9)<0.01,"OK","EROARE"))
A10: 4.1 | B10: Construcții și instalații | C10: =SUM(C11:C14) -> 943826.64 | D10: =SUM(D11:D14) -> 198203.59 | E10: =SUM(E11:E14) -> 1142030.2 | G10: =IF(OR(C10="",D10="",E10=""),"",IF(ABS(E10-C10-D10)<0.01,"OK","EROARE")) -> OK
A11: 4.1.1 | B11: Terasamente, sistematizare pe verticală și amenajări exterioare | C11: 561001.25 | D11: =ROUND(C11*H11,2) -> 117810.26 | E11: =ROUND(C11+D11,2) -> 678811.51 | G11: =IF(OR(C11="",D11="",E11=""),"",IF(ABS(E11-C11-D11)<0.01,"OK","EROARE")) -> OK | H11: 0.21
A12: 4.1.2 | B12: Rezistență | C12: 382825.39 | D12: =ROUND(C12*H12,2) -> 80393.33 | E12: =ROUND(C12+D12,2) -> 463218.72 | G12: =IF(OR(C12="",D12="",E12=""),"",IF(ABS(E12-C12-D12)<0.01,"OK","EROARE")) -> OK | H12: 0.21
A13: 4.1.3 | B13: Arhitectură | C13: 0 | D13: =ROUND(C13*H13,2) -> 0 | E13: =ROUND(C13+D13,2) -> 0 | G13: =IF(OR(C13="",D13="",E13=""),"",IF(ABS(E13-C13-D13)<0.01,"OK","EROARE")) -> OK | H13: 0.21
A14: 4.1.4 | B14: Instalații | C14: 0 | D14: =ROUND(C14*H14,2) -> 0 | E14: =ROUND(C14+D14,2) -> 0 | G14: =IF(OR(C14="",D14="",E14=""),"",IF(ABS(E14-C14-D14)<0.01,"OK","EROARE")) -> OK | H14: 0.21
A15: TOTAL I | B15: Total subcap. 4.1 | C15: =C10 -> 943826.64 | D15: =D10 -> 198203.59 | E15: =E10 -> 1142030.2 | G15: =IF(OR(C15="",D15="",E15=""),"",IF(ABS(E15-C15-D15)<0.01,"OK","EROARE")) -> OK
A16: 4.2 | B16: Montaj utilaje, echipamente tehnologice și funcționale | C16: 0 | D16: =ROUND(C16*H16,2) -> 0 | E16: =ROUND(C16+D16,2) -> 0 | G16: =IF(OR(C16="",D16="",E16=""),"",IF(ABS(E16-C16-D16)<0.01,"OK","EROARE")) -> OK | H16: 0.21
A17: TOTAL II | B17: Total subcap. 4.2 | C17: =C16 -> 0 | D17: =D16 -> 0 | E17: =E16 -> 0 | G17: =IF(OR(C17="",D17="",E17=""),"",IF(ABS(E17-C17-D17)<0.01,"OK","EROARE")) -> OK
B18: Procurare | G18: =IF(OR(C18="",D18="",E18=""),"",IF(ABS(E18-C18-D18)<0.01,"OK","EROARE"))
A19: 4.3 | B19: Utilaje, echipamente tehnologice și funcționale care necesită montaj | C19: 0 | D19: =ROUND(C19*H19,2) -> 0 | E19: =ROUND(C19+D19,2) -> 0 | G19: =IF(OR(C19="",D19="",E19=""),"",IF(ABS(E19-C19-D19)<0.01,"OK","EROARE")) -> OK | H19: 0.21
A20: 4.4 | B20: Utilaje, echipamente tehnologice și funcționale care nu necesită montaj și echipamente de transport | C20: 0 | D20: =ROUND(C20*H20,2) -> 0 | E20: =ROUND(C20+D20,2) -> 0 | G20: =IF(OR(C20="",D20="",E20=""),"",IF(ABS(E20-C20-D20)<0.01,"OK","EROARE")) -> OK | H20: 0.21
A21: 4.5 | B21: Dotări | C21: 0 | D21: =ROUND(C21*H21,2) -> 0 | E21: =ROUND(C21+D21,2) -> 0 | G21: =IF(OR(C21="",D21="",E21=""),"",IF(ABS(E21-C21-D21)<0.01,"OK","EROARE")) -> OK | H21: 0.21
A22: 4.6 | B22: Active necorporale | C22: 0 | D22: =ROUND(C22*H22,2) -> 0 | E22: =ROUND(C22+D22,2) -> 0 | G22: =IF(OR(C22="",D22="",E22=""),"",IF(ABS(E22-C22-D22)<0.01,"OK","EROARE")) -> OK | H22: 0.21
A23: TOTAL III | B23: Total subcap. 4.3 + 4.4 + 4.5 + 4.6 | C23: =SUM(C19:C22) -> 0 | D23: =SUM(D19:D22) -> 0 | E23: =SUM(E19:E22) -> 0 | G23: =IF(OR(C23="",D23="",E23=""),"",IF(ABS(E23-C23-D23)<0.01,"OK","EROARE")) -> OK
A24: 6.2 | B24: Probe tehnologice și teste | C24: 0 | D24: =ROUND(C24*H24,2) -> 0 | E24: =ROUND(C24+D24,2) -> 0 | G24: =IF(OR(C24="",D24="",E24=""),"",IF(ABS(E24-C24-D24)<0.01,"OK","EROARE")) -> OK | H24: 0.21
A25: TOTAL IV | B25: Total subcap. 6.2 | C25: =C24 -> 0 | D25: =D24 -> 0 | E25: =E24 -> 0 | G25: =IF(OR(C25="",D25="",E25=""),"",IF(ABS(E25-C25-D25)<0.01,"OK","EROARE")) -> OK
A26: TOTAL | B26: Total deviz pe obiect (Total I + Total II + Total III + Total IV) | C26: =C15+C17+C23+C25 -> 943826.64 | D26: =D15+D17+D23+D25 -> 198203.59 | E26: =E15+E17+E23+E25 -> 1142030.2 | G26: =IF(OR(C26="",D26="",E26=""),"",IF(ABS(E26-C26-D26)<0.01,"OK","EROARE")) -> OK
A29: Proiectant - Bogorodea Lucian
A31: Notă:
A32: Completează doar celulele galbene din coloana C.
A33: Toate pozițiile sunt setate implicit cu TVA 21%.
A34: Pozițiile fără TVA vor fi modificate punctual după identificarea lor.

Sheet Indicatori
A1: INDICATORI ECONOMICI AI INVESTIȚIEI
A3: Indicator | B3: Valoare fără TVA | C3: TVA | D3: Valoare cu TVA
B4: lei | C4: lei | D4: lei
A5: Valoare totală investiție | B5: =DG!C81 -> 14131655 | C5: =DG!D81 -> 2944893.3 | D5: =DG!E81 -> 17076548 | G5: =IF(ABS(D5-B5-C5)<0.01,"OK","EROARE") -> OK
A6: Valoare C+M | B6: =DG!C82 -> 9850322 | C6: =ROUND(B6*F6,2) -> 2068567.6 | D6: =ROUND(B6+C6,2) -> 11918890 | F6: 0.21 | G6: =IF(ABS(D6-B6-C6)<0.01,"OK","EROARE") -> OK
A7: Cheltuieli utilități necesare obiectivului | B7: =DG!C20 -> 200000 | C7: =ROUND(B7*F7,2) -> 42000 | D7: =ROUND(B7+C7,2) -> 242000 | F7: 0.21 | G7: =IF(ABS(D7-B7-C7)<0.01,"OK","EROARE") -> OK
A8: Investiția de bază | B8: =DG!C59 -> 11035045 | C8: =ROUND(B8*F8,2) -> 2317359.4 | D8: =ROUND(B8+C8,2) -> 13352404 | F8: 0.21 | G8: =IF(ABS(D8-B8-C8)<0.01,"OK","EROARE") -> OK
A9: Organizare de șantier | B9: =DG!C61 -> 75500 | C9: =ROUND(B9*F9,2) -> 15855 | D9: =ROUND(B9+C9,2) -> 91355 | F9: 0.21 | G9: =IF(ABS(D9-B9-C9)<0.01,"OK","EROARE") -> OK
A10: Rezervă de implementare / diverse și neprevăzute | B10: =DG!C80 -> 1815756.7 | C10: =ROUND(B10*F10,2) -> 381308.9 | D10: =ROUND(B10+C10,2) -> 2197065.6 | F10: 0.21 | G10: =IF(ABS(D10-B10-C10)<0.01,"OK","EROARE") -> OK

Sheet Indicatori economici
A1: INDICATORI ECONOMICI AI INVESTIȚIEI
A3: PARAMETRI DE CALCUL
A4: Cotă TVA | B4: 0.21
A5: Număr elevi | B5: 270
A6: Număr utilizatori direcți | B6: 281
A7: Număr săli de clasă | B7: 9
A8: Suprafață desfășurată (mp) | B8: 1431.6
A10: Tabel 4.6.1 – Valoarea totală a investiției
A11: Indicator | B11: Valoare fără TVA | C11: TVA | D11: Valoare cu TVA | F11: Control
B12: lei | C12: lei | D12: lei
A13: Valoare totală investiție | B13: =DG!C81 -> 14131655 | C13: =DG!D81 -> 2944893.3 | D13: =DG!E81 -> 17076548 | F13: =IF(ABS(D13-B13-C13)<0.01,"OK","EROARE") -> OK
A14: C + M | B14: =DG!C82 -> 9850322 | C14: =ROUND(B14*$B$4,2) -> 2068567.6 | D14: =ROUND(B14+C14,2) -> 11918890 | F14: =IF(ABS(D14-B14-C14)<0.01,"OK","EROARE") -> OK
A17: Tabel 4.6.2 – Structura valorii investiției pe capitole de cheltuieli
A18: Capitol de cheltuieli | B18: Valoare fără TVA | C18: TVA | D18: Valoare cu TVA | F18: Control
B19: lei | C19: lei | D19: lei
A20: 1. Cheltuieli pentru obținerea și amenajarea terenului | B20: 0 | C20: =ROUND(B20*$B$4,2) -> 0 | D20: =ROUND(B20+C20,2) -> 0 | F20: =IF(ABS(D20-B20-C20)<0.01,"OK","EROARE") -> OK
A21: 2. Cheltuieli pentru asigurarea utilităților necesare obiectivului | B21: =DG!C20 -> 200000 | C21: =ROUND(B21*$B$4,2) -> 42000 | D21: =ROUND(B21+C21,2) -> 242000 | F21: =IF(ABS(D21-B21-C21)<0.01,"OK","EROARE") -> OK
A22: 3. Cheltuieli pentru proiectare și asistență tehnică | B22: =DG!C49 -> 877000 | C22: =ROUND(B22*$B$4,2) -> 184170 | D22: =ROUND(B22+C22,2) -> 1061170 | F22: =IF(ABS(D22-B22-C22)<0.01,"OK","EROARE") -> OK
A23: 4. Cheltuieli pentru investiția de bază | B23: =DG!C59 -> 11035045 | C23: =ROUND(B23*$B$4,2) -> 2317359.4 | D23: =ROUND(B23+C23,2) -> 13352404 | F23: =IF(ABS(D23-B23-C23)<0.01,"OK","EROARE") -> OK
A24: 5. Alte cheltuieli | B24: =DG!C72 -> 183853.54 | C24: =ROUND(B24*$B$4,2) -> 38609.24 | D24: =ROUND(B24+C24,2) -> 222462.78 | F24: =IF(ABS(D24-B24-C24)<0.01,"OK","EROARE") -> OK
A25: 6. Cheltuieli pentru probe tehnologice și teste | B25: =DG!C76 -> 20000 | C25: =ROUND(B25*$B$4,2) -> 4200 | D25: =ROUND(B25+C25,2) -> 24200 | F25: =IF(ABS(D25-B25-C25)<0.01,"OK","EROARE") -> OK
A26: 7. Cheltuieli aferente marjei de buget și rezervei de implementare | B26: =DG!C80 -> 1815756.7 | C26: =ROUND(B26*$B$4,2) -> 381308.9 | D26: =ROUND(B26+C26,2) -> 2197065.6 | F26: =IF(ABS(D26-B26-C26)<0.01,"OK","EROARE") -> OK
A27: TOTAL GENERAL | B27: =DG!C81 -> 14131655 | C27: =DG!D81 -> 2944893.3 | D27: =DG!E81 -> 17076548 | F27: =IF(AND(ABS(D27-B27-C27)<0.01,ABS(B27-B13)<0.01),"OK","EROARE") -> OK
A30: Tabel 4.6.3 – Indicatori financiari specifici investiției
A31: Indicator | B31: Valoare fără TVA | C31: Valoare cu TVA | D31: Unitate | F31: Control
A33: Cost investiție / elev | B33: =IFERROR(B13/$B$5,0) -> 52339.462 | C33: =IFERROR(D13/$B$5,0) -> 63246.474 | D33: lei/elev | F33: =IF(AND(B33>=0,C33>=B33),"OK","EROARE") -> OK
A34: Cost investiție / utilizator direct | B34: =IFERROR(B13/$B$6,0) -> 50290.586 | C34: =IFERROR(D13/$B$6,0) -> 60770.634 | D34: lei/utilizator | F34: =IF(AND(B34>=0,C34>=B34),"OK","EROARE") -> OK
A35: Cost investiție / sală de clasă | B35: =IFERROR(B13/$B$7,0) -> 1570183.9 | C35: =IFERROR(D13/$B$7,0) -> 1897394.2 | D35: lei/sală | F35: =IF(AND(B35>=0,C35>=B35),"OK","EROARE") -> OK
A36: Cost investiție / mp suprafață desfășurată | B36: =IFERROR(B13/$B$8,0) -> 9871.2313 | C36: =IFERROR(D13/$B$8,0) -> 11928.296 | D36: lei/mp | F36: =IF(AND(B36>=0,C36>=B36),"OK","EROARE") -> OK
A37: Cost C+M / mp suprafață desfășurată | B37: =IFERROR(B14/$B$8,0) -> 6880.6384 | C37: =IFERROR(D14/$B$8,0) -> 8325.5725 | D37: lei/mp | F37: =IF(AND(B37>=0,C37>=B37),"OK","EROARE") -> OK
A40: CONTROL GENERAL
A41: Număr erori | B41: =COUNTIF(F13:F14,"EROARE")+COUNTIF(F20:F27,"EROARE")+COUNTIF(F33:F37,"EROARE") -> 0
A42: Status general | B42: =IF(B41=0,"VERIFICARE OK","EXISTĂ ERORI") -> VERIFICARE OK
A43: Instrucțiune | B43: Completează doar celulele galbene.

Sheet Reconciliere
A1: RECONCILIERE DEVIZ GENERAL – F1 – MEMORIU SF
A2: Obiectiv: CONSTRUIRE CORP C3 LICEU TEORETIC MIHAIL KOGĂLNICEANU
A4: Sursă economică | B4: Corp C3 MK cu valori 14.07.2026 – F1, pag. 1–2
A5: Sursă SF | B5: 01_Memoriu_general_faza_SF_FINAL – deviz general, indicatori și grafic de implementare
A6: Status corelare | B6: =IF(COUNTIF(G9:G21,"NECORELAT")=0,"CORELARE OK","NECORELĂRI IDENTIFICATE") -> CORELARE OK
A8: Element verificat | B8: F1 tipărit | C8: F1 recalculat | D8: Memoriu SF | E8: Excel actualizat | F8: Dif. vs SF | G8: Status | H8: Observații
A9: 4.1 Construcții și instalații | B9: 9494509.6 | C9: 9494509.6 | D9: 9494509.6 | E9: =DG!C51 -> 9494509.6 | F9: =ROUND(E9-D9,2) -> 0 | G9: =IF(ABS(F9)<=0.01,"OK","NECORELAT") -> OK | H9: Corelat integral.
A10: Obiect 1 – Construire Corp C3 | B10: 8550683 | C10: 8550683 | D10: 8550683 | E10: ='Ob. 1'!C15 -> 8550683 | F10: =ROUND(E10-D10,2) -> 0 | G10: =IF(ABS(F10)<=0.01,"OK","NECORELAT") -> OK | H10: Rezistență, arhitectură și instalații corelate cu pozițiile F1.
A11: Obiect 2 – Amenajări exterioare | B11: 943826.65 | C11: 943826.64 | D11: 943826.64 | E11: ='Ob. 2'!C15 -> 943826.64 | F11: =ROUND(E11-D11,2) -> 0 | G11: =IF(ABS(F11)<=0.01,"OK","NECORELAT") -> OK | H11: F1 tipărește 943.826,65 lei; suma celor 3 poziții este 943.826,64 lei, valoare folosită și în SF.
A12: 4.2 Montaj utilaje și echipamente | B12: 155812.33 | C12: 155812.33 | D12: 155812.33 | E12: =DG!C54 -> 155812.33 | F12: =ROUND(E12-D12,2) -> 0 | G12: =IF(ABS(F12)<=0.01,"OK","NECORELAT") -> OK | H12: Corelat cu F1 și devizul obiectului 1.
A13: 4.3 Echipamente care necesită montaj | B13: 1316434.4 | C13: 1316434.4 | D13: 1316434.4 | E13: =DG!C55 -> 1316434.4 | F13: =ROUND(E13-D13,2) -> 0 | G13: =IF(ABS(F13)<=0.01,"OK","NECORELAT") -> OK | H13: Corelat cu F1.
A14: 4.4 Echipamente fără montaj | B14: 15900 | C14: 15900 | D14: 15900 | E14: =DG!C56 -> 15900 | F14: =ROUND(E14-D14,2) -> 0 | G14: =IF(ABS(F14)<=0.01,"OK","NECORELAT") -> OK | H14: Corelat cu F1.
A15: 4.5 Dotări | B15: 52388.23 | C15: 52388.23 | D15: 52388.23 | E15: =DG!C57 -> 52388.23 | F15: =ROUND(E15-D15,2) -> 0 | G15: =IF(ABS(F15)<=0.01,"OK","NECORELAT") -> OK | H15: Corelat cu F1.
A16: Total capitol 4 | B16: 11035045 | C16: 11035045 | D16: 11035045 | E16: =DG!C59 -> 11035045 | F16: =ROUND(E16-D16,2) -> 0 | G16: =IF(ABS(F16)<=0.01,"OK","NECORELAT") -> OK | H16: F1 totalizează cu 0,01 lei peste suma pozițiilor tipărite; SF folosește suma recalculată.
A17: C+M | B17: 9650322 | C17: 9650321.9 | D17: 9850321.9 | E17: =DG!C82 -> 9850322 | F17: =ROUND(E17-D17,2) -> 0 | G17: =IF(ABS(F17)<=0.01,"OK","NECORELAT") -> OK | H17: SF include 200.000 lei la cap. 2 – alimentare cu energie electrică; F1 are cap. 2 cu valoare zero.
A18: TVA cap. 5.2 | D18: 0 | E18: =DG!D64 -> 0 | F18: =ROUND(E18-D18,2) -> 0 | G18: =IF(ABS(F18)<=0.01,"OK","NECORELAT") -> OK | H18: Comisioanele, cotele și taxele sunt fără TVA în devizul general din SF.
A19: Total investiție fără TVA | D19: 14131655 | E19: =DG!C81 -> 14131655 | F19: =ROUND(E19-D19,2) -> 0 | G19: =IF(ABS(F19)<=0.01,"OK","NECORELAT") -> OK | H19: Valoare maximală aprobată în SF.
A20: TVA total | D20: 2944893.3 | E20: =DG!D81 -> 2944893.3 | F20: =ROUND(E20-D20,2) -> 0 | G20: =IF(ABS(F20)<=0.01,"OK","NECORELAT") -> OK | H20: TVA mixt: 21% pentru pozițiile taxabile și 0% pentru cap. 5.2.
A21: Total investiție cu TVA | D21: 17076548 | E21: =DG!E81 -> 17076548 | F21: =ROUND(E21-D21,2) -> 0 | G21: =IF(ABS(F21)<=0.01,"OK","NECORELAT") -> OK | H21: Corelat cu indicatorii economici din SF.
A24: CONCLUZIILE VERIFICĂRII
A25: 1. Devizele pe obiect sunt corelate cu pozițiile din F1; diferențele de 0,01 lei provin din rotunjirile raportului F1.
A26: 2. Devizul general rămâne la 14.131.654,80 lei fără TVA și 17.076.548,07 lei cu TVA, conform SF.
A27: 3. Corecția aplicată este TVA 0% la cap. 5.2; TVA total scade cu 22.754,25 lei față de versiunea inițială a fișierului Excel.
A28: 4. Graficul F6 acoperă 18 luni de execuție, corespunzătoare lunilor 7–24 din graficul de implementare SF.
A30: Referință HG 907/2016 – formular F6: https://legislatie.just.ro/Public/FormaPrintabila/00000G2JBBI6JDG6RFZ1LOA78M6AV1SU

Sheet Grafic F6
A1: GRAFICUL GENERAL DE REALIZARE A INVESTIȚIEI PUBLICE – FORMULAR F6
A2: CONSTRUIRE CORP C3 LICEU TEORETIC MIHAIL KOGĂLNICEANU
A3: Durata execuției: 18 luni. Luna 1 din prezentul grafic corespunde lunii 7 din graficul de implementare al SF.
A4: Denumirea obiectului / categoriei de lucrări | C4: ANUL 1 | O4: ANUL 2 | U4: PARAMETRI DE PROGRAMARE ȘI CORELARE
A5: Nr. crt. | B5: Denumirea obiectului / categoriei de lucrări | C5: 1 | D5: 2 | E5: 3 | F5: 4 | G5: 5 | H5: 6 | I5: 7 | J5: 8 | K5: 9 | L5: 10 | M5: 11 | N5: 12 | O5: 13 | P5: 14 | Q5: 15 | R5: 16 | S5: 17 | T5: 18 | U5: Început | V5: Durată | W5: Valoare ref. fără TVA | X5: Sursă
A6: I | B6: Organizare de șantier | C6: =IF(OR($U6="",$V6=""),"",IF(AND(C$5>=$U6,C$5<=$U6+$V6-1),"●","")) -> ● | D6: =IF(OR($U6="",$V6=""),"",IF(AND(D$5>=$U6,D$5<=$U6+$V6-1),"●","")) -> ● | E6: =IF(OR($U6="",$V6=""),"",IF(AND(E$5>=$U6,E$5<=$U6+$V6-1),"●","")) -> ● | F6: =IF(OR($U6="",$V6=""),"",IF(AND(F$5>=$U6,F$5<=$U6+$V6-1),"●","")) -> ● | G6: =IF(OR($U6="",$V6=""),"",IF(AND(G$5>=$U6,G$5<=$U6+$V6-1),"●","")) -> ● | H6: =IF(OR($U6="",$V6=""),"",IF(AND(H$5>=$U6,H$5<=$U6+$V6-1),"●","")) -> ● | I6: =IF(OR($U6="",$V6=""),"",IF(AND(I$5>=$U6,I$5<=$U6+$V6-1),"●","")) -> ● | J6: =IF(OR($U6="",$V6=""),"",IF(AND(J$5>=$U6,J$5<=$U6+$V6-1),"●","")) -> ● | ... T6: =IF(OR($U6="",$V6=""),"",IF(AND(T$5>=$U6,T$5<=$U6+$V6-1),"●","")) -> ● | U6: 1 | V6: 18 | W6: =DG!C61 -> 75500 | X6: DG 5.1
A7: 1 | B7: OBIECTUL 1 – CONSTRUIRE CORP C3 | C7: =IF(OR($U7="",$V7=""),"",IF(AND(C$5>=$U7,C$5<=$U7+$V7-1),"●","")) | D7: =IF(OR($U7="",$V7=""),"",IF(AND(D$5>=$U7,D$5<=$U7+$V7-1),"●","")) | E7: =IF(OR($U7="",$V7=""),"",IF(AND(E$5>=$U7,E$5<=$U7+$V7-1),"●","")) | F7: =IF(OR($U7="",$V7=""),"",IF(AND(F$5>=$U7,F$5<=$U7+$V7-1),"●","")) | G7: =IF(OR($U7="",$V7=""),"",IF(AND(G$5>=$U7,G$5<=$U7+$V7-1),"●","")) | H7: =IF(OR($U7="",$V7=""),"",IF(AND(H$5>=$U7,H$5<=$U7+$V7-1),"●","")) | I7: =IF(OR($U7="",$V7=""),"",IF(AND(I$5>=$U7,I$5<=$U7+$V7-1),"●","")) | J7: =IF(OR($U7="",$V7=""),"",IF(AND(J$5>=$U7,J$5<=$U7+$V7-1),"●","")) | ... T7: =IF(OR($U7="",$V7=""),"",IF(AND(T$5>=$U7,T$5<=$U7+$V7-1),"●","")) | W7: ='Ob. 1'!C26 -> 10106218 | X7: Deviz obiect 1
A8: 1.1 | B8: Infrastructură | C8: =IF(OR($U8="",$V8=""),"",IF(AND(C$5>=$U8,C$5<=$U8+$V8-1),"●","")) -> ● | D8: =IF(OR($U8="",$V8=""),"",IF(AND(D$5>=$U8,D$5<=$U8+$V8-1),"●","")) -> ● | E8: =IF(OR($U8="",$V8=""),"",IF(AND(E$5>=$U8,E$5<=$U8+$V8-1),"●","")) -> ● | F8: =IF(OR($U8="",$V8=""),"",IF(AND(F$5>=$U8,F$5<=$U8+$V8-1),"●","")) | G8: =IF(OR($U8="",$V8=""),"",IF(AND(G$5>=$U8,G$5<=$U8+$V8-1),"●","")) | H8: =IF(OR($U8="",$V8=""),"",IF(AND(H$5>=$U8,H$5<=$U8+$V8-1),"●","")) | I8: =IF(OR($U8="",$V8=""),"",IF(AND(I$5>=$U8,I$5<=$U8+$V8-1),"●","")) | J8: =IF(OR($U8="",$V8=""),"",IF(AND(J$5>=$U8,J$5<=$U8+$V8-1),"●","")) | ... T8: =IF(OR($U8="",$V8=""),"",IF(AND(T$5>=$U8,T$5<=$U8+$V8-1),"●","")) | U8: 1 | V8: 3 | W8: 863841.02 | X8: F1 4.1.1.1
A9: 1.2 | B9: Suprastructură din beton armat | C9: =IF(OR($U9="",$V9=""),"",IF(AND(C$5>=$U9,C$5<=$U9+$V9-1),"●","")) | D9: =IF(OR($U9="",$V9=""),"",IF(AND(D$5>=$U9,D$5<=$U9+$V9-1),"●","")) -> ● | E9: =IF(OR($U9="",$V9=""),"",IF(AND(E$5>=$U9,E$5<=$U9+$V9-1),"●","")) -> ● | F9: =IF(OR($U9="",$V9=""),"",IF(AND(F$5>=$U9,F$5<=$U9+$V9-1),"●","")) -> ● | G9: =IF(OR($U9="",$V9=""),"",IF(AND(G$5>=$U9,G$5<=$U9+$V9-1),"●","")) -> ● | H9: =IF(OR($U9="",$V9=""),"",IF(AND(H$5>=$U9,H$5<=$U9+$V9-1),"●","")) -> ● | I9: =IF(OR($U9="",$V9=""),"",IF(AND(I$5>=$U9,I$5<=$U9+$V9-1),"●","")) | J9: =IF(OR($U9="",$V9=""),"",IF(AND(J$5>=$U9,J$5<=$U9+$V9-1),"●","")) | ... T9: =IF(OR($U9="",$V9=""),"",IF(AND(T$5>=$U9,T$5<=$U9+$V9-1),"●","")) | U9: 2 | V9: 5 | W9: 1384137.7 | X9: F1 4.1.1.2
A10: 1.3 | B10: Arhitectură: închideri, terasă, tâmplării, compartimentări și finisaje | C10: =IF(OR($U10="",$V10=""),"",IF(AND(C$5>=$U10,C$5<=$U10+$V10-1),"●","")) | D10: =IF(OR($U10="",$V10=""),"",IF(AND(D$5>=$U10,D$5<=$U10+$V10-1),"●","")) | E10: =IF(OR($U10="",$V10=""),"",IF(AND(E$5>=$U10,E$5<=$U10+$V10-1),"●","")) | F10: =IF(OR($U10="",$V10=""),"",IF(AND(F$5>=$U10,F$5<=$U10+$V10-1),"●","")) -> ● | G10: =IF(OR($U10="",$V10=""),"",IF(AND(G$5>=$U10,G$5<=$U10+$V10-1),"●","")) -> ● | H10: =IF(OR($U10="",$V10=""),"",IF(AND(H$5>=$U10,H$5<=$U10+$V10-1),"●","")) -> ● | I10: =IF(OR($U10="",$V10=""),"",IF(AND(I$5>=$U10,I$5<=$U10+$V10-1),"●","")) -> ● | J10: =IF(OR($U10="",$V10=""),"",IF(AND(J$5>=$U10,J$5<=$U10+$V10-1),"●","")) -> ● | ... T10: =IF(OR($U10="",$V10=""),"",IF(AND(T$5>=$U10,T$5<=$U10+$V10-1),"●","")) -> ● | U10: 4 | V10: 15 | W10: 3987467.4 | X10: F1 4.1.1.3
A11: 1.4 | B11: Instalații sanitare | C11: =IF(OR($U11="",$V11=""),"",IF(AND(C$5>=$U11,C$5<=$U11+$V11-1),"●","")) | D11: =IF(OR($U11="",$V11=""),"",IF(AND(D$5>=$U11,D$5<=$U11+$V11-1),"●","")) | E11: =IF(OR($U11="",$V11=""),"",IF(AND(E$5>=$U11,E$5<=$U11+$V11-1),"●","")) | F11: =IF(OR($U11="",$V11=""),"",IF(AND(F$5>=$U11,F$5<=$U11+$V11-1),"●","")) -> ● | G11: =IF(OR($U11="",$V11=""),"",IF(AND(G$5>=$U11,G$5<=$U11+$V11-1),"●","")) -> ● | H11: =IF(OR($U11="",$V11=""),"",IF(AND(H$5>=$U11,H$5<=$U11+$V11-1),"●","")) -> ● | I11: =IF(OR($U11="",$V11=""),"",IF(AND(I$5>=$U11,I$5<=$U11+$V11-1),"●","")) -> ● | J11: =IF(OR($U11="",$V11=""),"",IF(AND(J$5>=$U11,J$5<=$U11+$V11-1),"●","")) -> ● | ... T11: =IF(OR($U11="",$V11=""),"",IF(AND(T$5>=$U11,T$5<=$U11+$V11-1),"●","")) | U11: 4 | V11: 12 | W11: 379040.59 | X11: F1 4.1.1.4
A12: 1.5 | B12: Instalații termice | C12: =IF(OR($U12="",$V12=""),"",IF(AND(C$5>=$U12,C$5<=$U12+$V12-1),"●","")) | D12: =IF(OR($U12="",$V12=""),"",IF(AND(D$5>=$U12,D$5<=$U12+$V12-1),"●","")) | E12: =IF(OR($U12="",$V12=""),"",IF(AND(E$5>=$U12,E$5<=$U12+$V12-1),"●","")) | F12: =IF(OR($U12="",$V12=""),"",IF(AND(F$5>=$U12,F$5<=$U12+$V12-1),"●","")) -> ● | G12: =IF(OR($U12="",$V12=""),"",IF(AND(G$5>=$U12,G$5<=$U12+$V12-1),"●","")) -> ● | H12: =IF(OR($U12="",$V12=""),"",IF(AND(H$5>=$U12,H$5<=$U12+$V12-1),"●","")) -> ● | I12: =IF(OR($U12="",$V12=""),"",IF(AND(I$5>=$U12,I$5<=$U12+$V12-1),"●","")) -> ● | J12: =IF(OR($U12="",$V12=""),"",IF(AND(J$5>=$U12,J$5<=$U12+$V12-1),"●","")) -> ● | ... T12: =IF(OR($U12="",$V12=""),"",IF(AND(T$5>=$U12,T$5<=$U12+$V12-1),"●","")) | U12: 4 | V12: 12 | W12: 505516.59 | X12: F1 4.1.1.6
A13: 1.6 | B13: Instalații de ventilare și climatizare | C13: =IF(OR($U13="",$V13=""),"",IF(AND(C$5>=$U13,C$5<=$U13+$V13-1),"●","")) | D13: =IF(OR($U13="",$V13=""),"",IF(AND(D$5>=$U13,D$5<=$U13+$V13-1),"●","")) | E13: =IF(OR($U13="",$V13=""),"",IF(AND(E$5>=$U13,E$5<=$U13+$V13-1),"●","")) | F13: =IF(OR($U13="",$V13=""),"",IF(AND(F$5>=$U13,F$5<=$U13+$V13-1),"●","")) -> ● | G13: =IF(OR($U13="",$V13=""),"",IF(AND(G$5>=$U13,G$5<=$U13+$V13-1),"●","")) -> ● | H13: =IF(OR($U13="",$V13=""),"",IF(AND(H$5>=$U13,H$5<=$U13+$V13-1),"●","")) -> ● | I13: =IF(OR($U13="",$V13=""),"",IF(AND(I$5>=$U13,I$5<=$U13+$V13-1),"●","")) -> ● | J13: =IF(OR($U13="",$V13=""),"",IF(AND(J$5>=$U13,J$5<=$U13+$V13-1),"●","")) -> ● | ... T13: =IF(OR($U13="",$V13=""),"",IF(AND(T$5>=$U13,T$5<=$U13+$V13-1),"●","")) | U13: 4 | V13: 12 | W13: 646454.68 | X13: F1 4.1.1.7
A14: 1.7 | B14: Rețele exterioare de încălzire | C14: =IF(OR($U14="",$V14=""),"",IF(AND(C$5>=$U14,C$5<=$U14+$V14-1),"●","")) | D14: =IF(OR($U14="",$V14=""),"",IF(AND(D$5>=$U14,D$5<=$U14+$V14-1),"●","")) | E14: =IF(OR($U14="",$V14=""),"",IF(AND(E$5>=$U14,E$5<=$U14+$V14-1),"●","")) | F14: =IF(OR($U14="",$V14=""),"",IF(AND(F$5>=$U14,F$5<=$U14+$V14-1),"●","")) | G14: =IF(OR($U14="",$V14=""),"",IF(AND(G$5>=$U14,G$5<=$U14+$V14-1),"●","")) | H14: =IF(OR($U14="",$V14=""),"",IF(AND(H$5>=$U14,H$5<=$U14+$V14-1),"●","")) | I14: =IF(OR($U14="",$V14=""),"",IF(AND(I$5>=$U14,I$5<=$U14+$V14-1),"●","")) | J14: =IF(OR($U14="",$V14=""),"",IF(AND(J$5>=$U14,J$5<=$U14+$V14-1),"●","")) | ... T14: =IF(OR($U14="",$V14=""),"",IF(AND(T$5>=$U14,T$5<=$U14+$V14-1),"●","")) | U14: 12 | V14: 4 | W14: 54500.7 | X14: F1 4.1.1.8
A15: 1.8 | B15: Instalații electrice | C15: =IF(OR($U15="",$V15=""),"",IF(AND(C$5>=$U15,C$5<=$U15+$V15-1),"●","")) | D15: =IF(OR($U15="",$V15=""),"",IF(AND(D$5>=$U15,D$5<=$U15+$V15-1),"●","")) | E15: =IF(OR($U15="",$V15=""),"",IF(AND(E$5>=$U15,E$5<=$U15+$V15-1),"●","")) | F15: =IF(OR($U15="",$V15=""),"",IF(AND(F$5>=$U15,F$5<=$U15+$V15-1),"●","")) -> ● | G15: =IF(OR($U15="",$V15=""),"",IF(AND(G$5>=$U15,G$5<=$U15+$V15-1),"●","")) -> ● | H15: =IF(OR($U15="",$V15=""),"",IF(AND(H$5>=$U15,H$5<=$U15+$V15-1),"●","")) -> ● | I15: =IF(OR($U15="",$V15=""),"",IF(AND(I$5>=$U15,I$5<=$U15+$V15-1),"●","")) -> ● | J15: =IF(OR($U15="",$V15=""),"",IF(AND(J$5>=$U15,J$5<=$U15+$V15-1),"●","")) -> ● | ... T15: =IF(OR($U15="",$V15=""),"",IF(AND(T$5>=$U15,T$5<=$U15+$V15-1),"●","")) | U15: 4 | V15: 12 | W15: 624028.14 | X15: F1 4.1.1.10
A16: 1.9 | B16: Instalații electrice – curenți slabi | C16: =IF(OR($U16="",$V16=""),"",IF(AND(C$5>=$U16,C$5<=$U16+$V16-1),"●","")) | D16: =IF(OR($U16="",$V16=""),"",IF(AND(D$5>=$U16,D$5<=$U16+$V16-1),"●","")) | E16: =IF(OR($U16="",$V16=""),"",IF(AND(E$5>=$U16,E$5<=$U16+$V16-1),"●","")) | F16: =IF(OR($U16="",$V16=""),"",IF(AND(F$5>=$U16,F$5<=$U16+$V16-1),"●","")) | G16: =IF(OR($U16="",$V16=""),"",IF(AND(G$5>=$U16,G$5<=$U16+$V16-1),"●","")) | H16: =IF(OR($U16="",$V16=""),"",IF(AND(H$5>=$U16,H$5<=$U16+$V16-1),"●","")) | I16: =IF(OR($U16="",$V16=""),"",IF(AND(I$5>=$U16,I$5<=$U16+$V16-1),"●","")) | J16: =IF(OR($U16="",$V16=""),"",IF(AND(J$5>=$U16,J$5<=$U16+$V16-1),"●","")) | ... T16: =IF(OR($U16="",$V16=""),"",IF(AND(T$5>=$U16,T$5<=$U16+$V16-1),"●","")) | U16: 9 | V16: 7 | W16: 105696.2 | X16: F1 4.1.1.12
A17: 1.10 | B17: Montaj echipamente sanitare | C17: =IF(OR($U17="",$V17=""),"",IF(AND(C$5>=$U17,C$5<=$U17+$V17-1),"●","")) | D17: =IF(OR($U17="",$V17=""),"",IF(AND(D$5>=$U17,D$5<=$U17+$V17-1),"●","")) | E17: =IF(OR($U17="",$V17=""),"",IF(AND(E$5>=$U17,E$5<=$U17+$V17-1),"●","")) | F17: =IF(OR($U17="",$V17=""),"",IF(AND(F$5>=$U17,F$5<=$U17+$V17-1),"●","")) | G17: =IF(OR($U17="",$V17=""),"",IF(AND(G$5>=$U17,G$5<=$U17+$V17-1),"●","")) | H17: =IF(OR($U17="",$V17=""),"",IF(AND(H$5>=$U17,H$5<=$U17+$V17-1),"●","")) | I17: =IF(OR($U17="",$V17=""),"",IF(AND(I$5>=$U17,I$5<=$U17+$V17-1),"●","")) | J17: =IF(OR($U17="",$V17=""),"",IF(AND(J$5>=$U17,J$5<=$U17+$V17-1),"●","")) | ... T17: =IF(OR($U17="",$V17=""),"",IF(AND(T$5>=$U17,T$5<=$U17+$V17-1),"●","")) | U17: 12 | V17: 5 | W17: 10111.35 | X17: F1 4.2.1.5
A18: 1.11 | B18: Montaj echipamente termice, ventilare și climatizare | C18: =IF(OR($U18="",$V18=""),"",IF(AND(C$5>=$U18,C$5<=$U18+$V18-1),"●","")) | D18: =IF(OR($U18="",$V18=""),"",IF(AND(D$5>=$U18,D$5<=$U18+$V18-1),"●","")) | E18: =IF(OR($U18="",$V18=""),"",IF(AND(E$5>=$U18,E$5<=$U18+$V18-1),"●","")) | F18: =IF(OR($U18="",$V18=""),"",IF(AND(F$5>=$U18,F$5<=$U18+$V18-1),"●","")) | G18: =IF(OR($U18="",$V18=""),"",IF(AND(G$5>=$U18,G$5<=$U18+$V18-1),"●","")) | H18: =IF(OR($U18="",$V18=""),"",IF(AND(H$5>=$U18,H$5<=$U18+$V18-1),"●","")) | I18: =IF(OR($U18="",$V18=""),"",IF(AND(I$5>=$U18,I$5<=$U18+$V18-1),"●","")) | J18: =IF(OR($U18="",$V18=""),"",IF(AND(J$5>=$U18,J$5<=$U18+$V18-1),"●","")) | ... T18: =IF(OR($U18="",$V18=""),"",IF(AND(T$5>=$U18,T$5<=$U18+$V18-1),"●","")) | U18: 12 | V18: 6 | W18: 75708.17 | X18: F1 4.2.1.9
A19: 1.12 | B19: Montaj echipamente electrice și curenți slabi | C19: =IF(OR($U19="",$V19=""),"",IF(AND(C$5>=$U19,C$5<=$U19+$V19-1),"●","")) | D19: =IF(OR($U19="",$V19=""),"",IF(AND(D$5>=$U19,D$5<=$U19+$V19-1),"●","")) | E19: =IF(OR($U19="",$V19=""),"",IF(AND(E$5>=$U19,E$5<=$U19+$V19-1),"●","")) | F19: =IF(OR($U19="",$V19=""),"",IF(AND(F$5>=$U19,F$5<=$U19+$V19-1),"●","")) | G19: =IF(OR($U19="",$V19=""),"",IF(AND(G$5>=$U19,G$5<=$U19+$V19-1),"●","")) | H19: =IF(OR($U19="",$V19=""),"",IF(AND(H$5>=$U19,H$5<=$U19+$V19-1),"●","")) | I19: =IF(OR($U19="",$V19=""),"",IF(AND(I$5>=$U19,I$5<=$U19+$V19-1),"●","")) | J19: =IF(OR($U19="",$V19=""),"",IF(AND(J$5>=$U19,J$5<=$U19+$V19-1),"●","")) | ... T19: =IF(OR($U19="",$V19=""),"",IF(AND(T$5>=$U19,T$5<=$U19+$V19-1),"●","")) | U19: 12 | V19: 6 | W19: 69992.81 | X19: F1 4.2.1.11
... A24: 1.17 | B24: Dotări | C24: =IF(OR($U24="",$V24=""),"",IF(AND(C$5>=$U24,C$5<=$U24+$V24-1),"●","")) | D24: =IF(OR($U24="",$V24=""),"",IF(AND(D$5>=$U24,D$5<=$U24+$V24-1),"●","")) | E24: =IF(OR($U24="",$V24=""),"",IF(AND(E$5>=$U24,E$5<=$U24+$V24-1),"●","")) | F24: =IF(OR($U24="",$V24=""),"",IF(AND(F$5>=$U24,F$5<=$U24+$V24-1),"●","")) | G24: =IF(OR($U24="",$V24=""),"",IF(AND(G$5>=$U24,G$5<=$U24+$V24-1),"●","")) | H24: =IF(OR($U24="",$V24=""),"",IF(AND(H$5>=$U24,H$5<=$U24+$V24-1),"●","")) | I24: =IF(OR($U24="",$V24=""),"",IF(AND(I$5>=$U24,I$5<=$U24+$V24-1),"●","")) | J24: =IF(OR($U24="",$V24=""),"",IF(AND(J$5>=$U24,J$5<=$U24+$V24-1),"●","")) | ... T24: =IF(OR($U24="",$V24=""),"",IF(AND(T$5>=$U24,T$5<=$U24+$V24-1),"●","")) -> ● | U24: 16 | V24: 3 | W24: 52388.23 | X24: F1 4.5.1.3
A25: 2 | B25: OBIECTUL 2 – AMENAJĂRI EXTERIOARE | C25: =IF(OR($U25="",$V25=""),"",IF(AND(C$5>=$U25,C$5<=$U25+$V25-1),"●","")) | D25: =IF(OR($U25="",$V25=""),"",IF(AND(D$5>=$U25,D$5<=$U25+$V25-1),"●","")) | E25: =IF(OR($U25="",$V25=""),"",IF(AND(E$5>=$U25,E$5<=$U25+$V25-1),"●","")) | F25: =IF(OR($U25="",$V25=""),"",IF(AND(F$5>=$U25,F$5<=$U25+$V25-1),"●","")) | G25: =IF(OR($U25="",$V25=""),"",IF(AND(G$5>=$U25,G$5<=$U25+$V25-1),"●","")) | H25: =IF(OR($U25="",$V25=""),"",IF(AND(H$5>=$U25,H$5<=$U25+$V25-1),"●","")) | I25: =IF(OR($U25="",$V25=""),"",IF(AND(I$5>=$U25,I$5<=$U25+$V25-1),"●","")) | J25: =IF(OR($U25="",$V25=""),"",IF(AND(J$5>=$U25,J$5<=$U25+$V25-1),"●","")) | ... T25: =IF(OR($U25="",$V25=""),"",IF(AND(T$5>=$U25,T$5<=$U25+$V25-1),"●","")) | W25: ='Ob. 2'!C26 -> 943826.64 | X25: Deviz obiect 2
A26: 2.1 | B26: Terenuri de sport, alei pietonale/carosabile și spații verzi | C26: =IF(OR($U26="",$V26=""),"",IF(AND(C$5>=$U26,C$5<=$U26+$V26-1),"●","")) | D26: =IF(OR($U26="",$V26=""),"",IF(AND(D$5>=$U26,D$5<=$U26+$V26-1),"●","")) | E26: =IF(OR($U26="",$V26=""),"",IF(AND(E$5>=$U26,E$5<=$U26+$V26-1),"●","")) | F26: =IF(OR($U26="",$V26=""),"",IF(AND(F$5>=$U26,F$5<=$U26+$V26-1),"●","")) | G26: =IF(OR($U26="",$V26=""),"",IF(AND(G$5>=$U26,G$5<=$U26+$V26-1),"●","")) | H26: =IF(OR($U26="",$V26=""),"",IF(AND(H$5>=$U26,H$5<=$U26+$V26-1),"●","")) | I26: =IF(OR($U26="",$V26=""),"",IF(AND(I$5>=$U26,I$5<=$U26+$V26-1),"●","")) | J26: =IF(OR($U26="",$V26=""),"",IF(AND(J$5>=$U26,J$5<=$U26+$V26-1),"●","")) | ... T26: =IF(OR($U26="",$V26=""),"",IF(AND(T$5>=$U26,T$5<=$U26+$V26-1),"●","")) -> ● | U26: 13 | V26: 6 | W26: 561001.25 | X26: F1 4.1.2.1
A27: 2.2 | B27: Zid de sprijin și împrejmuire | C27: =IF(OR($U27="",$V27=""),"",IF(AND(C$5>=$U27,C$5<=$U27+$V27-1),"●","")) | D27: =IF(OR($U27="",$V27=""),"",IF(AND(D$5>=$U27,D$5<=$U27+$V27-1),"●","")) -> ● | E27: =IF(OR($U27="",$V27=""),"",IF(AND(E$5>=$U27,E$5<=$U27+$V27-1),"●","")) -> ● | F27: =IF(OR($U27="",$V27=""),"",IF(AND(F$5>=$U27,F$5<=$U27+$V27-1),"●","")) -> ● | G27: =IF(OR($U27="",$V27=""),"",IF(AND(G$5>=$U27,G$5<=$U27+$V27-1),"●","")) -> ● | H27: =IF(OR($U27="",$V27=""),"",IF(AND(H$5>=$U27,H$5<=$U27+$V27-1),"●","")) -> ● | I27: =IF(OR($U27="",$V27=""),"",IF(AND(I$5>=$U27,I$5<=$U27+$V27-1),"●","")) | J27: =IF(OR($U27="",$V27=""),"",IF(AND(J$5>=$U27,J$5<=$U27+$V27-1),"●","")) | ... T27: =IF(OR($U27="",$V27=""),"",IF(AND(T$5>=$U27,T$5<=$U27+$V27-1),"●","")) | U27: 2 | V27: 5 | W27: 313540.85 | X27: F1 4.1.2.2
A28: 2.3 | B28: Rezervor pentru ape pluviale | C28: =IF(OR($U28="",$V28=""),"",IF(AND(C$5>=$U28,C$5<=$U28+$V28-1),"●","")) | D28: =IF(OR($U28="",$V28=""),"",IF(AND(D$5>=$U28,D$5<=$U28+$V28-1),"●","")) -> ● | E28: =IF(OR($U28="",$V28=""),"",IF(AND(E$5>=$U28,E$5<=$U28+$V28-1),"●","")) -> ● | F28: =IF(OR($U28="",$V28=""),"",IF(AND(F$5>=$U28,F$5<=$U28+$V28-1),"●","")) -> ● | G28: =IF(OR($U28="",$V28=""),"",IF(AND(G$5>=$U28,G$5<=$U28+$V28-1),"●","")) -> ● | H28: =IF(OR($U28="",$V28=""),"",IF(AND(H$5>=$U28,H$5<=$U28+$V28-1),"●","")) | I28: =IF(OR($U28="",$V28=""),"",IF(AND(I$5>=$U28,I$5<=$U28+$V28-1),"●","")) | J28: =IF(OR($U28="",$V28=""),"",IF(AND(J$5>=$U28,J$5<=$U28+$V28-1),"●","")) | ... T28: =IF(OR($U28="",$V28=""),"",IF(AND(T$5>=$U28,T$5<=$U28+$V28-1),"●","")) | U28: 2 | V28: 4 | W28: 69284.54 | X28: F1 4.1.2.3
A29: 3 | B29: Asigurarea utilităților – branșament energie electrică | C29: =IF(OR($U29="",$V29=""),"",IF(AND(C$5>=$U29,C$5<=$U29+$V29-1),"●","")) | D29: =IF(OR($U29="",$V29=""),"",IF(AND(D$5>=$U29,D$5<=$U29+$V29-1),"●","")) | E29: =IF(OR($U29="",$V29=""),"",IF(AND(E$5>=$U29,E$5<=$U29+$V29-1),"●","")) | F29: =IF(OR($U29="",$V29=""),"",IF(AND(F$5>=$U29,F$5<=$U29+$V29-1),"●","")) | G29: =IF(OR($U29="",$V29=""),"",IF(AND(G$5>=$U29,G$5<=$U29+$V29-1),"●","")) | H29: =IF(OR($U29="",$V29=""),"",IF(AND(H$5>=$U29,H$5<=$U29+$V29-1),"●","")) | I29: =IF(OR($U29="",$V29=""),"",IF(AND(I$5>=$U29,I$5<=$U29+$V29-1),"●","")) | J29: =IF(OR($U29="",$V29=""),"",IF(AND(J$5>=$U29,J$5<=$U29+$V29-1),"●","")) | ... T29: =IF(OR($U29="",$V29=""),"",IF(AND(T$5>=$U29,T$5<=$U29+$V29-1),"●","")) -> ● | U29: 14 | V29: 5 | W29: =DG!C20 -> 200000 | X29: DG cap. 2 / SF
A30: 4 | B30: Pregătirea personalului, probe, recepție și punere în funcțiune | C30: =IF(OR($U30="",$V30=""),"",IF(AND(C$5>=$U30,C$5<=$U30+$V30-1),"●","")) | D30: =IF(OR($U30="",$V30=""),"",IF(AND(D$5>=$U30,D$5<=$U30+$V30-1),"●","")) | E30: =IF(OR($U30="",$V30=""),"",IF(AND(E$5>=$U30,E$5<=$U30+$V30-1),"●","")) | F30: =IF(OR($U30="",$V30=""),"",IF(AND(F$5>=$U30,F$5<=$U30+$V30-1),"●","")) | G30: =IF(OR($U30="",$V30=""),"",IF(AND(G$5>=$U30,G$5<=$U30+$V30-1),"●","")) | H30: =IF(OR($U30="",$V30=""),"",IF(AND(H$5>=$U30,H$5<=$U30+$V30-1),"●","")) | I30: =IF(OR($U30="",$V30=""),"",IF(AND(I$5>=$U30,I$5<=$U30+$V30-1),"●","")) | J30: =IF(OR($U30="",$V30=""),"",IF(AND(J$5>=$U30,J$5<=$U30+$V30-1),"●","")) | ... T30: =IF(OR($U30="",$V30=""),"",IF(AND(T$5>=$U30,T$5<=$U30+$V30-1),"●","")) -> ● | U30: 16 | V30: 3 | W30: =DG!C76 -> 20000 | X30: DG cap. 6 / SF
A32: CORELARE CU STUDIUL DE FEZABILITATE ȘI DEVIZUL GENERAL
A33: Durata totală de implementare SF | C33: 24 | F33: 24 luni calendaristice, conform SF.
A34: Proiectare, verificare și avizare | C34: 6 | F34: Lunile 1–6 din SF.
A35: Execuția lucrărilor – formular F6 | C35: 18 | F35: Lunile 7–24 din SF; luna 1 F6 = luna 7 SF.
A36: C+M fără TVA | C36: =DG!C82 -> 9850322 | F36: Include utilitățile în definiția C+M din devizul general.
A37: Total general fără TVA | C37: =DG!C81 -> 14131655 | F37: Valoare maximală fără TVA conform SF.
A39: Graficul are caracter orientativ și se detaliază de executant prin programul de lucrări, fără depășirea duratei de 18 luni și cu respectarea succesiunii tehnologice.
