Workbook

Sheet venituri functionare
F1: ANEXA 3
C2: VENITURI ALE SECTIUNII DE FUNCTIONARE
A4: NR. CRT. | B4: DENUMIRE CONT | C4: COD INDICATOR | D4: Prevazut | E4: Realizat | F4: %
D5: la 31.03.2023 | E5: La 31.03.2023
A6: TOTAL VENITURI SECTIUNEA DE FUNCTIONARE | C6: 0.01 | D6: =D7+D59 -> 3768900 | E6: =E7+E59+E58 -> 3001507.9 | F6: =E6/D6 -> 0.79638831
A7: I. | B7: VENITURI CURENTE | C7: 0.02 | D7: =D8+D39 -> 3653000 | E7: =E8+E39 -> 2677213.9 | F7: =E7/D7 -> 0.7328809
A8: A. | B8: VENITURI FISCALE | C8: 0.03 | D8: =D9+D17+D27+D37 -> 3686000 | E8: =E9+E17+E27+E37 -> 2531373.7 | F8: =E8/D8 -> 0.68675358
A9: A.1. | B9: IMPOZIT PE VENIT, PROFIT SI CASTIGURI DIN CAPITAL | C9: 0.04 | D9: =D10 -> 2135000 | E9: =E10 -> 1566357.2 | F9: =E9/D9 -> 0.73365678
A10: A.1.2 | B10: IMPOZIT PE VENIT, PROFIT SI CASTIGURI DIN CAPITAL DE LA PERSOANE FIZICE | C10: 03.00.02 | D10: =D11+D13 -> 2135000 | E10: =E11+E13 -> 1566357.2 | F10: =E10/D10 -> 0.73365678
B11: IMPOZIT PE VENIT | C11: 03,02 | D11: =D12 -> 1000 | E11: =E12 -> 1412.5 | F11: =E11/D11 -> 1.4125
B12: Impozitul pe veniturile din transferul proprietatilor imobiliare din patrimoniul personal | C12: 03.02.18 | D12: 1000 | E12: 1412.5 | F12: =E12/D12 -> 1.4125
B13: COTE SI SUME DEFALCATE DIN IMPOZITUL PE VENIT | C13: 04,02 | D13: =D14+D15+D16 -> 2134000 | E13: =E14+E15+E16 -> 1564944.7 | F13: =E13/D13 -> 0.73333867
B14: Cote si sume defalcate din impozitul pe venit | C14: 04.02.01 | D14: 1884000 | E14: 1432458.7 | F14: =E14/D14 -> 0.76032841
B15: Sume alocate din cotele defalcate din impozitul pe venit pentru echilibrarea bugetelor locale | C15: 04.02.04 | D15: 0 | E15: 0 | F15: =E15/D15 -> #DIV/0!
B16: Sume repartizate din Fondul la dispozitia Consiliului Judetean | C16: 04 02 05 | D16: 250000 | E16: 132486 | F16: =E16/D16 -> 0.529944
A17: A.3. | B17: IMPOZITE SI TAXE PE PROPRIETATE | C17: 7.02 | D17: =D18+D21+D25+D26 -> 392000 | E17: =E18+E21+E25+E26 -> 488314.56 | F17: =E17/D17 -> 1.2457004
B18: Impozit si taxa pe cladiri | C18: 07.02.01 | D18: =D19+D20 -> 221000 | E18: =E19+E20 -> 248260.26 | F18: =E18/D18 -> 1.1233496
B19: Impozit pe cladiri de la persoane fizice | C19: 07.02.01.01 | D19: 102000 | E19: 106072.68 | F19: =E19/D19 -> 1.0399282
B20: Impozit si taxa pe cladiri de la persoane juridice | C20: 07.02.01.02 | D20: 119000 | E20: 142187.58 | F20: =E20/D20 -> 1.1948536
B21: Impozit si taxa pe teren | C21: 07.02.02 | D21: =D22+D23+D24 -> 161000 | E21: =E22+E23+E24 -> 217149.01 | F21: =E21/D21 -> 1.3487516
B22: Impozit pe terenuri de la persoane fizice | C22: 07.02.02.01 | D22: 74000 | E22: 81895.01 | F22: =E22/D22 -> 1.1066893
B23: Impozit si taxa pe teren de la persoane juridice | C23: 07.02.02.02 | D23: 28000 | E23: 63435 | F23: =E23/D23 -> 2.2655357
B24: Impozitul pe terenul extravilan | C24: 07.02.02.03 | D24: 59000 | E24: 71819 | F24: =E24/D24 -> 1.2172712
B25: Taxe judiciare de timbru si alte taxe de timbru | C25: 07.02.03 | D25: 5000 | E25: 18293 | F25: =E25/D25 -> 3.6586
B26: Alte impozite si taxe pe proprietate | C26: 07.02.50 | D26: 5000 | E26: 4612.29 | F26: =E26/D26 -> 0.922458
A27: A.4. | B27: IMPOZITE SI TAXE PE BUNURI SI SERVICII | C27: 10.02 | D27: =D28+D31 -> 1158000 | E27: =E28+E31 -> 476344.9 | F27: =E27/D27 -> 0.41135138
B28: SUME DEFALCATE DIN TVA | C28: 11.02 | D28: =D29+D30 -> 931000 | E28: =E29+E30 -> 257000 | F28: =E28/D28 -> 0.27604726
B29: Sume defalcate din TVA pt. finantarea cheltuielilor descentralizate la niveul comunelor | C29: 11.02.02 | D29: 931000 | E29: 257000 | F29: =E29/D29 -> 0.27604726
B30: Sume defalcate din TVA pt. echilibrarea bugetelor locale | C30: 11.02.06 | D30: 0 | E30: 0 | F30: =E30/D30 -> #DIV/0!
B31: TAXE PE UTILIZ. BUNURILOR, AUTORIZ.UTILIZ.BUNURILOR SAU PE DESF.DE ACTIV. | C31: 16.02 | D31: =D32+D35+D36 -> 227000 | E31: =E32+E35+E36 -> 219344.9 | F31: =E31/D31 -> 0.96627709
B32: Impozit pe mijloacele de transport | C32: 16.02.02 | D32: =D33+D34 -> 223000 | E32: =E33+E34 -> 216639.9 | F32: =E32/D32 -> 0.97147937
B33: Impozit pe mijloacele de transport detinute de persoane fizice | C33: 16.02.02.01 | D33: 182000 | E33: 179611.9 | F33: =E33/D33 -> 0.98687857
B34: Impozit pe mijloacele de transport detinute de persoane juridice | C34: 16.02.02.02 | D34: 41000 | E34: 37028 | F34: =E34/D34 -> 0.90312195
B35: Taxe si tarife pentru eliberarea de licente si autorizatii de functionare | C35: 16.02.03 | D35: 1000 | E35: 140 | F35: =E35/D35 -> 0.14
B36: Alte taxe pe utiliz.bunurilor, autorizarea utiliz.bunurilor sau pe desfasurare de activitati | C36: 16.02.50 | D36: 3000 | E36: 2565 | F36: =E36/D36 -> 0.855
A37: A.6. | B37: ALTE IMPOZITE SI TAXE FISCALE | C37: 18.02 | D37: =D38 -> 1000 | E37: =E38 -> 357 | F37: =E37/D37 -> 0.357
B38: Alte impozite si taxe | C38: 18.02.50 | D38: 1000 | E38: 357 | F38: =E38/D38 -> 0.357
A39: C. | B39: VENITURI NEFISCALE | C39: 29.00.02 | D39: =D40+D43 -> -33000 | E39: =E40+E43 -> 145840.24 | F39: =E39/D39 -> -4.4194012
A40: C.1. | B40: VENITURI DIN PROPRIETATE | C40: 30.00.02 | D40: =D41 -> 107000 | E40: =E41 -> 22667.58 | F40: =E40/D40 -> 0.21184654
B41: Venituri din concesiuni si inchirieri | C41: 30.02.05 | D41: =D42 -> 107000 | E41: =E42 -> 22667.58 | F41: =E41/D41 -> 0.21184654
...

Sheet cheltuieli functionare
F1: ANEXA 4
C2: CHELTUIELI ALE SECTIUNII DE FUNCTIONARE
A4: NR. CRT. | B4: DENUMIRE CONT | C4: COD INDICATOR | D4: PREVAZUT LA | E4: REALIZAT LA | F4: %
D5: 45016 | E5: 45016
A6: TOTAL | C6: 50.02 | D6: =D7+D11+D13+D17+D19+D23+D27+D29+D32 -> 3768900 | E6: =E7+E11+E13+E17+E19+E23+E27+E29+E32 -> 2016000.4 | F6: =E6/D6 -> 0.53490418
A7: 1 | B7: AUTORITATI PUBLICE SI ACTIUNI EXTERNE | C7: 51.02 | D7: =D8+D9+D10 -> 1103000 | E7: =E8+E9+E10 -> 763375.27 | F7: =E7/D7 -> 0.69209
B8: Cheltuieli de personal | C8: 51.02.10 | D8: 629000 | E8: 581890 | F8: =E8/D8 -> 0.92510334
B9: Bunuri si servicii | C9: 51.02.20 | D9: 474000 | E9: 182576.27 | F9: =E9/D9 -> 0.385182
B10: Plati efectuate in anii precedenti si recuperate in anul curent | C10: 51.02.85 | D10: 0 | E10: -1091 | F10: -
A11: 2 | B11: ORDINE PUBLICA SI SIGURANTA NATIONALA | C11: 61.02 | D11: =D12 -> 11000 | E11: =E12 -> 3591 | F11: =E11/D11 -> 0.32645455
B12: Bunuri si servicii | C12: 61.02.20 | D12: 11000 | E12: 3591 | F12: =E12/D12 -> 0.32645455
A13: 3 | B13: INVATAMANT | C13: 65.02 | D13: =D14+D15+D16 -> 565000 | E13: =E14+E15+E16 -> 345904.33 | F13: =E13/D13 -> 0.61222005
B14: Bunuri si servicii | C14: 65.02.20 | D14: 304000 | E14: 184153.33 | F14: =E14/D14 -> 0.60576753
B15: Asistenta sociala | C15: 65.02.57 | D15: 61000 | E15: 22540 | F15: =E15/D15 -> 0.3695082
B16: Burse scolare | C16: 65.02.59 | D16: 200000 | E16: 139211 | F16: =E16/D16 -> 0.696055
A17: 4 | B17: SANATATE | C17: 66.02 | D17: =D18 -> 28500 | E17: =E18 -> 16458 | F17: =E17/D17 -> 0.57747368
B18: Cheltuieli de personal | C18: 66.02.10 | D18: 28500 | E18: 16458 | F18: =E18/D18 -> 0.57747368
A19: 5 | B19: CULTURA, RECREERE SI RELIGIE | C19: 67.02 | D19: =D20+D21+D22 -> 305000 | E19: =E20+E21+E22 -> 15102.5 | F19: =E19/D19 -> 0.049516393
B20: Cheltuieli de personal | C20: 67.02.10 | D20: 7000 | E20: 0 | F20: =E20/D20 -> 0
B21: Bunuri si servicii | C21: 67.02.20 | D21: 148000 | E21: 15102.5 | F21: =E21/D21 -> 0.10204392
B22: Alte cheltuieli | C22: 67.02.59 | D22: 150000 | E22: 0 | F22: =E22/D22 -> 0
A23: 6 | B23: ASIGURARI SI ASISTENTA SOCIALA | C23: 68.02 | D23: =D24+D25 -> 963400 | E23: =E24+E25+E26 -> 773747 | F23: =E23/D23 -> 0.803142
B24: Cheltuieli de personal | C24: 68.02.10 | D24: 309000 | E24: 286629 | F24: =E24/D24 -> 0.92760194
B25: Ajutoare sociale in numerar | C25: 68.02.57 | D25: 654400 | E25: 487418 | F25: =E25/D25 -> 0.74483191
B26: Plati efectuate in anii precedenti si recuperate in anul curent | C26: 68.02.85 | D26: 0 | E26: -300 | F26: =E26/D26 -> #DIV/0!
A27: 7 | B27: LOCUINTE, SERVICII SI DEZVOLTARE PUBLICA | C27: 70.02 | D27: =D28 -> 368000 | E27: =E28 -> 42076.25 | F27: =E27/D27 -> 0.11433764
B28: Bunuri si servicii | C28: 70.02.20 | D28: 368000 | E28: 42076.25 | F28: =E28/D28 -> 0.11433764
A29: 8 | B29: PROTECTIA MEDIULUI | C29: 74.02 | D29: =D30+D31 -> 225000 | E29: =E30+E31 -> 55746 | F29: =E29/D29 -> 0.24776
B30: Bunuri si servicii | C30: 74.02.20 | D30: 210000 | E30: 41916 | F30: =E30/D30 -> 0.1996
B31: Asociatii si fundatii | C31: 74.02.59 | D31: 15000 | E31: 13830 | F31: =E31/D31 -> 0.922
A32: 9 | B32: TRANSPORTURI | C32: 84.02 | D32: =D33 -> 200000 | E32: =E33 -> 0 | F32: =E32/D32 -> 0
B33: Bunuri si servicii | C33: 84.02.20 | D33: 200000 | E33: 0 | F33: =E33/D33 -> 0
B34: EXCEDENT / DEFICIT | C34: - | E34: ='venituri functionare'!E6-'cheltuieli functionare'!E6 -> 985507.57
B37: PRIMAR, | E37: CONSILIER SUPERIOR
E38: COMP.BUGET CONTABILITATE,
B39: NASTASE ADRIAN | D39: TITA ANNE MARIE

Sheet venituri dezvoltare
F1: ANEXA 5
C2: VENITURI ALE SECTIUNII DE DEZVOLTARE
A4: NR. CRT. | B4: DENUMIRE CONT | C4: COD INDICATOR | D4: Prevazut la | E4: Realizat la 31.03.2023 | F4: %
D5: 45016
A6: TOTAL | D6: =D7+D10+D12 -> 250000 | E6: =E9+E12 -> 73847.55 | F6: =E6/D6 -> 0.2953902
A7: I | B7: TRANSFERURI VOLUNTARE ,ALTELE DECAT SUBVENTIILE | D7: =D8 -> 250000 | E7: =E8 -> 0 | F7: =E7/D7 -> 0
B8: Varsaminte din sectiunea de functionare | C8: 37.02.04 | D8: 250000 | E8: 0 | F8: =E8/D8 -> 0
A9: II | B9: VENITURI DIN CAPITAL | D9: =D10 -> 0 | E9: =E10 -> 12600 | F9: 0
B10: VENITURI DIN VALORIFICAREA UNOR BUNURI | C10: 39.02 | D10: =D11 -> 0 | E10: =E11 -> 12600 | F10: 0
B11: Venituri din vanzarea locuintelor construite din fondurile statului | C11: 39.02.03 | D11: 0 | E11: 12600 | F11: 0
A12: III | B12: OPERATIUNI FINANCIARE | C12: 40.02 | D12: =D13 -> 0 | E12: =E13 -> 61247.55 | F12: 0
B13: Sume din excedentul bugetului local utilizate pentru finantarea cheltuielilor sectiunii de dezvoltare | C13: 40.14 | D13: 0 | E13: 61247.55 | F13: 0
B16: PRIMAR, | E16: CONSILIER SUPERIOR
E17: COMP.BUGET CONTABILITATE,
B18: NASTASE ADRIAN | D18: TITA ANNE MARIE | E18: OLARU ELENA-CARMEN
A24: ='venituri functionare'!E6+'venituri dezvoltare'!E6 -> 3075355.5

Sheet cheltuieli dezvoltare
F1: ANEXA 6
C2: CHELTUIELI ALE SECTIUNII DE DEZVOLTARE
A4: NR. CRT. | B4: DENUMIRE CONT | C4: COD INDICATOR | D4: Prevazut la | E4: Realizat la | F4: %
D5: 45016 | E5: 45016
A6: TOTAL | D6: =D7+D13+D18+D22+D27+D35 -> 5498000 | E6: =E7+E13+E18+E22+E27+E35+E34 -> 56450.67 | F6: =E6/D6 -> 0.010267492
A7: 1 | B7: AUTORITATI PUBLICE SI ACTIUNI EXTERNE | C7: 51.02 | D7: =D8 -> 105000 | E7: =E8 -> 0 | F7: =E7/D7 -> 0
B8: ACTIVE FIXE | C8: 51.02.71.01 | D8: =D9+D12+D10+D11 -> 105000 | E8: =E9+E12 -> 0 | F8: =E8/D8 -> 0
B9: Constructii | C9: 51.02.71.01.01 | D9: 0 | E9: 0 | F9: =E9/D9 -> #DIV/0!
B10: Masini, echipamente si mijloace de transport | C10: 51.02.71.01.02 | D10: 90000 | E10: 0
B11: Mobilier, aparatura birotica si alte active corporale | C11: 51.02.71.01.03 | D11: 15000 | E11: 0
B12: Alte active fixe | C12: 51.02.71.01.30 | D12: 0 | E12: 0 | F12: =E12/D12 -> #DIV/0!
A13: 2 | B13: INVATAMANT | C13: 65.02 | D13: =D14 -> 25000 | E13: =E14 -> 0 | F13: =E13/D13 -> 0
B14: ACTIVE FIXE | C14: 65.02.71 | D14: =D15+D17+D16 -> 25000 | E14: =E15+E17 -> 0 | F14: =E14/D14 -> 0
B15: Constructii | C15: 65.02.71.01.01 | D15: 0 | E15: 0 | F15: =E15/D15 -> #DIV/0!
B16: Mobilier, aparatura birotica si alte active corporale | C16: 65.02.71.01.03 | D16: 15000 | E16: 0 | F16: =E16/D16 -> 0
B17: Alte active fixe | C17: 65.02.71.01.30 | D17: 10000 | E17: 0 | F17: =E17/D17 -> 0
A18: 3 | B18: CULTURA, RECREERE, RELIGIE | C18: 67.02 | D18: =D19 -> 35000 | E18: =E19 -> 0 | F18: =E18/D18 -> 0
B19: ACTIVE FIXE | C19: 67.02.71 | D19: =D21+D20 -> 35000 | E19: =E21 -> 0 | F19: =E19/D19 -> 0
B20: Constructii | C20: 67.02.71.01.01 | D20: 0 | E20: 0
B21: Alte active fixe | C21: 67.02.71.01.30 | D21: 35000 | E21: 0 | F21: =E21/D21 -> 0
A22: 4 | B22: LOCUINTE, SERVICII SI DEZVOLTARE | C22: 70.02 | D22: =D23 -> 1191000 | E22: =E23 -> 35000 | F22: =E22/D22 -> 0.02938707
B23: ACTIVE FIXE | C23: 70.02.71 | D23: =D26+D24+D25 -> 1191000 | E23: =E26+E24 -> 35000 | F23: =E23/D23 -> 0.02938707
B24: Constructii | C24: 70.02 71.01.01 | D24: 1000000 | E24: 0 | F24: =E24/D24 -> 0
B25: Masini, echipamente si mijloace de transport | C25: 70.02 71.01.02 | D25: 106000 | E25: 0 | F25: =E25/D25 -> 0
B26: Alte active fixe | C26: 70.02.71.01.30 | D26: 85000 | E26: 35000 | F26: =E26/D26 -> 0.41176471
A27: 5 | B27: PROTECTIA MEDIULUI | C27: 74.02 | D27: =D28+D31 -> 3916000 | E27: =E28+E31 -> 0 | F27: =E27/D27 -> 0
B28: PROIECTE CU FINANTARE DIN FONDURI EXTERNE NERAMBURSABILE CADRULUI FINANCIAR 2014-2020 | C28: 74.02.58 | D28: =D29 -> 2280500 | E28: =E29 -> 0 | F28: =E28/D28 -> 0
B29: Programe din Fondul European Agricol de Dezvoltare Rurala (FEADR) | C29: 74.02.58.04 | D29: =D30 -> 2280500 | E29: =E30 -> 0 | F29: =E29/D29 -> 0
B30: Finantarea externa nerambursabila | C30: 74.05.58.04.02 | D30: 2280500 | E30: 0 | F30: =E30/D30 -> 0
B31: ACTIVE FIXE | C31: 74.02.71.01 | D31: =D32+D33 -> 1635500 | E31: =E32+E33 -> 0 | F31: =E31/D31 -> 0
B32: Constructii | C32: 74.02.71.01.01 | D32: 1535500 | E32: 0 | F32: =E32/D32 -> 0
B33: Alte active fixe | C33: 74.02.71.01.30 | D33: 100000 | E33: 0 | F33: =E33/D33 -> 0
B34: Plati efectuate in anul precedent si recuperate in anul curent | C34: 74.02.85.01.02 | D34: 0 | E34: -4796.88 | F34: =E34/D34 -> #DIV/0!
A35: 6 | B35: TRANSPORTURI | C35: 84.02 | D35: =D36 -> 226000 | E35: =E36 -> 26247.55 | F35: =E35/D35 -> 0.1161396
B36: ACTIVE FIXE | C36: 84.02.71.01 | D36: =D37+D38 -> 226000 | E36: =E37+E38 -> 26247.55 | F36: =E36/D36 -> 0.1161396
B37: Constructii | C37: 84.02.71.01.01 | D37: 60000 | E37: 2997.55 | F37: =E37/D37 -> 0.049959167
B38: Alte active fixe | C38: 84.02.71.01.30 | D38: 166000 | E38: 23250 | F38: =E38/D38 -> 0.14006024
B39: EXCEDENT / DEFICIT | E39: ='venituri dezvoltare'!E6-'cheltuieli dezvoltare'!E6 -> 17396.88
B42: PRIMAR, | D42: CONSILIER SUPERIOR
D43: COMP.BUGET CONTABILITATE,
...

Sheet VENITURI TOTALE
F1: ANEXA 1
C2: VENITURI TOTALE LA 31.03.2023
A4: NR. CRT. | B4: CLASIFICATIE BUGETARA | C4: DENUMIRE | D4: PREVEDERE BUGETARA | E4: EXECUTIE | F4: %
A5: 1 | B5: 031800 | C5: Impozitul pe veniturile din transferul proprietatilor imobiliare din patrimoniul personal | D5: ='venituri functionare'!D12 -> 1000 | E5: ='venituri functionare'!E12 -> 1412.5 | F5: =E5/D5 -> 1.4125
A6: 2 | B6: 040100 | C6: Cote defalcate din impozitul pe venit(se scad) | D6: ='venituri functionare'!D14 -> 1884000 | E6: ='venituri functionare'!E14 -> 1432458.7 | F6: =E6/D6 -> 0.76032841
A7: 3 | B7: 040400 | C7: Sume alocate din cotele defalcate din impozitul pe venit pentru echilibrarea bugetelor locale | D7: ='venituri functionare'!D15 -> 0 | E7: ='venituri functionare'!E15 -> 0 | F7: =E7/D7 -> #DIV/0!
A8: 4 | B8: 04 05 00 | C8: Sume repartizate din Fondul la dispozitia Consiliului Judetean | D8: ='venituri functionare'!D16 -> 250000 | E8: ='venituri functionare'!E16 -> 132486 | F8: =E8/D8 -> 0.529944
A9: 5 | B9: 070101 | C9: Impozit pe cladiri de la persoane fizice | D9: ='venituri functionare'!D19 -> 102000 | E9: ='venituri functionare'!E19 -> 106072.68 | F9: =E9/D9 -> 1.0399282
A10: 6 | B10: 070102 | C10: Impozit si taxa pe cladiri de la persoane juridice | D10: ='venituri functionare'!D20 -> 119000 | E10: ='venituri functionare'!E20 -> 142187.58 | F10: =E10/D10 -> 1.1948536
A11: 7 | B11: 070201 | C11: Impozit pe terenuri de la persoane fizice | D11: ='venituri functionare'!D22 -> 74000 | E11: ='venituri functionare'!E22 -> 81895.01 | F11: =E11/D11 -> 1.1066893
A12: 8 | B12: 070202 | C12: Impozit si taxa pe teren de la persoane juridice | D12: ='venituri functionare'!D23 -> 28000 | E12: ='venituri functionare'!E23 -> 63435 | F12: =E12/D12 -> 2.2655357
A13: 9 | B13: 070203 | C13: Impozit pe terenul din extravilan | D13: ='venituri functionare'!D24 -> 59000 | E13: ='venituri functionare'!E24 -> 71819 | F13: =E13/D13 -> 1.2172712
A14: 10 | B14: 070300 | C14: Taxe judiciare de timbru si alte taxe de timbru | D14: ='venituri functionare'!D25 -> 5000 | E14: ='venituri functionare'!E25 -> 18293 | F14: =E14/D14 -> 3.6586
A15: 11 | B15: 075000 | C15: Alte impozite si taxe pe proprietate | D15: ='venituri functionare'!D26 -> 5000 | E15: ='venituri functionare'!E26 -> 4612.29 | F15: =E15/D15 -> 0.922458
A16: 12 | B16: 110200 | C16: Sume defalcate din taxa pe valoarea adaugata pentru finantarea cheltuielilor descentralizate la nivelul comunelor, oraselor, municipiilor, sectoarelor si Municipiului Bucuresti | D16: ='venituri functionare'!D29 -> 931000 | E16: ='venituri functionare'!E29 -> 257000 | F16: =E16/D16 -> 0.27604726
A17: 13 | B17: 110600 | C17: Sume defalcate din taxa pe valoarea adaugata pentru echilibrarea bugetelor locale | D17: ='venituri functionare'!D30 -> 0 | E17: ='venituri functionare'!E30 -> 0 | F17: =E17/D17 -> #DIV/0!
A18: 14 | B18: 160201 | C18: Impozit pe mijloacele de transport detinute de persoane fizice | D18: ='venituri functionare'!D33 -> 182000 | E18: ='venituri functionare'!E33 -> 179611.9 | F18: =E18/D18 -> 0.98687857
A19: 15 | B19: 160202 | C19: Impozit pe mijloacele de transport detinute de persoane juridice | D19: ='venituri functionare'!D34 -> 41000 | E19: ='venituri functionare'!E34 -> 37028 | F19: =E19/D19 -> 0.90312195
A20: 16 | B20: 160300 | C20: Taxe si tarife pentru eliberarea de licente si autorizatii de functionare | D20: ='venituri functionare'!D35 -> 1000 | E20: ='venituri functionare'!E35 -> 140 | F20: =E20/D20 -> 0.14
A21: 17 | B21: 165000 | C21: Alte taxe pe utilizarea bunurilor, autorizarea utilizarii bunurilor sau pe desfasurare de activitati | D21: ='venituri functionare'!D36 -> 3000 | E21: ='venituri functionare'!E36 -> 2565 | F21: =E21/D21 -> 0.855
A22: 18 | B22: 185000 | C22: Alte impozite si taxe | D22: ='venituri functionare'!D38 -> 1000 | E22: ='venituri functionare'!E38 -> 357 | F22: =E22/D22 -> 0.357
A23: 19 | B23: 300530 | C23: Alte venituri din concesiuni si inchirieri de catre institutiile publice | D23: ='venituri functionare'!D42 -> 107000 | E23: ='venituri functionare'!E42 -> 22667.58 | F23: =E23/D23 -> 0.21184654
A24: 20 | B24: 330800 | C24: Venituri din prestari de servicii | D24: ='venituri functionare'!D45 -> 1000 | E24: ='venituri functionare'!E45 -> 32876 | F24: =E24/D24 -> 32.876
A25: 21 | B25: 332800 | C25: Venituri din recuperarea cheltuielilor de judecata, imputatii si despagubiri | D25: ='venituri functionare'!D46 -> 1000 | E25: ='venituri functionare'!E46 -> 10 | F25: =E25/D25 -> 0.01
A26: 22 | B26: 340200 | C26: Taxe extrajudiciare de timbru | D26: ='venituri functionare'!D48 -> 3000 | E26: ='venituri functionare'!E48 -> 2745.9 | F26: =E26/D26 -> 0.9153
A27: 23 | B27: 350102 | C27: Venituri din amenzi si alte sanctiuni aplicate de catre alte institutii de specialitate | D27: ='venituri functionare'!D51 -> 49000 | E27: ='venituri functionare'!E51 -> 45884.72 | F27: =E27/D27 -> 0.93642286
A28: 24 | B28: 355000 | C28: Alte amenzi, penalitati si confiscari | D28: ='venituri functionare'!D52 -> 20000 | E28: ='venituri functionare'!E52 -> 8303.57 | F28: =E28/D28 -> 0.4151785
A29: 25 | B29: 360600 | C29: Taxe speciale | D29: ='venituri functionare'!D54 -> 12000 | E29: ='venituri functionare'!E54 -> 19554.47 | F29: =E29/D29 -> 1.6295392
A30: 26 | B30: 365000 | C30: Alte venituri | D30: ='venituri functionare'!D55 -> 24000 | E30: ='venituri functionare'!E55 -> 13798 | F30: =E30/D30 -> 0.57491667
A31: 27 | B31: 370203 | C31: Varsaminte din sectiunea de functionare pentru finantarea sectiunii de dezvoltare a bugetului local | D31: ='venituri functionare'!D57 -> -250000 | E31: ='venituri functionare'!E57 -> 0 | F31: =E31/D31 -> 0
A32: 28 | B32: 370204 | C32: Varsaminte din sectiunea de functionare | D32: ='venituri dezvoltare'!D8 -> 250000 | E32: 0 | F32: =E32/D32 -> 0
A33: 29 | B33: 390300 | C33: Venituri din vanzarea locuintelor construite din fondurile statului | D33: 0 | E33: ='venituri dezvoltare'!E11 -> 12600 | F33: =E33/D33 -> #DIV/0!
A34: 30 | B34: 401100 | C34: Sume din excedentul anului precedent pentru acoperirea golurilor temporare de casa ale sectiunii de functionare | D34: 0 | E34: ='venituri functionare'!E58 -> 200000 | F34: =E34/D34 -> #DIV/0!
A35: 31 | B35: 401400 | C35: Sume din excedentul bugetului local utilizate pentru finantarea cheltuielilor sectiunii de dezvoltare | D35: 0 | E35: ='venituri dezvoltare'!E13 -> 61247.55 | F35: =E35/D35 -> #DIV/0!
A36: 32 | B36: 423400 | C36: Subventii pentru acordarea ajutorului pentru incalzirea locuintei cu lemne, carbuni, combustibili petrolieri | D36: ='venituri functionare'!D60 -> 99400 | E36: ='venituri functionare'!E60 -> 107836 | F36: =E36/D36 -> 1.0848692
A37: 33 | B37: 424100 | C37: Subventii din bugetul de stat pentru finantarea sanatatii | D37: ='venituri functionare'!D61 -> 16500 | E37: ='venituri functionare'!E61 -> 16458 | F37: =E37/D37 -> 0.99745455
B38: TOTAL | D38: =SUM(D5:D37) -> 4018900 | E38: =SUM(E5:E37) -> 3075355.5 | F38: =E38/D38 -> 0.76522319
B41: PRIMAR, | E41: CONSILIER SUPERIOR
E42: COMP.BUGET CONTABILITATE,
B43: NASTASE ADRIAN | E43: TITA ANNE MARIE

Sheet CHELTUIELI TOTALE
G1: ANEXA 2
D2: CHELTUIELI TOTALE LA 31.03.2023
A4: NR. CRT. | B4: CLASIFICATIE BUGETARA | D4: DENUMIRE | E4: PREVEDERE BUGETARA | F4: EXECUTIE | G4: %
A5: 1 | B5: 510103 | C5: 100101 | D5: Salarii de baza | E5: 540000 | F5: 502505 | G5: =F5/E5 -> 0.93056481
A6: 2 | B6: 510103 | C6: 100112 | D6: Indemnizatii platite unor persoane din afara unitatii | E6: 48000 | F6: 43680 | G6: =F6/E6 -> 0.91
A7: 3 | B7: 510103 | C7: 100117 | D7: Indemnizatii de hrana | E7: 27000 | F7: 22996 | G7: =F7/E7 -> 0.8517037
A8: 4 | B8: 510103 | C8: 100206 | D8: Vouchere de vacanta | E8: 0 | F8: 0 | G8: =F8/E8 -> #DIV/0!
A9: 5 | B9: 510103 | C9: 100307 | D9: Contributia asiguratorie pentru munca | E9: 14000 | F9: 12709 | G9: =F9/E9 -> 0.90778571
A10: 6 | B10: 510103 | C10: 200101 | D10: Furnituri de birou | E10: 10000 | F10: 8530.38 | G10: =F10/E10 -> 0.853038
A11: 7 | B11: 510103 | C11: 200102 | D11: Materiale pentru curatenie | E11: 5000 | F11: 2465.3 | G11: =F11/E11 -> 0.49306
A12: 8 | B12: 510103 | C12: 200103 | D12: Incalzit, Iluminat si forta motrica | E12: 40000 | F12: 18315.15 | G12: =F12/E12 -> 0.45787875
A13: 9 | B13: 510103 | C13: 200104 | D13: Apa, canal si salubritate | E13: 1000 | F13: 327.63 | G13: =F13/E13 -> 0.32763
A14: 10 | B14: 510103 | C14: 200105 | D14: Carburanti si lubrifianti | E14: 20000 | F14: 10246 | G14: =F14/E14 -> 0.5123
A15: 11 | B15: 510103 | C15: 200106 | D15: Piese de schimb | E15: 3000 | F15: 735.87 | G15: =F15/E15 -> 0.24529
A16: 12 | B16: 510103 | C16: 200107 | D16: Transport | E16: 8000 | F16: 0 | G16: =F16/E16 -> 0
A17: 13 | B17: 510103 | C17: 200108 | D17: Posta, telecomunicatii, radio, tv, internet | E17: 20000 | F17: 12366.46 | G17: =F17/E17 -> 0.618323
A18: 14 | B18: 510103 | C18: 200109 | D18: Materiale si prestari de servicii cu caracter functional | E18: 100000 | F18: 54927.04 | G18: =F18/E18 -> 0.5492704
A19: 15 | B19: 510103 | C19: 200130 | D19: Alte bunuri si servicii pentru intretinere si functionare | E19: 50000 | F19: 20047.59 | G19: =F19/E19 -> 0.4009518
A20: 16 | B20: 510103 | C20: 200200 | D20: Reparatii curente | E20: 30000 | F20: 326.72 | G20: =F20/E20 -> 0.010890667
A21: 17 | B21: 510103 | C21: 200530 | D21: Alte obiecte de inventar | E21: 20000 | F21: 9813 | G21: =F21/E21 -> 0.49065
A22: 18 | B22: 510103 | C22: 200601 | D22: Deplasari interne,detasari,transferari | E22: 2000 | F22: 0 | G22: =F22/E22 -> 0
A23: 19 | B23: 510103 | C23: 2013 | D23: Prgatire profesionala | E23: 15000 | F23: 650 | G23: =F23/E23 -> 0.043333333
A24: 20 | B24: 510103 | C24: 203001 | D24: Reclama si publicitate | E24: 15000 | F24: 8811.2 | G24: =F24/E24 -> 0.58741333
A25: 21 | B25: 510103 | C25: 203002 | D25: Protocol si reprezentare | E25: 10000 | F25: 4928 | G25: =F25/E25 -> 0.4928
A26: 22 | B26: 510103 | C26: 203030 | D26: Alte cheltuieli cu bunuri si servicii | E26: 125000 | F26: 30085.93 | G26: =F26/E26 -> 0.24068744
A27: 23 | B27: 510103 | C27: 710101 | D27: Constructii | E27: 0 | F27: 0 | G27: =F27/E27 -> #DIV/0!
A28: 24 | B28: 510103 | C28: 710102 | D28: Masini, echipamente si mijloace de transport | E28: 90000 | F28: 0 | G28: =F28/E28 -> 0
A29: 25 | B29: 510103 | C29: 710103 | D29: Mobilier aparatura birotica si alte active corporale | E29: 15000 | F29: 0 | G29: =F29/E29 -> 0
A30: 26 | B30: 510103 | C30: 710130 | D30: Alte active fixe | E30: 0 | F30: 0 | G30: =F30/E30 -> #DIV/0!
A31: 27 | B31: 510103 | C31: 850101 | D31: Plati efectuate in anii precedenti si recuperate in anul curent | E31: 0 | F31: -1091 | G31: =F31/E31 -> #DIV/0!
A32: 28 | B32: 615000 | C32: 200105 | D32: Carburanti si lubrifianti | E32: 1000 | F32: 1000 | G32: =F32/E32 -> 1
A33: 29 | B33: 615000 | C33: 200106 | D33: Piese de schimb | E33: 2000 | F33: 0 | G33: =F33/E33 -> 0
A34: 30 | B34: 615000 | C34: 200109 | D34: Materiale si prestari de servicii cu caracter functional | E34: 3000 | F34: 2500 | G34: =F34/E34 -> 0.83333333
A35: 31 | B35: 615000 | C35: 203030 | D35: Alte cheltuieli cu bunuri si servicii | E35: 5000 | F35: 91 | G35: =F35/E35 -> 0.0182
A36: 32 | B36: 650301 | C36: 710101 | D36: Constructii | E36: 0 | F36: 0 | G36: =F36/E36 -> #DIV/0!
A37: 33 | B37: 650301 | C37: 710130 | D37: Alte active fixe | E37: 0 | F37: 0 | G37: =F37/E37 -> #DIV/0!
A38: 34 | B38: 650302 | C38: 710103 | D38: Mobilier aparatura birotica si alte active corporale | E38: 15000 | F38: 0 | G38: =F38/E38 -> 0
A39: 35 | B39: 650302 | C39: 710130 | D39: Alte active fixe | E39: 10000 | F39: 0 | G39: =F39/E39 -> 0
A40: 36 | B40: 650401 | C40: 200101 | D40: Furnituri de birou | E40: 10000 | F40: 0 | G40: =F40/E40 -> 0
A41: 37 | B41: 650401 | C41: 200102 | D41: Materiale pentru curatenie | E41: 10000 | F41: 0 | G41: =F41/E41 -> 0
...

Sheet indicatori
F1: ANEXA 7
C3: Indicatorii executiei bugetului local pe trim.IV 2022
A4: VENITURI
A5: Nr. | B5: Indicatori sinteza | C5: Formula de calcul | D5: Sume | E5: Procent | F5: Perioada
A6: crt.
A7: 1 | B7: Gradul de realizare a veniturilor | C7: Venituri total incasate (t21) | D7: 7312896.7 | E7: =D7/D8*100 -> 84.73023 | F7: Trimestrial
C8: Venituri totale programate | D8: 8630800
A9: 2 | B9: Gradul de realizare a veniturilor proprii | C9: Venituri proprii incasate (Vp= t21-alte venituri (TVA, subventii) | D9: 6430876.4 | E9: =D9/D10*100 -> 108.59298 | F9: Trimestrial
C10: Venituri proprii programate | D10: 5922000
A11: 3 | B11: Gradul de finantare din venituri proprii | C11: Venituri proprii incasate (Vp= t21-alte venituri (TVA, subventii) | D11: 6430876.4 | E11: =D11/D12*100 -> 87.938838 | F11: Trimestrial
C12: Venituri total incasate (t21) | D12: 7312896.7
A13: 4 | B13: Gradul de autofinantare | C13: Venituri proprii incasate (exclusiv cote) (Vpec=Vp-cote defalcate) | D13: 2411428.8 | E13: =D13/D14*100 -> 32.975016 | F13: Trimestrial
C14: Venituri totale incasate (t21) | D14: 7312896.7
A15: 5 | B15: Venituri proprii incasate per capita | C15: Venituri proprii incasate(Vp= t21-alte venituri (TVA, subventii) | E15: #DIV/0! | F15: Anual
C16: Numar de locuitori
A17: 6 | B17: Gradul de realizare a impozitelor pe proprietate | C17: Venituri din impozite pe proprietate incasate | E17: #DIV/0! | F17: Anual
C18: (Vip = 070201+070202+160202)
C19: Venituri din impozite pe proprietate programate
A20: 7 | B20: Gradul de dependenta al bugetului local fata de bugetul de stat | C20: Incasari din surse primite de la bugetul de stat | E20: #DIV/0! | F20: Anual
C21: (Sbs = 0402+1102+4202+4302)
C22: Venituri totale incasate(t21)
A23: 8 | B23: Gradul de autonomie decizionala | C23: Venituri depersonalizate incasate (Vp+110206) | D23: 6599876.4 | E23: =D23/D24*100 -> 90.249824 | F23: Trimestrial
C24: Venituri totale incasate(t21) | D24: 7312896.7
A25: 9 | B25: Estimatul anual din venituri fiscale
A26: a) | B26: Coeficient de realizare a veniturilor fiscale in anul anterior (se calculeaza trimestrial) | C26: Venituri fiscale cumulate an anterior (trim.I,II,III) | D26: 909742.24 | E26: =D26/D27 -> 0.87428091 | F26: An anterior 2010
C27: Total venituri fiscale an anterior | D27: 1040560.6
A28: b) | B28: Estimatul anual din venituri fiscale | C28: Venituri fiscale cumulate an de calcul (trim.I,II,III) | D28: 848468.86 | E28: 975251.56 | F28: An curent (2011)
C29: Coeficient | D29: =D28/E28 -> 0.87
A32: CHELTUIELI
A33: Nr.crt. | B33: Indicatori sinteza | C33: Formula de calcul | D33: Sume | E33: Procent | F33: Perioada
A34: 1 | B34: Rigiditatea cheltuielilor | C34: Plati aferente cheltuielilor de personal | E34: #DIV/0! | F34: Anual
C35: (total titlul 10)
C36: Total plati (t24)
A37: 2 | B37: Ponderea sectiunii de functionare | C37: Plati aferente sectiunii de functionare (t24f) | D37: 5724963.2 | E37: =D37/D38*100 -> 85.916596 | F37: Trimestrial
C38: Total plati (t24) | D38: 6663396.2
A39: 3 | B39: Ponderea sectiunii de dezvoltare | C39: Plati aferente sectiunii de dezvoltare (t24d) | D39: 938433 | E39: =D39/D40*100 -> 14.083404 | F39: Trimestrial
C40: Total plati (t24) | D40: 6663396.2
A41: 4 | B41: Ponderea serviciului datoriei publice | C41: Serviciul datoriei publice locale | D41: 0 | E41: #DIV/0! | F41: Anual
C42: Total plati (t24)
A43: 5 | B43: Excedent /Deficit –sectiune functionare | C43: Venituri incasate-(plati efectuate+plati restante) | D43: 643930.51 | F43: Trimestrial
...
