Workbook

Sheet venituri functionare
F1: ANEXA 3
C2: VENITURI ALE SECTIUNII DE FUNCTIONARE
A4: NR. CRT. | B4: DENUMIRE CONT | C4: COD INDICATOR | D4: Prevazut | E4: Realizat | F4: %
D5: la 29.12.2023 | E5: La 29.12.2023
A6: TOTAL VENITURI SECTIUNEA DE FUNCTIONARE | C6: 0.01 | D6: =D7+D60 -> 12085800 | E6: =E7+E60+E59 -> 12845973 | F6: =E6/D6 -> 1.0628981
A7: I. | B7: VENITURI CURENTE | C7: 0.02 | D7: =D8+D39 -> 11459600 | E7: =E8+E39 -> 12020042 | F7: =E7/D7 -> 1.0489059
A8: A. | B8: VENITURI FISCALE | C8: 0.03 | D8: =D9+D17+D27+D37 -> 11457100 | E8: =E9+E17+E27+E37 -> 11557698 | F8: =E8/D8 -> 1.0087804
A9: A.1. | B9: IMPOZIT PE VENIT, PROFIT SI CASTIGURI DIN CAPITAL | C9: 0.04 | D9: =D10 -> 6036500 | E9: =E10 -> 6055719.1 | F9: =E9/D9 -> 1.0031838
A10: A.1.2 | B10: IMPOZIT PE VENIT, PROFIT SI CASTIGURI DIN CAPITAL DE LA PERSOANE FIZICE | C10: 03.00.02 | D10: =D11+D13 -> 6036500 | E10: =E11+E13 -> 6055719.1 | F10: =E10/D10 -> 1.0031838
B11: IMPOZIT PE VENIT | C11: 03,02 | D11: =D12 -> 6000 | E11: =E12 -> 25842 | F11: =E11/D11 -> 4.307
B12: Impozitul pe veniturile din transferul proprietatilor imobiliare din patrimoniul personal | C12: 03.02.18 | D12: 6000 | E12: 25842 | F12: =E12/D12 -> 4.307
B13: COTE SI SUME DEFALCATE DIN IMPOZITUL PE VENIT | C13: 04,02 | D13: =D14+D15+D16 -> 6030500 | E13: =E14+E15+E16 -> 6029877.1 | F13: =E13/D13 -> 0.9998967
B14: Cote si sume defalcate din impozitul pe venit | C14: 04.02.01 | D14: 5540000 | E14: 5539377.1 | F14: =E14/D14 -> 0.99988756
B15: Sume alocate din cotele defalcate din impozitul pe venit pentru echilibrarea bugetelor locale | C15: 04.02.04 | D15: 0 | E15: 0 | F15: =E15/D15 -> #DIV/0!
B16: Sume repartizate din Fondul la dispozitia Consiliului Judetean | C16: 04 02 05 | D16: 490500 | E16: 490500 | F16: =E16/D16 -> 1
A17: A.3. | B17: IMPOZITE SI TAXE PE PROPRIETATE | C17: 7.02 | D17: =D18+D21+D25+D26 -> 643000 | E17: =E18+E21+E25+E26 -> 734529.51 | F17: =E17/D17 -> 1.1423476
B18: Impozit si taxa pe cladiri | C18: 07.02.01 | D18: =D19+D20 -> 363000 | E18: =E19+E20 -> 371665.52 | F18: =E18/D18 -> 1.023872
B19: Impozit pe cladiri de la persoane fizice | C19: 07.02.01.01 | D19: 153000 | E19: 154971.94 | F19: =E19/D19 -> 1.0128885
B20: Impozit si taxa pe cladiri de la persoane juridice | C20: 07.02.01.02 | D20: 210000 | E20: 216693.58 | F20: =E20/D20 -> 1.0318742
B21: Impozit si taxa pe teren | C21: 07.02.02 | D21: =D22+D23+D24 -> 233000 | E21: =E22+E23+E24 -> 278457.1 | F21: =E21/D21 -> 1.1950948
B22: Impozit pe terenuri de la persoane fizice | C22: 07.02.02.01 | D22: 122000 | E22: 124014.09 | F22: =E22/D22 -> 1.0165089
B23: Impozit si taxa pe teren de la persoane juridice | C23: 07.02.02.02 | D23: 31000 | E23: 64836 | F23: =E23/D23 -> 2.0914839
B24: Impozitul pe terenul extravilan | C24: 07.02.02.03 | D24: 80000 | E24: 89607.01 | F24: =E24/D24 -> 1.1200876
B25: Taxe judiciare de timbru si alte taxe de timbru | C25: 07.02.03 | D25: 19000 | E25: 60558.83 | F25: =E25/D25 -> 3.1873068
B26: Alte impozite si taxe pe proprietate | C26: 07.02.50 | D26: 28000 | E26: 23848.06 | F26: =E26/D26 -> 0.85171643
A27: A.4. | B27: IMPOZITE SI TAXE PE BUNURI SI SERVICII | C27: 10.02 | D27: =D28+D31 -> 4774600 | E27: =E28+E31 -> 4764206.9 | F27: =E27/D27 -> 0.99782325
B28: SUME DEFALCATE DIN TVA | C28: 11.02 | D28: =D29+D30 -> 4365600 | E28: =E29+E30 -> 4357318 | F28: =E28/D28 -> 0.9981029
B29: Sume defalcate din TVA pt. finantarea cheltuielilor descentralizate la niveul comunelor | C29: 11.02.02 | D29: 4045600 | E29: 4037318 | F29: =E29/D29 -> 0.99795284
B30: Sume defalcate din TVA pt. echilibrarea bugetelor locale | C30: 11.02.06 | D30: 320000 | E30: 320000 | F30: =E30/D30 -> 1
B31: TAXE PE UTILIZ. BUNURILOR, AUTORIZ.UTILIZ.BUNURILOR SAU PE DESF.DE ACTIV. | C31: 16.02 | D31: =D32+D35+D36 -> 409000 | E31: =E32+E35+E36 -> 406888.87 | F31: =E31/D31 -> 0.99483831
B32: Impozit pe mijloacele de transport | C32: 16.02.02 | D32: =D33+D34 -> 391000 | E32: =E33+E34 -> 403593.37 | F32: =E32/D32 -> 1.0322081
B33: Impozit pe mijloacele de transport detinute de persoane fizice | C33: 16.02.02.01 | D33: 336000 | E33: 342098.99 | F33: =E33/D33 -> 1.0181518
B34: Impozit pe mijloacele de transport detinute de persoane juridice | C34: 16.02.02.02 | D34: 55000 | E34: 61494.38 | F34: =E34/D34 -> 1.1180796
B35: Taxe si tarife pentru eliberarea de licente si autorizatii de functionare | C35: 16.02.03 | D35: 14000 | E35: 227.5 | F35: =E35/D35 -> 0.01625
B36: Alte taxe pe utiliz.bunurilor, autorizarea utiliz.bunurilor sau pe desfasurare de activitati | C36: 16.02.50 | D36: 4000 | E36: 3068 | F36: =E36/D36 -> 0.767
A37: A.6. | B37: ALTE IMPOZITE SI TAXE FISCALE | C37: 18.02 | D37: =D38 -> 3000 | E37: =E38 -> 3243 | F37: =E37/D37 -> 1.081
B38: Alte impozite si taxe | C38: 18.02.50 | D38: 3000 | E38: 3243 | F38: =E38/D38 -> 1.081
A39: C. | B39: VENITURI NEFISCALE | C39: 29.00.02 | D39: =D40+D43 -> 2500 | E39: =E40+E43 -> 462343.91 | F39: =E39/D39 -> 184.93756
A40: C.1. | B40: VENITURI DIN PROPRIETATE | C40: 30.00.02 | D40: =D41 -> 146000 | E40: =E41 -> 51054.46 | F40: =E40/D40 -> 0.34968808
B41: Venituri din concesiuni si inchirieri | C41: 30.02.05 | D41: =D42 -> 146000 | E41: =E42 -> 51054.46 | F41: =E41/D41 -> 0.34968808
B42: Alte venituri din concesiuni si inchirieri | C42: 30.02.05.30 | D42: 146000 | E42: 51054.46 | F42: =E42/D42 -> 0.34968808
A43: C.2. | B43: VANZARI DE BUNURI SI SERVICII | C43: 33.00.02 | D43: =D44+D47+D49+D53+D56 -> -143500 | E43: =E44+E47+E49+E53+E56 -> 411289.45 | F43: =E43/D43 -> -2.8661286
B44: Venituri din prestari de servicii | C44: 33.02 | D44: =D45+D46 -> 4000 | E44: =E45+E46 -> 7494.07 | F44: =E44/D44 -> 1.8735175
B45: Venituri din prestari de servicii | C45: 33.02.08 | D45: 3000 | E45: 5343 | F45: =E45/D45 -> 1.781
B46: Venituri din recuperarea chelt.de judecata, imputatii si despagubiri | C46: 33.02.28 | D46: 1000 | E46: 2151.07 | F46: =E46/D46 -> 2.15107
B47: VENITURI DIN TAXE ADMINISTRATIVE, ELIBERARI PERMISE | C47: 34.02 | D47: =D48 -> 11000 | E47: =E48 -> 12108.6 | F47: =E47/D47 -> 1.1007818
B48: Taxe extrajudiciare de timbru | C48: 34.02.02 | D48: 11000 | E48: 12108.6 | F48: =E48/D48 -> 1.1007818
B49: AMENZI, PENALITATI SI CONFISCARI | C49: 35.02 | D49: =D50+D52 -> 234000 | E49: =E50+E52 -> 194617.53 | F49: =E49/D49 -> 0.83169885
B50: Venituri din amenzi si alte sanctiuni | C50: 35.02.01 | D50: =D51 -> 177000 | E50: =E51 -> 163342.63 | F50: =E50/D50 -> 0.92283972
B51: Venituri din amenzi si alte sanctiuni aplicate de catre institutii de specialitate | C51: 35.02.01.02 | D51: 177000 | E51: 163342.63 | F51: =E51/D51 -> 0.92283972
B52: Alte amenzi, penalitati si confiscari | C52: 35.02.50 | D52: 57000 | E52: 31274.9 | F52: =E52/D52 -> 0.54868246
B53: DIVERSE VENITURI | C53: 36.02 | D53: =D54+D55 -> 98000 | E53: =E54+E55 -> 110198.23 | F53: =E53/D53 -> 1.1244717
B54: Taxe speciale | C54: 36.02.06 | D54: 49000 | E54: 79795.23 | F54: =E54/D54 -> 1.6284741
B55: Alte venituri | C55: 36.02.50 | D55: 49000 | E55: 30403 | F55: =E55/D55 -> 0.62046939
B56: TRANSFERURI VOLUNTARE, ALTELE DECAT SUBVENTIILE | C56: 37.02 | D56: =D57+D58 -> -490500 | E56: =E57+E58 -> 86871.02 | F56: =E56/D56 -> -0.17710707
B57: Donatii si sponsorizari | C57: 37.02.01 | D57: 350000 | E57: 350000 | F57: =E57/D57 -> 1
B58: Varsaminte din sectiunea de functionare pentru finantarea sectiunii de dezvoltare a bugetului local | C58: 37.02.03 | D58: -840500 | E58: -263128.98 | F58: =E58/D58 -> 0.31306244
B59: Sume din excedentul anilor precedenti pentru acoperirea golurilor temporare de casa | C59: 40.11 | D59: 0 | E59: 200000 | F59: -
A60: IV | B60: SUBVENTII | C60: 42 | D60: =D61+D62 -> 626200 | E60: =E61+E62 -> 625931 | F60: =E60/D60 -> 0.99957042
B61: Subventii pentru acordarea ajutorului pentru incalzirea locuintei cu lemne, carbuni, combustibili petrolieri | C61: 42.02.34 | D61: 558200 | E61: 557952 | F61: =E61/D61 -> 0.99955571
B62: Subventii de la bugetul de stat pentru finantarea sanatatii | C62: 42.02.41 | D62: 68000 | E62: 67979 | F62: =E62/D62 -> 0.99969118
B66: PRIMAR, | E66: CONSILIER SUPERIOR
E67: COMP.BUGET CONTABILITATE,
B68: NASTASE ADRIAN | E68: TITA ANNE MARIE

Sheet cheltuieli functionare
F1: ANEXA 4
C2: CHELTUIELI ALE SECTIUNII DE FUNCTIONARE
A4: NR. CRT. | B4: DENUMIRE CONT | C4: COD INDICATOR | D4: PREVAZUT LA | E4: REALIZAT LA | F4: %
D5: 45289 | E5: 45289
A6: TOTAL | C6: 50.02 | D6: =D7+D12+D15+D19+D21+D26+D31+D34+D37 -> 12085800 | E6: =E7+E12+E15+E19+E21+E26+E31+E34+E37 -> 10081816 | F6: =E6/D6 -> 0.83418692
A7: 1 | B7: AUTORITATI PUBLICE SI ACTIUNI EXTERNE | C7: 51.02 | D7: =D8+D9+D11+D10 -> 4408000 | E7: =E8+E9+E11+E10 -> 4032731.1 | F7: =E7/D7 -> 0.9148664
B8: Cheltuieli de personal | C8: 51.02.10 | D8: 3109000 | E8: 3082191 | F8: =E8/D8 -> 0.99137697
B9: Bunuri si servicii | C9: 51.02.20 | D9: 1249000 | E9: 940346.63 | F9: =E9/D9 -> 0.75287961
B10: Alte cheltuieli | C10: 51.02.59 | D10: 50000 | E10: 15000
B11: Plati efectuate in anii precedenti si recuperate in anul curent | C11: 51.02.85 | D11: 0 | E11: -4806.55 | F11: -
A12: 2 | B12: ORDINE PUBLICA SI SIGURANTA NATIONALA | C12: 61.02 | D12: =D13 -> 31000 | E12: =E13+E14 -> 6214.9 | F12: =E12/D12 -> 0.20048065
B13: Bunuri si servicii | C13: 61.02.20 | D13: 31000 | E13: 6942.5 | F13: =E13/D13 -> 0.22395161
B14: Plati efectuate in anii precedenti si recuperate in anul curent | C14: 61.02.85 | D14: 0 | E14: -727.6 | F14: =E14/D14 -> #DIV/0!
A15: 3 | B15: INVATAMANT | C15: 65.02 | D15: =D16+D17+D18 -> 1497600 | E15: =E16+E17+E18 -> 1477225.4 | F15: =E15/D15 -> 0.98639518
B16: Bunuri si servicii | C16: 65.02.20 | D16: 743000 | E16: 742079.42 | F16: =E16/D16 -> 0.998761
B17: Asistenta sociala | C17: 65.02.57 | D17: 175000 | E17: 155600 | F17: =E17/D17 -> 0.88914286
B18: Burse scolare | C18: 65.02.59 | D18: 579600 | E18: 579546 | F18: =E18/D18 -> 0.99990683
A19: 4 | B19: SANATATE | C19: 66.02 | D19: =D20 -> 138000 | E19: =E20 -> 69429 | F19: =E19/D19 -> 0.5031087
B20: Cheltuieli de personal | C20: 66.02.10 | D20: 138000 | E20: 69429 | F20: =E20/D20 -> 0.5031087
A21: 5 | B21: CULTURA, RECREERE SI RELIGIE | C21: 67.02 | D21: =D22+D23+D25+D24 -> 295000 | E21: =E22+E23+E24+E25 -> 114331.12 | F21: =E21/D21 -> 0.38756312
B22: Cheltuieli de personal | C22: 67.02.10 | D22: 66000 | E22: 0 | F22: =E22/D22 -> 0
B23: Bunuri si servicii | C23: 67.02.20 | D23: 179000 | E23: 87123.62 | F23: =E23/D23 -> 0.48672413
B24: Alte cheltuieli | C24: 67.02.59 | D24: 50000 | E24: 27247.5 | F24: =E24/D24 -> 0.54495
B25: Plati efectuate in anii precedenti si recuperate in anul curent | C25: 67.02.85 | D25: 0 | E25: -40 | F25: =E25/D25 -> #DIV/0!
A26: 6 | B26: ASIGURARI SI ASISTENTA SOCIALA | C26: 68.02 | D26: =D27+D29+D28 -> 4705200 | E26: =E27+E29+E30+E28 -> 3888871 | F26: =E26/D26 -> 0.82650493
B27: Cheltuieli de personal | C27: 68.02.10 | D27: 1559000 | E27: 1374172 | F27: =E27/D27 -> 0.88144452
B28: Bunuri si servicii | C28: 68.02.20 | D28: 5000 | E28: 3000 | F28: =E28/D28 -> 0.6
B29: Ajutoare sociale in numerar | C29: 68.02.57 | D29: 3141200 | E29: 2513689 | F29: =E29/D29 -> 0.80023208
B30: Plati efectuate in anii precedenti si recuperate in anul curent | C30: 68.02.85 | D30: 0 | E30: -1990 | F30: =E30/D30 -> #DIV/0!
A31: 7 | B31: LOCUINTE, SERVICII SI DEZVOLTARE PUBLICA | C31: 70.02 | D31: =D32 -> 707000 | E31: =E32+E33 -> 394947.71 | F31: =E31/D31 -> 0.55862477
B32: Bunuri si servicii | C32: 70.02.20 | D32: 707000 | E32: 398980.26 | F32: =E32/D32 -> 0.56432851
B33: Plati efectuate in anii precedenti si recuperate in anul curent | C33: 70.02.85 | E33: -4032.55 | F33: =E33/D33 -> #DIV/0!
A34: 8 | B34: PROTECTIA MEDIULUI | C34: 74.02 | D34: =D35+D36 -> 184000 | E34: =E35+E36 -> 98066.02 | F34: =E34/D34 -> 0.5329675
B35: Bunuri si servicii | C35: 74.02.20 | D35: 124000 | E35: 42746.02 | F35: =E35/D35 -> 0.34472597
B36: Asociatii si fundatii | C36: 74.02.59 | D36: 60000 | E36: 55320 | F36: =E36/D36 -> 0.922
A37: 9 | B37: TRANSPORTURI | C37: 84.02 | D37: =D38 -> 120000 | E37: =E38 -> 0 | F37: =E37/D37 -> 0
B38: Bunuri si servicii | C38: 84.02.20 | D38: 120000 | E38: 0 | F38: =E38/D38 -> 0
B39: EXCEDENT / DEFICIT | C39: - | E39: ='venituri functionare'!E6-'cheltuieli functionare'!E6 -> 2764157.1
B42: PRIMAR, | E42: CONSILIER SUPERIOR
E43: COMP.BUGET CONTABILITATE,
B44: NASTASE ADRIAN | D44: TITA ANNE MARIE

Sheet venituri dezvoltare
F1: ANEXA 5
C2: VENITURI ALE SECTIUNII DE DEZVOLTARE
A4: NR. CRT. | B4: DENUMIRE CONT | C4: COD INDICATOR | D4: Prevazut la | E4: Realizat la 29.12.2023 | F4: %
D5: 45289
A6: TOTAL | D6: =D7+D10+D12+D14+D18 -> 986900 | E6: =E9+E12+E14+E18 -> 7696025.3 | F6: =E6/D6 -> 7.7981815
A7: I | B7: TRANSFERURI VOLUNTARE, ALTELE DECAT SUBVENTIILE | C7: 37.02 | D7: =D8 -> 840500 | E7: =E8 -> 263128.98 | F7: =E7/D7 -> 0.31306244
B8: Varsaminte din sectiunea de functionare | C8: 37.02.04 | D8: 840500 | E8: 263128.98 | F8: =E8/D8 -> 0.31306244
A9: II | B9: VENITURI DIN CAPITAL | D9: =D10 -> 0 | E9: =E10 -> 16564 | F9: =E9/D9 -> #DIV/0!
B10: VENITURI DIN VALORIFICAREA UNOR BUNURI | C10: 39.02 | D10: =D11 -> 0 | E10: =E11 -> 16564 | F10: =E10/D10 -> #DIV/0!
B11: Venituri din vanzarea locuintelor construite din fondurile statului | C11: 39.02.03 | D11: 0 | E11: 16564 | F11: =E11/D11 -> #DIV/0!
A12: III | B12: OPERATIUNI FINANCIARE | C12: 40.02 | D12: =D13 -> 0 | E12: =E13 -> 7533061.3 | F12: =E12/D12 -> #DIV/0!
B13: Sume din excedentul bugetului local utilizate pentru finantarea cheltuielilor sectiunii de dezvoltare | C13: 40.14 | D13: 0 | E13: 7533061.3 | F13: =E13/D13 -> #DIV/0!
B14: SUBVENTII DE LA BUGETUL DE STAT | C14: 42.2A | D14: =D15 -> 96400 | E14: =E15 -> 96400 | F14: =E14/D14 -> 1
B15: Alocari de sume din PNRR aferente componentei imprumutui | C15: 42.2A.89 | D15: =D16+D17 -> 96400 | E15: =E16+E17 -> 96400 | F15: =E15/D15 -> 1
B16: Fonduri din imprumut rambursabil | C16: 42.2A.89.01 | D16: 85000 | E16: 85000 | F16: =E16/D16 -> 1
B17: Sume aferente TVA | C17: 42.2A.89.03 | D17: 11400 | E17: 11400 | F17: =E17/D17 -> 1
B18: SUBVENTII DE LA ALTE ADMINISTRATII | C18: 43.02 | D18: =D19 -> 50000 | E18: =E19 -> 50000 | F18: =E18/D18 -> 1
B19: Subventii acordate in baza contractelor de parteneriat sau asociere | C19: 43.02.39 | D19: =D20 -> 50000 | E19: =E20 -> 50000 | F19: =E19/D19 -> 1
B20: Subventii acordate in baza contractelor de parteneriat sau asocier, pentru sectiunea de dezvoltare | C20: 43.02.39.02 | D20: 50000 | E20: 50000 | F20: =E20/D20 -> 1
B22: PRIMAR, | E22: CONSILIER SUPERIOR
E23: COMP.BUGET CONTABILITATE,
B24: NASTASE ADRIAN | E24: TITA ANNE MARIE
A30: ='venituri functionare'!E6+'venituri dezvoltare'!E6 -> 20541999

Sheet cheltuieli dezvoltare
F1: ANEXA 6
C2: CHELTUIELI ALE SECTIUNII DE DEZVOLTARE
A4: NR. CRT. | B4: DENUMIRE CONT | C4: COD INDICATOR | D4: Prevazut la | E4: Realizat la | F4: %
D5: 45289 | E5: 45289
A6: TOTAL | D6: =D7+D13+D21+D25+D30+D39 -> 9224900 | E6: =E7+E13+E21+E25+E30+E39 -> 7841338.5 | F6: =E6/D6 -> 0.8500188
A7: 1 | B7: AUTORITATI PUBLICE SI ACTIUNI EXTERNE | C7: 51.02 | D7: =D8 -> 50000 | E7: =E8 -> 2031.03 | F7: =E7/D7 -> 0.0406206
B8: ACTIVE FIXE | C8: 51.02.71.01 | D8: =D9+D12+D10+D11 -> 50000 | E8: =E9+E12 -> 2031.03 | F8: =E8/D8 -> 0.0406206
B9: Constructii | C9: 51.02.71.01.01 | D9: 0 | E9: 0 | F9: =E9/D9 -> #DIV/0!
B10: Masini, echipamente si mijloace de transport | C10: 51.02.71.01.02 | D10: 0 | E10: 0 | F10: =E10/D10 -> #DIV/0!
B11: Mobilier, aparatura birotica si alte active corporale | C11: 51.02.71.01.03 | D11: 0 | E11: 0 | F11: =E11/D11 -> #DIV/0!
B12: Alte active fixe | C12: 51.02.71.01.30 | D12: 50000 | E12: 2031.03 | F12: =E12/D12 -> 0.0406206
A13: 2 | B13: INVATAMANT | C13: 65.02 | D13: =D14+D17 -> 151400 | E13: =E14+E17 -> 71400 | F13: =E13/D13 -> 0.47159841
B14: PROIECTE CU FINANTARE DIN SUMELE AFERENTE COMPONENTEI DE IMPRUMUT PNRR | C14: 65.02.61 | D14: =D15+D16 -> 71400 | E14: =E15+E16 -> 71400 | F14: =E14/D14 -> 1
B15: Fonduri din imprumut rambursabil | C15: 65.02.61.01.00 | D15: 60000 | E15: 60000 | F15: =E15/D15 -> 1
B16: Sume aferente TVA | C16: 65.02.61.03.00 | D16: 11400 | E16: 11400 | F16: =E16/D16 -> 1
B17: ACTIVE FIXE | C17: 65.02.71 | D17: =D18+D20+D19 -> 80000 | E17: =E18+E20 -> 0 | F17: =E17/D17 -> 0
B18: Constructii | C18: 65.02.71.01.01 | D18: 65000 | E18: 0 | F18: =E18/D18 -> 0
B19: Mobilier, aparatura birotica si alte active corporale | C19: 65.02.71.01.03 | D19: 0 | E19: 0 | F19: =E19/D19 -> #DIV/0!
B20: Alte active fixe | C20: 65.02.71.01.30 | D20: 15000 | E20: 0 | F20: =E20/D20 -> 0
A21: 3 | B21: CULTURA, RECREERE, RELIGIE | C21: 67.02 | D21: =D22 -> 1360000 | E21: =E22 -> 1098639.5 | F21: =E21/D21 -> 0.80782319
B22: ACTIVE FIXE | C22: 67.02.71 | D22: =D24+D23 -> 1360000 | E22: =E23+E24 -> 1098639.5 | F22: =E22/D22 -> 0.80782319
B23: Constructii | C23: 67.02.71.01.01 | D23: 1285000 | E23: 1076366.4 | F23: =E23/D23 -> 0.83763918
B24: Alte active fixe | C24: 67.02.71.01.30 | D24: 75000 | E24: 22273.19 | F24: =E24/D24 -> 0.29697587
A25: 4 | B25: LOCUINTE, SERVICII SI DEZVOLTARE | C25: 70.02 | D25: =D26 -> 1776000 | E25: =E26 -> 1522729.6 | F25: =E25/D25 -> 0.8573928
B26: ACTIVE FIXE | C26: 70.02.71 | D26: =D29+D27+D28 -> 1776000 | E26: =E29+E27+E28 -> 1522729.6 | F26: =E26/D26 -> 0.8573928
B27: Constructii | C27: 70.02 71.01.01 | D27: 1475000 | E27: 1327702.8 | F27: =E27/D27 -> 0.90013749
B28: Masini, echipamente si mijloace de transport | C28: 70.02 71.01.02 | D28: 126000 | E28: 124195.82 | F28: =E28/D28 -> 0.98568111
B29: Alte active fixe | C29: 70.02.71.01.30 | D29: 175000 | E29: 70831 | F29: =E29/D29 -> 0.40474857
A30: 5 | B30: PROTECTIA MEDIULUI | C30: 74.02 | D30: =D31+D34 -> 4846000 | E30: =E31+E34 -> 4525861.3 | F30: =E30/D30 -> 0.93393753
B31: PROIECTE CU FINANTARE DIN FONDURI EXTERNE NERAMBURSABILE CADRULUI FINANCIAR 2014-2020 | C31: 74.02.58 | D31: =D32 -> 2280500 | E31: =E32 -> 2279925.2 | F31: =E31/D31 -> 0.99974797
B32: Programe din Fondul European Agricol de Dezvoltare Rurala (FEADR) | C32: 74.02.58.04 | D32: =D33 -> 2280500 | E32: =E33 -> 2279925.2 | F32: =E32/D32 -> 0.99974797
B33: Finantarea externa nerambursabila | C33: 74.05.58.04.02 | D33: 2280500 | E33: 2279925.2 | F33: =E33/D33 -> 0.99974797
B34: ACTIVE FIXE | C34: 74.02.71.01 | D34: =D35+D37+D36+D38 -> 2565500 | E34: =E35+E37+E36+E38 -> 2245936 | F34: =E34/D34 -> 0.87543793
B35: Constructii | C35: 74.02.71.01.01 | D35: 2190500 | E35: 2090138.5 | F35: =E35/D35 -> 0.95418328
B36: Mobilier, aparatura birotica si alte active corporale | C36: 74.02.71.01.03 | D36: 30000 | E36: 26449.92
B37: Alte active fixe | C37: 74.02.71.01.30 | D37: 345000 | E37: 134199.43 | F37: =E37/D37 -> 0.38898386
B38: Plati efectuate in anul precedent si recuperate in anul curent | C38: 74.02.85.01.02 | D38: 0 | E38: -4851.81 | F38: =E38/D38 -> #DIV/0!
A39: 6 | B39: TRANSPORTURI | C39: 84.02 | D39: =D40 -> 1041500 | E39: =E40 -> 620677.01 | F39: =E39/D39 -> 0.59594528
B40: ACTIVE FIXE | C40: 84.02.71.01 | D40: =D41+D42 -> 1041500 | E40: =E41+E42 -> 620677.01 | F40: =E40/D40 -> 0.59594528
B41: Constructii | C41: 84.02.71.01.01 | D41: 725500 | E41: 502964.59 | F41: =E41/D41 -> 0.69326615
B42: Alte active fixe | C42: 84.02.71.01.30 | D42: 316000 | E42: 117712.42 | F42: =E42/D42 -> 0.37250766
B43: EXCEDENT / DEFICIT | E43: ='venituri dezvoltare'!E6-'cheltuieli dezvoltare'!E6 -> -145313.17
B46: PRIMAR, | D46: CONSILIER SUPERIOR
D47: COMP.BUGET CONTABILITATE,
B48: NASTASE ADRIAN | D48: TITA ANNE MARIE
A49: =E6+'cheltuieli functionare'!E6 -> 17923155 | B49: total plati
A50: =E43+'cheltuieli functionare'!E39 -> 2618843.9 | B50: excedent/deficit

Sheet VENITURI TOTALE
F1: ANEXA 1
C2: VENITURI TOTALE LA 29.12.2023
A4: NR. CRT. | B4: CLASIFICATIE BUGETARA | C4: DENUMIRE | D4: PREVEDERE BUGETARA | E4: EXECUTIE | F4: %
A5: 1 | B5: 031800 | C5: Impozitul pe veniturile din transferul proprietatilor imobiliare din patrimoniul personal | D5: ='venituri functionare'!D12 -> 6000 | E5: ='venituri functionare'!E12 -> 25842 | F5: =E5/D5 -> 4.307
A6: 2 | B6: 040100 | C6: Cote defalcate din impozitul pe venit(se scad) | D6: ='venituri functionare'!D14 -> 5540000 | E6: ='venituri functionare'!E14 -> 5539377.1 | F6: =E6/D6 -> 0.99988756
A7: 3 | B7: 040400 | C7: Sume alocate din cotele defalcate din impozitul pe venit pentru echilibrarea bugetelor locale | D7: ='venituri functionare'!D15 -> 0 | E7: ='venituri functionare'!E15 -> 0 | F7: =E7/D7 -> #DIV/0!
A8: 4 | B8: 04 05 00 | C8: Sume repartizate din Fondul la dispozitia Consiliului Judetean | D8: ='venituri functionare'!D16 -> 490500 | E8: ='venituri functionare'!E16 -> 490500 | F8: =E8/D8 -> 1
A9: 5 | B9: 070101 | C9: Impozit pe cladiri de la persoane fizice | D9: ='venituri functionare'!D19 -> 153000 | E9: ='venituri functionare'!E19 -> 154971.94 | F9: =E9/D9 -> 1.0128885
A10: 6 | B10: 070102 | C10: Impozit si taxa pe cladiri de la persoane juridice | D10: ='venituri functionare'!D20 -> 210000 | E10: ='venituri functionare'!E20 -> 216693.58 | F10: =E10/D10 -> 1.0318742
A11: 7 | B11: 070201 | C11: Impozit pe terenuri de la persoane fizice | D11: ='venituri functionare'!D22 -> 122000 | E11: ='venituri functionare'!E22 -> 124014.09 | F11: =E11/D11 -> 1.0165089
A12: 8 | B12: 070202 | C12: Impozit si taxa pe teren de la persoane juridice | D12: ='venituri functionare'!D23 -> 31000 | E12: ='venituri functionare'!E23 -> 64836 | F12: =E12/D12 -> 2.0914839
A13: 9 | B13: 070203 | C13: Impozit pe terenul din extravilan | D13: ='venituri functionare'!D24 -> 80000 | E13: ='venituri functionare'!E24 -> 89607.01 | F13: =E13/D13 -> 1.1200876
A14: 10 | B14: 070300 | C14: Taxe judiciare de timbru si alte taxe de timbru | D14: ='venituri functionare'!D25 -> 19000 | E14: ='venituri functionare'!E25 -> 60558.83 | F14: =E14/D14 -> 3.1873068
A15: 11 | B15: 075000 | C15: Alte impozite si taxe pe proprietate | D15: ='venituri functionare'!D26 -> 28000 | E15: ='venituri functionare'!E26 -> 23848.06 | F15: =E15/D15 -> 0.85171643
A16: 12 | B16: 110200 | C16: Sume defalcate din taxa pe valoarea adaugata pentru finantarea cheltuielilor descentralizate la nivelul comunelor, oraselor, municipiilor, sectoarelor si Municipiului Bucuresti | D16: ='venituri functionare'!D29 -> 4045600 | E16: ='venituri functionare'!E29 -> 4037318 | F16: =E16/D16 -> 0.99795284
A17: 13 | B17: 110600 | C17: Sume defalcate din taxa pe valoarea adaugata pentru echilibrarea bugetelor locale | D17: ='venituri functionare'!D30 -> 320000 | E17: ='venituri functionare'!E30 -> 320000 | F17: =E17/D17 -> 1
A18: 14 | B18: 160201 | C18: Impozit pe mijloacele de transport detinute de persoane fizice | D18: ='venituri functionare'!D33 -> 336000 | E18: ='venituri functionare'!E33 -> 342098.99 | F18: =E18/D18 -> 1.0181518
A19: 15 | B19: 160202 | C19: Impozit pe mijloacele de transport detinute de persoane juridice | D19: ='venituri functionare'!D34 -> 55000 | E19: ='venituri functionare'!E34 -> 61494.38 | F19: =E19/D19 -> 1.1180796
A20: 16 | B20: 160300 | C20: Taxe si tarife pentru eliberarea de licente si autorizatii de functionare | D20: ='venituri functionare'!D35 -> 14000 | E20: ='venituri functionare'!E35 -> 227.5 | F20: =E20/D20 -> 0.01625
A21: 17 | B21: 165000 | C21: Alte taxe pe utilizarea bunurilor, autorizarea utilizarii bunurilor sau pe desfasurare de activitati | D21: ='venituri functionare'!D36 -> 4000 | E21: ='venituri functionare'!E36 -> 3068 | F21: =E21/D21 -> 0.767
A22: 18 | B22: 185000 | C22: Alte impozite si taxe | D22: ='venituri functionare'!D38 -> 3000 | E22: ='venituri functionare'!E38 -> 3243 | F22: =E22/D22 -> 1.081
A23: 19 | B23: 300530 | C23: Alte venituri din concesiuni si inchirieri de catre institutiile publice | D23: ='venituri functionare'!D42 -> 146000 | E23: ='venituri functionare'!E42 -> 51054.46 | F23: =E23/D23 -> 0.34968808
A24: 20 | B24: 330800 | C24: Venituri din prestari de servicii | D24: ='venituri functionare'!D45 -> 3000 | E24: ='venituri functionare'!E45 -> 5343 | F24: =E24/D24 -> 1.781
A25: 21 | B25: 332800 | C25: Venituri din recuperarea cheltuielilor de judecata, imputatii si despagubiri | D25: ='venituri functionare'!D46 -> 1000 | E25: ='venituri functionare'!E46 -> 2151.07 | F25: =E25/D25 -> 2.15107
A26: 22 | B26: 340200 | C26: Taxe extrajudiciare de timbru | D26: ='venituri functionare'!D48 -> 11000 | E26: ='venituri functionare'!E48 -> 12108.6 | F26: =E26/D26 -> 1.1007818
A27: 23 | B27: 350102 | C27: Venituri din amenzi si alte sanctiuni aplicate de catre alte institutii de specialitate | D27: ='venituri functionare'!D51 -> 177000 | E27: ='venituri functionare'!E51 -> 163342.63 | F27: =E27/D27 -> 0.92283972
A28: 24 | B28: 355000 | C28: Alte amenzi, penalitati si confiscari | D28: ='venituri functionare'!D52 -> 57000 | E28: ='venituri functionare'!E52 -> 31274.9 | F28: =E28/D28 -> 0.54868246
A29: 25 | B29: 360600 | C29: Taxe speciale | D29: ='venituri functionare'!D54 -> 49000 | E29: ='venituri functionare'!E54 -> 79795.23 | F29: =E29/D29 -> 1.6284741
A30: 26 | B30: 365000 | C30: Alte venituri | D30: ='venituri functionare'!D55 -> 49000 | E30: ='venituri functionare'!E55 -> 30403 | F30: =E30/D30 -> 0.62046939
A31: 27 | B31: 370100 | C31: Donatii si sponsorizari | D31: ='venituri functionare'!D57 -> 350000 | E31: ='venituri functionare'!E57 -> 350000
A32: 28 | B32: 370203 | C32: Varsaminte din sectiunea de functionare pentru finantarea sectiunii de dezvoltare a bugetului local | D32: ='venituri functionare'!D58 -> -840500 | E32: ='venituri functionare'!E58 -> -263128.98 | F32: =E32/D32 -> 0.31306244
A33: 29 | B33: 370204 | C33: Varsaminte din sectiunea de functionare | D33: ='venituri dezvoltare'!D8 -> 840500 | E33: ='venituri dezvoltare'!E8 -> 263128.98 | F33: =E33/D33 -> 0.31306244
A34: 30 | B34: 390300 | C34: Venituri din vanzarea locuintelor construite din fondurile statului | D34: ='venituri dezvoltare'!D11 -> 0 | E34: ='venituri dezvoltare'!E11 -> 16564 | F34: =E34/D34 -> #DIV/0!
A35: 31 | B35: 401100 | C35: Sume din excedentul anului precedent pentru acoperirea golurilor temporare de casa ale sectiunii de functionare | D35: ='venituri functionare'!D59 -> 0 | E35: ='venituri functionare'!E59 -> 200000 | F35: =E35/D35 -> #DIV/0!
A36: 32 | B36: 401400 | C36: Sume din excedentul bugetului local utilizate pentru finantarea cheltuielilor sectiunii de dezvoltare | D36: ='venituri dezvoltare'!D13 -> 0 | E36: ='venituri dezvoltare'!E13 -> 7533061.3 | F36: =E36/D36 -> #DIV/0!
A37: 33 | B37: 423400 | C37: Subventii pentru acordarea ajutorului pentru incalzirea locuintei cu lemne, carbuni, combustibili petrolieri | D37: ='venituri functionare'!D61 -> 558200 | E37: ='venituri functionare'!E61 -> 557952 | F37: =E37/D37 -> 0.99955571
A38: 34 | B38: 424100 | C38: Subventii din bugetul de stat pentru finantarea sanatatii | D38: ='venituri functionare'!D62 -> 68000 | E38: ='venituri functionare'!E62 -> 67979 | F38: =E38/D38 -> 0.99969118
A39: 35 | B39: 428901 | C39: Fonduri din imprumut rambursabil | D39: ='venituri dezvoltare'!D16 -> 85000 | E39: ='venituri dezvoltare'!E16 -> 85000 | F39: =E39/D39 -> 1
A40: 36 | B40: 428903 | C40: Sume aferente TVA | D40: ='venituri dezvoltare'!D17 -> 11400 | E40: ='venituri dezvoltare'!E17 -> 11400 | F40: =E40/D40 -> 1
A41: 37 | B41: 433902 | C41: Subventii acordate in baza contractelor de parteneriat sau asocier, pentru sectiunea de dezvoltare | D41: ='venituri dezvoltare'!D20 -> 50000 | E41: ='venituri dezvoltare'!E20 -> 50000
B42: TOTAL | D42: =SUM(D5:D41) -> 13072700 | E42: =SUM(E5:E41) -> 20805128 | F42: =E42/D42 -> 1.5914943
B45: PRIMAR, | E45: CONSILIER SUPERIOR
E46: COMP.BUGET CONTABILITATE,
B47: NASTASE ADRIAN | E47: TITA ANNE MARIE

Sheet CHELTUIELI TOTALE
G1: ANEXA 2
D2: CHELTUIELI TOTALE LA 29.12.2023
A4: NR. CRT. | B4: CLASIFICATIE BUGETARA | D4: DENUMIRE | E4: PREVEDERE BUGETARA | F4: EXECUTIE | G4: %
A5: 1 | B5: 510103 | C5: 100101 | D5: Salarii de baza | E5: 2717000 | F5: 2711722 | G5: =F5/E5 -> 0.99805742
A6: 2 | B6: 510103 | C6: 100112 | D6: Indemnizatii platite unor persoane din afara unitatii | E6: 200500 | F6: 194740 | G6: =F6/E6 -> 0.97127182
A7: 3 | B7: 510103 | C7: 100117 | D7: Indemnizatii de hrana | E7: 73500 | F7: 70383 | G7: =F7/E7 -> 0.95759184
A8: 4 | B8: 510103 | C8: 100206 | D8: Vouchere de vacanta | E8: 50000 | F8: 38800 | G8: =F8/E8 -> 0.776
A9: 5 | B9: 510103 | C9: 100307 | D9: Contributia asiguratorie pentru munca | E9: 68000 | F9: 66546 | G9: =F9/E9 -> 0.97861765
A10: 6 | B10: 510103 | C10: 200101 | D10: Furnituri de birou | E10: 35000 | F10: 29485.41 | G10: =F10/E10 -> 0.84244029
A11: 7 | B11: 510103 | C11: 200102 | D11: Materiale pentru curatenie | E11: 20000 | F11: 7429.7 | G11: =F11/E11 -> 0.371485
A12: 8 | B12: 510103 | C12: 200103 | D12: Incalzit, Iluminat si forta motrica | E12: 100000 | F12: 80780.37 | G12: =F12/E12 -> 0.8078037
A13: 9 | B13: 510103 | C13: 200104 | D13: Apa, canal si salubritate | E13: 4000 | F13: 2013.04 | G13: =F13/E13 -> 0.50326
A14: 10 | B14: 510103 | C14: 200105 | D14: Carburanti si lubrifianti | E14: 60000 | F14: 28903.82 | G14: =F14/E14 -> 0.48173033
A15: 11 | B15: 510103 | C15: 200106 | D15: Piese de schimb | E15: 10000 | F15: 2918.54 | G15: =F15/E15 -> 0.291854
A16: 12 | B16: 510103 | C16: 200107 | D16: Transport | E16: 17000 | F16: 0 | G16: =F16/E16 -> 0
A17: 13 | B17: 510103 | C17: 200108 | D17: Posta, telecomunicatii, radio, tv, internet | E17: 70000 | F17: 55268.04 | G17: =F17/E17 -> 0.78954343
A18: 14 | B18: 510103 | C18: 200109 | D18: Materiale si prestari de servicii cu caracter functional | E18: 310000 | F18: 264958.15 | G18: =F18/E18 -> 0.85470371
A19: 15 | B19: 510103 | C19: 200130 | D19: Alte bunuri si servicii pentru intretinere si functionare | E19: 206000 | F19: 165324.21 | G19: =F19/E19 -> 0.80254471
A20: 16 | B20: 510103 | C20: 200200 | D20: Reparatii curente | E20: 15000 | F20: 13238.22 | G20: =F20/E20 -> 0.882548
A21: 17 | B21: 510103 | C21: 200530 | D21: Alte obiecte de inventar | E21: 20000 | F21: 17972 | G21: =F21/E21 -> 0.8986
A22: 18 | B22: 510103 | C22: 200601 | D22: Deplasari interne,detasari,transferari | E22: 8000 | F22: 0 | G22: =F22/E22 -> 0
A23: 19 | B23: 510103 | C23: 2013 | D23: Prgatire profesionala | E23: 25000 | F23: 650 | G23: =F23/E23 -> 0.026
A24: 20 | B24: 510103 | C24: 203001 | D24: Reclama si publicitate | E24: 60000 | F24: 23067.7 | G24: =F24/E24 -> 0.38446167
A25: 21 | B25: 510103 | C25: 203002 | D25: Protocol si reprezentare | E25: 40000 | F25: 9728.1 | G25: =F25/E25 -> 0.2432025
A26: 22 | B26: 510103 | C26: 203030 | D26: Alte cheltuieli cu bunuri si servicii | E26: 249000 | F26: 238609.33 | G26: =F26/E26 -> 0.9582704
A27: 23 | B27: 510103 | C27: 591100 | D27: Asociatii si fundatii | E27: 50000 | F27: 15000 | G27: =F27/E27 -> 0.3
A28: 24 | B28: 510103 | C28: 710101 | D28: Constructii | E28: 0 | F28: 0 | G28: =F28/E28 -> #DIV/0!
A29: 25 | B29: 510103 | C29: 710102 | D29: Masini, echipamente si mijloace de transport | E29: 0 | F29: 0 | G29: =F29/E29 -> #DIV/0!
A30: 26 | B30: 510103 | C30: 710103 | D30: Mobilier aparatura birotica si alte active corporale | E30: 0 | F30: 0 | G30: =F30/E30 -> #DIV/0!
A31: 27 | B31: 510103 | C31: 710130 | D31: Alte active fixe | E31: 50000 | F31: 2031.03 | G31: =F31/E31 -> 0.0406206
A32: 28 | B32: 510103 | C32: 850101 | D32: Plati efectuate in anii precedenti si recuperate in anul curent | E32: 0 | F32: -4806.55 | G32: =F32/E32 -> #DIV/0!
A33: 29 | B33: 615000 | C33: 200105 | D33: Carburanti si lubrifianti | E33: 4000 | F33: 1907.63 | G33: =F33/E33 -> 0.4769075
A34: 30 | B34: 615000 | C34: 200106 | D34: Piese de schimb | E34: 8000 | F34: 0 | G34: =F34/E34 -> 0
A35: 31 | B35: 615000 | C35: 200109 | D35: Materiale si prestari de servicii cu caracter functional | E35: 17000 | F35: 4500 | G35: =F35/E35 -> 0.26470588
A36: 32 | B36: 615000 | C36: 203030 | D36: Alte cheltuieli cu bunuri si servicii | E36: 2000 | F36: 534.87 | G36: =F36/E36 -> 0.267435
A37: 33 | B37: 615000 | C37: 850101 | D37: Plati efectuate in anii precedenti si recuperate in anul curent | E37: 0 | F37: -727.6 | G37: =F37/E37 -> #DIV/0!
A38: 34 | B38: 650301 | C38: 710101 | D38: Constructii | E38: 65000 | F38: 0 | G38: =F38/E38 -> 0
A39: 35 | B39: 650302 | C39: 610100 | D39: Fonduri din imprumut rambursabil | E39: 60000 | F39: 60000 | G39: =F39/E39 -> 1
A40: 36 | B40: 650302 | C40: 610300 | D40: Sume aferente TVA | E40: 11400 | F40: 11400 | G40: =F40/E40 -> 1
A41: 37 | B41: 650302 | C41: 710103 | D41: Mobilier aparatura birotica si alte active corporale | E41: 0 | F41: 0 | G41: =F41/E41 -> #DIV/0!
A42: 38 | B42: 650302 | C42: 710130 | D42: Alte active fixe | E42: 15000 | F42: 0 | G42: =F42/E42 -> 0
A43: 39 | B43: 650401 | C43: 200101 | D43: Furnituri de birou | E43: 28000 | F43: 27953.27 | G43: =F43/E43 -> 0.99833107
A44: 40 | B44: 650401 | C44: 200102 | D44: Materiale pentru curatenie | E44: 25000 | F44: 24985.77 | G44: =F44/E44 -> 0.9994308
A45: 41 | B45: 650401 | C45: 200103 | D45: Incalzit, Iluminat si forta motrica | E45: 163000 | F45: 162580.97 | G45: =F45/E45 -> 0.99742926
A46: 42 | B46: 650401 | C46: 200104 | D46: Apa, canal si salubritate | E46: 4000 | F46: 3764.77 | G46: =F46/E46 -> 0.9411925
A47: 43 | B47: 650402 | C47: 200106 | D47: Piese de schimb | E47: 10000 | F47: 9997 | G47: =F47/E47 -> 0.9997
A48: 44 | B48: 650401 | C48: 200107 | D48: Transport | E48: 104000 | F48: 103959 | G48: =F48/E48 -> 0.99960577
A49: 45 | B49: 650401 | C49: 200108 | D49: Posta, telecomunicatii, radio, tv, internet | E49: 17000 | F49: 17000 | G49: =F49/E49 -> 1
A50: 46 | B50: 650401 | C50: 200109 | D50: Materiale si prestari de servicii cu caracter functional | E50: 107000 | F50: 106982.4 | G50: =F50/E50 -> 0.99983551
A51: 47 | B51: 650401 | C51: 200130 | D51: Alte bunuri si servicii pentru intretinere si functionare | E51: 85000 | F51: 84971.29 | G51: =F51/E51 -> 0.99966224
A52: 48 | B52: 650401 | C52: 200200 | D52: Reparatii curente | E52: 148000 | F52: 147993.75 | G52: =F52/E52 -> 0.99995777
A53: 49 | B53: 650401 | C53: 200530 | D53: Alte obiecte de inventar | E53: 46000 | F53: 45985.2 | G53: =F53/E53 -> 0.99967826
A54: 50 | B54: 650401 | C54: 200601 | D54: Deplasari, detasari, transferari | E54: 2000 | F54: 2000 | G54: =F54/E54 -> 1
A55: 51 | B55: 650401 | C55: 201300 | D55: Pregatire profesionala | E55: 4000 | F55: 3906 | G55: =F55/E55 -> 0.9765
A56: 52 | B56: 650401 | C56: 570201 | D56: Ajutoare sociale in numerar | E56: 131000 | F56: 131000 | G56: =F56/E56 -> 1
A57: 53 | B57: 650401 | C57: 5901 | D57: Burse | E57: 579600 | F57: 579546 | G57: =F57/E57 -> 0.99990683
A58: 54 | B58: 650213 | C58: 710130 | D58: Alte active fixe | E58: 0 | F58: 0 | G58: =F58/E58 -> #DIV/0!
A59: 55 | B59: 655000 | C59: 570203 | D59: Tichete de cresa si tichete sociale pentru gradinita | E59: 44000 | F59: 24600 | G59: =F59/E59 -> 0.55909091
A60: 56 | B60: 660800 | C60: 100101 | D60: Salarii de baza | E60: 121700 | F60: 62119 | G60: =F60/E60 -> 0.51042728
A61: 57 | B61: 660800 | C61: 100105 | D61: Sporuri pentru conditiide munca | E61: 400 | F61: 284 | G61: =F61/E61 -> 0.71
A62: 58 | B62: 660800 | C62: 100106 | D62: Alte sporuri | E62: 1500 | F62: 429 | G62: =F62/E62 -> 0.286
A63: 59 | B63: 660800 | C63: 100117 | D63: Indemnizatii de hrana | E63: 9500 | F63: 3651 | G63: =F63/E63 -> 0.38431579
A64: 60 | B64: 660800 | C64: 100206 | D64: Vouchere de vacanta | E64: 2000 | F64: 1450 | G64: =F64/E64 -> 0.725
A65: 61 | B65: 660800 | C65: 100307 | D65: Contributia asiguratorie pentru munca | E65: 2900 | F65: 1496 | G65: =F65/E65 -> 0.51586207
A66: 62 | B66: 670302 | C66: 100101 | D66: Salarii de baza | E66: 55000 | F66: 0 | G66: =F66/E66 -> 0
A67: 63 | B67: 670302 | C67: 100117 | D67: Indemnizatii de hrana | E67: 5000 | F67: 0 | G67: =F67/E67 -> 0
A68: 64 | B68: 670302 | C68: 100206 | D68: Vouchere de vacanta | E68: 2000 | F68: 0 | G68: =F68/E68 -> 0
A69: 65 | B69: 670302 | C69: 100307 | D69: Contributia asiguratorie pentru munca | E69: 4000 | F69: 0 | G69: =F69/E69 -> 0
A70: 66 | B70: 670302 | C70: 200101 | D70: Furnituri de birou | E70: 0 | F70: 0 | G70: =F70/E70 -> #DIV/0!
A71: 67 | B71: 670302 | C71: 200102 | D71: Materiale pentru curatenie | E71: 1000 | F71: 0 | G71: =F71/E71 -> 0
A72: 68 | B72: 670302 | C72: 200601 | D72: Deplasari interne,detasari,transferari | E72: 0 | F72: 0 | G72: =F72/E72 -> #DIV/0!
A73: 69 | B73: 670302 | C73: 201100 | D73: Carti, publicatii si materiale documntare | E73: 0 | F73: 0 | G73: =F73/E73 -> #DIV/0!
A74: 70 | B74: 670302 | C74: 201300 | D74: Pregatire profesionala | E74: 0 | F74: 0 | G74: =F74/E74 -> #DIV/0!
A75: 71 | B75: 670303 | C75: 200103 | D75: Incalzit, Iluminat si forta motrica | E75: 16000 | F75: 8849.55 | G75: =F75/E75 -> 0.55309687
A76: 72 | B76: 670303 | C76: 200109 | D76: Materiale si prestari de servicii cu caracter functional | E76: 20000 | F76: 2856 | G76: =F76/E76 -> 0.1428
A77: 73 | B77: 670303 | C77: 2002 | D77: Reparatii curente | E77: 0 | F77: 0 | G77: =F77/E77 -> #DIV/0!
A78: 74 | B78: 670307 | C78: 200103 | D78: Incalzit, Iluminat si forta motrica | E78: 30000 | F78: 28611.77 | G78: =F78/E78 -> 0.95372567
A79: 75 | B79: 670307 | C79: 200109 | D79: Materiale si prestari de servicii cu caracter functional | E79: 15000 | F79: 0 | G79: =F79/E79 -> 0
A80: 76 | B80: 670307 | C80: 200200 | D80: Reparatii curente | E80: 21000 | F80: 193.02 | G80: =F80/E80 -> 0.0091914286
A81: 77 | B81: 670307 | C81: 200530 | D81: Alte obiecte de inventar | E81: 10000 | F81: 5250 | G81: =F81/E81 -> 0.525
A82: 78 | B82: 670307 | C82: 203030 | D82: Alte cheltuieli cu bunuri si servicii | E82: 5000 | F82: 4509.8 | G82: =F82/E82 -> 0.90196
A83: 79 | B83: 670307 | C83: 710101 | D83: Constructii | E83: 415000 | F83: 414836.56 | G83: =F83/E83 -> 0.99960617
A84: 80 | B84: 670307 | C84: 710130 | D84: Alte active fixe | E84: 35000 | F84: 20850 | G84: =F84/E84 -> 0.59571429
A85: 81 | B85: 670501 | C85: 200109 | D85: Materiale si prestari de servicii cu caracter functional | E85: 35000 | F85: 20062 | G85: =F85/E85 -> 0.5732
A86: 82 | B86: 670501 | C86: 200130 | D86: Alte bunuri si servicii pentru intretinere si functionare | E86: 5000 | F86: 4981.03 | G86: =F86/E86 -> 0.996206
A87: 83 | B87: 670501 | C87: 200200 | D87: Reparatii curente | E87: 1000 | F87: 759.45 | G87: =F87/E87 -> 0.75945
A88: 84 | B88: 670501 | C88: 203030 | D88: Alte cheltuieli cu bunuri si servicii | E88: 20000 | F88: 11051 | G88: =F88/E88 -> 0.55255
A89: 85 | B89: 670501 | C89: 710101 | D89: Constructii | E89: 350000 | F89: 311529.79 | G89: =F89/E89 -> 0.89008511
A90: 86 | B90: 670501 | C90: 710130 | D90: Alte active fixe | E90: 30000 | F90: 1423.19 | G90: =F90/E90 -> 0.047439667
A91: 87 | B91: 670600 | C91: 591200 | D91: Sustinerea cultelor | E91: 50000 | F91: 27247.5 | G91: =F91/E91 -> 0.54495
A92: 88 | B92: 670600 | C92: 710101 | D92: Constructii | E92: 520000 | F92: 350000 | G92: =F92/E92 -> 0.67307692
A93: 89 | B93: 670600 | C93: 710130 | D93: Alte active fixe | E93: 10000 | F93: 0 | G93: =F93/E93 -> 0
A94: 90 | B94: 670600 | C94: 850101 | D94: Plati efectuate in anii precedenti si recuperate in anul curent | F94: -40 | G94: =F94/E94 -> #DIV/0!
A95: 91 | B95: 680502 | C95: 100101 | D95: Salarii de baza | E95: 1310000 | F95: 1178060 | G95: =F95/E95 -> 0.89928244
A96: 92 | B96: 680502 | C96: 100117 | D96: Indemnizatii de hrana | E96: 158000 | F96: 121289 | G96: =F96/E96 -> 0.7676519
A97: 93 | B97: 680502 | C97: 100206 | D97: Vouchere de vacanta | E97: 58000 | F97: 46850 | G97: =F97/E97 -> 0.80775862
A98: 94 | B98: 680502 | C98: 100307 | D98: Contributia asiguratorie pentru munca | E98: 33000 | F98: 27973 | G98: =F98/E98 -> 0.84766667
B99: 680502 | C99: 200109 | D99: Materiale si prestari de servicii cu caracter functional | E99: 5000 | F99: 3000 | G99: =F99/E99 -> 0.6
A100: 95 | B100: 680502 | C100: 570201 | D100: Ajutoare sociale in numerar | E100: 2575000 | F100: 2004237 | G100: =F100/E100 -> 0.77834447
A101: 96 | B101: 680502 | C101: 850101 | D101: Plati efectuate in anii precedenti si recuperate in anul curent | E101: 0 | F101: -1990 | G101: =F101/E101 -> #DIV/0!
...

Sheet indicatori
B1: PRIMARIA COMUNEI I.L.CARAGIALE | F1: ANEXA 7
C3: Indicatorii executiei bugetului local pe trim.IV 2023
A4: VENITURI
A5: Nr. | B5: Indicatori sinteza | C5: Formula de calcul | D5: Sume | E5: Procent | F5: Perioada
A6: crt.
A7: 1 | B7: Gradul de realizare a veniturilor | C7: Venituri total incasate (t21) | D7: ='VENITURI TOTALE'!E42 -> 20805128 | E7: =D7/D8*100 -> 159.14943 | F7: Trimestrial
C8: Venituri totale programate | D8: ='VENITURI TOTALE'!D42 -> 13072700
A9: 2 | B9: Gradul de realizare a veniturilor proprii | C9: Venituri proprii incasate (Vp= t21-alte venituri (TVA, subventii) | D9: ='VENITURI TOTALE'!E42-'venituri functionare'!E28-'venituri functionare'!E60-'venituri dezvoltare'!E14 -> 15725479 | E9: =D9/D10*100 -> 196.95007 | F9: Trimestrial
C10: Venituri proprii programate | D10: ='VENITURI TOTALE'!D42-'venituri functionare'!D28-'venituri functionare'!D60-'venituri dezvoltare'!D14 -> 7984500
A11: 3 | B11: Gradul de finantare din venituri proprii | C11: Venituri proprii incasate (Vp= t21-alte venituri (TVA, subventii) | D11: ='VENITURI TOTALE'!E42-'venituri functionare'!E28-'venituri functionare'!E60-'venituri dezvoltare'!E14 -> 15725479 | E11: =D11/D12*100 -> 75.584629 | F11: Trimestrial
C12: Venituri total incasate (t21) | D12: ='VENITURI TOTALE'!E42 -> 20805128
A13: 4 | B13: Gradul de autofinantare | C13: Venituri proprii incasate (exclusiv cote) (Vpec=Vp-cote defalcate) | D13: ='VENITURI TOTALE'!E42-'venituri functionare'!E13-'venituri functionare'!E28-'venituri functionare'!E60-'venituri dezvoltare'!E14 -> 9695601.6 | E13: =D13/D14*100 -> 46.601981 | F13: Trimestrial
C14: Venituri totale incasate (t21) | D14: ='VENITURI TOTALE'!E42 -> 20805128
A15: 5 | B15: Venituri proprii incasate per capita | C15: Venituri proprii incasate(Vp= t21-alte venituri (TVA, subventii) | E15: =#DIV/0! -> #DIV/0! | F15: Anual
C16: Numar de locuitori
A17: 6 | B17: Gradul de realizare a impozitelor pe proprietate | C17: Venituri din impozite pe proprietate incasate | E17: =#DIV/0! -> #DIV/0! | F17: Anual
C18: (Vip = 070201+070202+160202)
C19: Venituri din impozite pe proprietate programate
A20: 7 | B20: Gradul de dependenta al bugetului local fata de bugetul de stat | C20: Incasari din surse primite de la bugetul de stat | E20: =#DIV/0! -> #DIV/0! | F20: Anual
C21: (Sbs = 0402+1102+4202+4302)
C22: Venituri totale incasate(t21)
A23: 8 | B23: Gradul de autonomie decizionala | C23: Venituri depersonalizate incasate (Vp+110206) | D23: ='VENITURI TOTALE'!E42-'venituri functionare'!E60-'venituri functionare'!E28-'venituri dezvoltare'!E14 -> 15725479 | E23: =D23/D24*100 -> 75.584629 | F23: Trimestrial
C24: Venituri totale incasate(t21) | D24: ='VENITURI TOTALE'!E42 -> 20805128
A25: 9 | B25: Estimatul anual din venituri fiscale
A26: a) | B26: Coeficient de realizare a veniturilor fiscale in anul anterior (se calculeaza trimestrial) | C26: Venituri fiscale cumulate an anterior (trim.I,II,III) | D26: 848468.86 | E26: =D26/D27 -> 0.80275216 | F26: An anterior 2010
C27: Total venituri fiscale an anterior | D27: 1056950
A28: b) | B28: Estimatul anual din venituri fiscale | C28: Venituri fiscale cumulate an de calcul (trim.I,II,III) | D28: 948314.8 | E28: 1185393.5 | F28: An curent (2011)
C29: Coeficient | D29: =D28/E28 -> 0.8
A32: CHELTUIELI
A33: Nr.crt. | B33: Indicatori sinteza | C33: Formula de calcul | D33: Sume | E33: Procent | F33: Perioada
A34: 1 | B34: Rigiditatea cheltuielilor | C34: Plati aferente cheltuielilor de personal | E34: =#DIV/0! -> #DIV/0! | F34: Anual
C35: (total titlul 10)
C36: Total plati (t24)
A37: 2 | B37: Ponderea sectiunii de functionare | C37: Plati aferente sectiunii de functionare (t24f) | D37: ='cheltuieli functionare'!E6 -> 10081816 | E37: =D37/D38*100 -> 56.250233 | F37: Trimestrial
C38: Total plati (t24) | D38: ='CHELTUIELI TOTALE'!F132 -> 17923155
A39: 3 | B39: Ponderea sectiunii de dezvoltare | C39: Plati aferente sectiunii de dezvoltare (t24d) | D39: ='cheltuieli dezvoltare'!E6 -> 7841338.5 | E39: =D39/D40*100 -> 43.749767 | F39: Trimestrial
C40: Total plati (t24) | D40: ='CHELTUIELI TOTALE'!F132 -> 17923155
A41: 4 | B41: Ponderea serviciului datoriei publice | C41: Serviciul datoriei publice locale | D41: 0 | E41: =#DIV/0! -> #DIV/0! | F41: Anual
C42: Total plati (t24)
A43: 5 | B43: Excedent /Deficit –sectiune functionare | C43: Venituri incasate-(plati efectuate+plati restante) | D43: ='venituri functionare'!E6-'cheltuieli functionare'!E6 -> 2764157.1 | F43: Trimestrial
A44: 6 | B44: Excedent /Deficit –sectiune dezvoltare | C44: Venituri incasate-(plati efectuate+plati restante) | D44: ='venituri dezvoltare'!E6-'cheltuieli dezvoltare'!E6 -> -145313.17 | F44: Trimestrial
B47: PRIMAR, | E47: CONSILIER SUPERIOR
E48: COMP.BUGET CONTABILITATE,
B49: NASTASE ADRIAN | E49: TITA ANNE-MARIE
