Workbook

Sheet DETALIERI 51, 61, 65, 66
A1: JUDETUL DAMBOVITA
A2: COMUNA ION LUCA CARAGIALE
C6: Total an 2024 | D6: Trim.I | E6: Trim.II | F6: Trim.III | G6: Trim.IV | H6: Estimat 2025 | I6: Estimat 2026 | J6: Estimat 2027
A7: 5002 | C7: =C8+C14+C12 -> 15924 | D7: =D8+D14+D12 -> 6157 | E7: =E8+E14+E12 -> 5432 | F7: =F8+F14+F12 -> 2131 | G7: =G8+G14+G12 -> 2204 | H7: =H8+H14+H12 -> 11631 | I7: =I8+I14+I12 -> 12007 | J7: =J8+J14+J12 -> 12517 | K7: =SUM(D7:G7) -> 15924
B8: 1 | C8: =C9+C10+C11+C12+C13 -> 11451 | D8: =D9+D10+D11+D12+D13 -> 3694 | E8: =E9+E10+E11+E12+E13 -> 3422 | F8: =F9+F10+F11+F12+F13 -> 2131 | G8: =G9+G10+G11+G12+G13 -> 2204 | H8: =H9+H10+H11+H13 -> 11631 | I8: =I9+I10+I11+I13 -> 12007 | J8: =J9+J10+J11+J13 -> 12517 | K8: =SUM(D8:G8) -> 11451
B9: 10 | C9: =C19+C111+'detalieri 67'!C4+'DETALIERI 68'!C19 -> 6400 | D9: =D19+D111+'detalieri 67'!D4+'DETALIERI 68'!D19 -> 1449.5 | E9: =E19+E111+'detalieri 67'!E4+'DETALIERI 68'!E19 -> 1784.5 | F9: =F19+F111+'detalieri 67'!F4+'DETALIERI 68'!F19 -> 1596 | G9: =G19+G111+'detalieri 67'!G4+'DETALIERI 68'!G19 -> 1570 | H9: =H19+H111+'detalieri 67'!H4+'DETALIERI 68'!H19 -> 6655 | I9: =I19+I111+'detalieri 67'!I4+'DETALIERI 68'!I19 -> 6862 | J9: =J19+J111+'detalieri 67'!J4+'DETALIERI 68'!J19 -> 7069 | K9: =SUM(D9:G9) -> 6400
B10: 20 | C10: =C34+C66+C71+C81+C121+'detalieri 67'!C12+'detalieri 70'!C4+'detalieri 70'!C6+'detalieri 70'!C7+'detalieri 70'!C12+'detalieri 74'!C5+'detalieri 74'!C7+'detalieri 84'!C3+'DETALIERI 68'!C12 -> 2614 | D10: =D34+D66+D71+D81+D121+D66+'detalieri 67'!D12+'detalieri 70'!D4+'detalieri 70'!D6+'detalieri 70'!D7+'detalieri 70'!D12+'detalieri 74'!D5+'detalieri 74'!D7+'detalieri 84'!D3+'DETALIERI 68'!D12 -> 1325.5 | E10: =E34+E66+E71+E81+E121+'detalieri 67'!E12+'detalieri 70'!E4+'detalieri 70'!E6+'detalieri 70'!E7+'detalieri 70'!E12+'detalieri 74'!E5+'detalieri 74'!E7+'detalieri 84'!E3+'DETALIERI 68'!E13 -> 867.5 | F10: =F34+F66+F71+F81+F121+'detalieri 67'!F12+'detalieri 70'!F4+'detalieri 70'!F6+'detalieri 70'!F7+'detalieri 70'!F12+'detalieri 74'!F5+'detalieri 74'!F7+'detalieri 84'!F3+'DETALIERI 68'!F13 -> 234 | G10: =G34+G66+G71+G81+G121+'detalieri 67'!G12+'detalieri 70'!G4+'detalieri 70'!G6+'detalieri 70'!G7+'detalieri 70'!G12+'detalieri 74'!G5+'detalieri 74'!G7+'detalieri 84'!G3+'DETALIERI 68'!G13 -> 187 | H10: =H34+H66+H71+H81+H121+'detalieri 67'!H12+'detalieri 70'!H4+'detalieri 70'!H6+'detalieri 70'!H7+'detalieri 70'!H12+'detalieri 74'!H5+'detalieri 74'!H7+'detalieri 84'!H3+'DETALIERI 68'!H13 -> 2377 | I10: =I34+I66+I71+I81+I121+'detalieri 67'!I12+'detalieri 70'!I4+'detalieri 70'!I6+'detalieri 70'!I7+'detalieri 70'!I12+'detalieri 74'!I5+'detalieri 74'!I7+'detalieri 84'!I3+'DETALIERI 68'!I13 -> 2434 | J10: =J34+J66+J71+J81+J121+'detalieri 67'!J12+'detalieri 70'!J4+'detalieri 70'!J6+'detalieri 70'!J7+'detalieri 70'!J12+'detalieri 74'!J5+'detalieri 74'!J7+'detalieri 84'!J3+'DETALIERI 68'!J13 -> 2525 | K10: =SUM(D10:G10) -> 2614
B11: 57 | C11: =C99+'DETALIERI 68'!C14 -> 2127 | D11: =D99+'DETALIERI 68'!D14 -> 704 | E11: =E99+'DETALIERI 68'!E14 -> 705 | F11: =F99+'DETALIERI 68'!F14 -> 286 | G11: =G99+'DETALIERI 68'!G14 -> 432 | H11: =H99+'DETALIERI 68'!H14 -> 2289 | I11: =I99+'DETALIERI 68'!I14 -> 2401 | J11: =J99+'DETALIERI 68'!J14 -> 2613 | K11: =SUM(D11:G11) -> 2127
B12: 58 | C12: ='detalieri 74'!C10 -> 0 | D12: ='detalieri 74'!D10 -> 0 | E12: ='detalieri 74'!E10 -> 0 | F12: ='detalieri 74'!F10 -> 0 | G12: ='detalieri 74'!G10 -> 0 | H12: ='detalieri 74'!H10 -> 0 | I12: ='detalieri 74'!I10 -> 0 | J12: ='detalieri 74'!J10 -> 0 | K12: =SUM(D12:G12) -> 0
B13: 59 | C13: =C56+'detalieri 67'!C107+'detalieri 74'!C8 -> 310 | D13: =D56+'detalieri 67'!D107+'detalieri 74'!D8 -> 215 | E13: ='detalieri 67'!E107+'detalieri 74'!E8 -> 65 | F13: =F57+'detalieri 67'!F107+'detalieri 74'!F8 -> 15 | G13: =G57+'detalieri 67'!G107+'detalieri 74'!G8 -> 15 | H13: =H56+'detalieri 67'!H105+'detalieri 74'!H8 -> 310 | I13: =I56+'detalieri 67'!I105+'detalieri 74'!I8 -> 310 | J13: =J56+'detalieri 67'!J105+'detalieri 74'!J8 -> 310
B14: 70 | C14: =C15 -> 4473 | D14: =D15 -> 2463 | E14: =E15 -> 2010 | F14: =F15 -> 0 | G14: =G15 -> 0 | H14: =H15 -> 0 | I14: =I15 -> 0 | J14: =J15 -> 0 | K14: =SUM(D14:G14) -> 4473
B15: 71 | C15: =C59+C104+'detalieri 67'!C36+'detalieri 74'!C12+'detalieri 83'!C6+'detalieri 84'!C6+'detalieri 70'!C22+'detalieri 70'!E8 -> 4473 | D15: =D59+D104+'detalieri 67'!D36+'detalieri 74'!D12+'detalieri 83'!D6+'detalieri 84'!D6+'detalieri 70'!D22 -> 2463 | E15: =E59+E104+'detalieri 67'!E36+'detalieri 74'!E12+'detalieri 83'!E6+'detalieri 84'!E6+'detalieri 70'!E22+'detalieri 70'!E8 -> 2010 | F15: =F59+F104+'detalieri 67'!F36+'detalieri 74'!F12+'detalieri 83'!F6+'detalieri 84'!F6+'detalieri 70'!F22 -> 0 | G15: =G59+G104+'detalieri 67'!G36+'detalieri 74'!G12+'detalieri 83'!G6+'detalieri 84'!G6+'detalieri 70'!G22 -> 0 | H15: =H59+H104+'detalieri 67'!H36+'detalieri 74'!H12+'detalieri 83'!H6+'detalieri 84'!H6+'detalieri 70'!H22 -> 0 | I15: =I59+I104+'detalieri 67'!I36+'detalieri 74'!I12+'detalieri 83'!I6+'detalieri 84'!I6+'detalieri 70'!I22 -> 0 | J15: =J59+J104+'detalieri 67'!J36+'detalieri 74'!J12+'detalieri 83'!J6+'detalieri 84'!J6+'detalieri 70'!J22 -> 0 | K15: =SUM(D15:G15) -> 4473
A16: 510002 | C16: =C17 -> 5206 | D16: =D17 -> 1511 | E16: =E17 -> 1561 | F16: =F17 -> 1084 | G16: =G17 -> 1050 | H16: =H17 -> 5200 | I16: =I17 -> 5350 | J16: =J17 -> 5550 | K16: =SUM(D16:G16) -> 5206
A17: 5102 | C17: =C18+C58 -> 5206 | D17: =D18+D58 -> 1511 | E17: =E18+E58 -> 1561 | F17: =F18+F58 -> 1084 | G17: =G18+G58 -> 1050 | H17: =H18+H58 -> 5200 | I17: =I18+I58 -> 5350 | J17: =J18+J58 -> 5550 | K17: =SUM(D17:G17) -> 5206
B18: 1 | C18: =C19+C34+C56 -> 5056 | D18: =D19+D34+D57 -> 1461 | E18: =E19+E34+E57 -> 1461 | F18: =F19+F34+F57 -> 1084 | G18: =G19+G34+G57 -> 1050 | H18: =H19+H34+H56 -> 5200 | I18: =I19+I34+I56 -> 5350 | J18: =J19+J34+J56 -> 5550 | K18: =SUM(D18:G18) -> 5056
B19: 10 | C19: =C20+C25+C27 -> 4076 | D19: =D20+D25+D27 -> 946 | E19: =E20+E25+E27 -> 1122 | F19: =F20+F25+F27 -> 1014 | G19: =G20+G25+G27 -> 994 | H19: 4200 | I19: 4300 | J19: 4400 | K19: =SUM(D19:G19) -> 4076
B20: 1001 | C20: =SUM(C21:C24) -> 3916 | D20: =SUM(D21:D24) -> 925 | E20: =SUM(E21:E24) -> 1037 | F20: =SUM(F21:F24) -> 987 | G20: =SUM(G21:G24) -> 967 | K20: =SUM(D20:G20) -> 3916
B21: 100101 | C21: =D21+E21+F21+G21 -> 3510 | D21: 840 | E21: 900 | F21: 900 | G21: 870 | K21: =SUM(D21:G21) -> 3510
B22: 100112 | C22: =D22+E22+F22+G22 -> 226 | D22: 55 | E22: 57 | F22: 57 | G22: 57 | K22: =SUM(D22:G22) -> 226
B23: 100117 | C23: =D23+E23+F23+G23 -> 130 | D23: 30 | E23: 30 | F23: 30 | G23: 40 | K23: =SUM(D23:G23) -> 130
B24: 100130 | C24: =D24+E24+F24+G24 -> 50 | E24: 50 | K24: =SUM(D24:G24) -> 50
B25: 1002 | C25: =C26 -> 55 | D25: =D26 -> 0 | E25: =E26 -> 55 | F25: =F26 -> 0 | G25: =G26 -> 0 | K25: =SUM(D25:G25) -> 55
B26: 100206 | C26: =SUM(D26:G26) -> 55 | E26: 55 | K26: =SUM(D26:G26) -> 55
B27: 1003 | C27: =C28+C29+C30+C31+C32+C33 -> 105 | D27: =D28+D29+D30+D31+D32+D33 -> 21 | E27: =E28+E29+E30+E31+E32+E33 -> 30 | F27: =F28+F29+F30+F31+F32+F33 -> 27 | G27: =G28+G29+G30+G31+G32+G33 -> 27 | K27: =SUM(D27:G27) -> 105
B28: 100301 | K28: =SUM(D28:G28) -> 0
B29: 100302 | K29: =SUM(D29:G29) -> 0
B30: 100303 | K30: =SUM(D30:G30) -> 0
B31: 100304 | K31: =SUM(D31:G31) -> 0
B32: 100306 | K32: =SUM(D32:G32) -> 0
B33: 100307 | C33: =D33+E33+F33+G33 -> 105 | D33: 21 | E33: 30 | F33: 27 | G33: 27 | K33: =SUM(D33:G33) -> 105
B34: 20 | C34: =C35+C46+C47+C49+C52+C51 -> 930 | D34: =D35+D46+D47+D49+D52+D51 -> 465 | E34: =E35+E46+E47+E49+E52+E51 -> 339 | F34: =F35+F46+F47+F49+F52+F51 -> 70 | G34: =G35+G46+G47+G49+G52+G51 -> 56 | H34: 950 | I34: 1000 | J34: 1100 | K34: =SUM(D34:G34) -> 930
B35: 2001 | C35: =SUM(C36:C45) -> 552 | D35: =SUM(D36:D45) -> 248 | E35: =SUM(E36:E45) -> 192 | F35: =SUM(F36:F45) -> 58 | G35: =SUM(G36:G45) -> 54 | K35: =SUM(D35:G35) -> 552
B36: 200101 | C36: =D36+E36+F36+G36 -> 50 | D36: 20 | E36: 10 | F36: 10 | G36: 10 | K36: =SUM(D36:G36) -> 50
B37: 200102 | C37: =D37+E37+F37+G37 -> 23 | D37: 5 | E37: 5 | F37: 5 | G37: 8 | K37: =SUM(D37:G37) -> 23
B38: 200103 | C38: =D38+E38+F38+G38 -> 84 | D38: 20 | E38: 30 | F38: 10 | G38: 24 | K38: =SUM(D38:G38) -> 84
B39: 200104 | C39: =D39+E39+F39+G39 -> 8 | D39: 2 | E39: 2 | F39: 2 | G39: 2 | K39: =SUM(D39:G39) -> 8
B40: 200105 | C40: =D40+E40+F40+G40 -> 40 | D40: 20 | E40: 20 | F40: 0 | G40: 0 | K40: =SUM(D40:G40) -> 40
B41: 200106 | C41: =D41+E41+F41+G41 -> 10 | D41: 3 | E41: 2 | F41: 3 | G41: 2 | K41: =SUM(D41:G41) -> 10
B42: 200107 | C42: =D42+E42+F42+G42 -> 32 | D42: 8 | E42: 8 | F42: 8 | G42: 8 | K42: =SUM(D42:G42) -> 32
B43: 200108 | C43: =D43+E43+F43+G43 -> 55 | D43: 20 | E43: 15 | F43: 20 | G43: 0 | K43: =SUM(D43:G43) -> 55
...

Sheet detalieri scoala
C1: 2024 | D1: T1 | E1: T2 | F1: T3 | G1: T4 | H1: 2025 | I1: 2026 | J1: 2027
A2: 6502 | C2: =C3+C29+C60+C87+C91 -> 1175 | D2: =D3+D29+D60+D87+D91 -> 586 | E2: =E3+E29+E60+E87+E91 -> 421 | F2: =F3+F29+F60+F87+F91 -> 91 | G2: =G3+G29+G60+G87+G91 -> 77 | H2: =H3+H29+H60+H91 -> 909 | I2: =I3+I29+I60+I91 -> 941 | J2: =J3+J29+J60+J91 -> 973 | K2: =K3+K29+K60+K87+K91 -> 1175
A3: 65020301 | C3: =C4+C24 -> 120 | D3: =D4+D24 -> 50 | E3: =E4+E24 -> 70 | F3: =F4+F24 -> 0 | G3: =G4+G24 -> 0 | H3: =H4+H24 -> 0 | I3: =I4+I24 -> 0 | J3: =J4+J24 -> 0 | K3: =SUM(D3:G3) -> 120
B4: 1 | C4: =C5+C20 -> 0 | D4: =D5+D20 -> 0 | E4: =E5+E20 -> 0 | F4: =F5+F20 -> 0 | G4: =G5+G20 -> 0 | H4: =H5+H20 -> 0 | I4: =I5+I20 -> 0 | J4: =J5+J20 -> 0 | K4: =SUM(D4:G4) -> 0
B5: 20 | C5: =C6+C13+C14+C16+C18+C19 -> 0 | D5: =D6+D13+D14+D16+D18+D19 -> 0 | E5: =E6+E13+E14+E16+E18+E19 -> 0 | F5: =F6+F13+F14+F16+F18+F19 -> 0 | G5: =G6+G13+G14+G16+G18+G19 -> 0 | H5: 0 | I5: 0 | J5: 0 | K5: =SUM(D5:G5) -> 0
B6: 2001 | C6: =SUM(C7:C12) -> 0 | D6: =SUM(D7:D12) -> 0 | E6: =SUM(E7:E12) -> 0 | F6: =SUM(F7:F12) -> 0 | G6: =SUM(G7:G12) -> 0 | H6: =SUM(H7:H12) -> 0 | I6: =SUM(I7:I12) -> 0 | J6: =SUM(J7:J12) -> 0 | K6: =SUM(D6:G6) -> 0
B7: 200101 | C7: =SUM(D7:G7) -> 0 | E7: 0 | K7: =SUM(D7:G7) -> 0
B8: 200102 | C8: =SUM(D8:G8) -> 0 | K8: =SUM(D8:G8) -> 0
B9: 200103 | C9: =SUM(D9:G9) -> 0 | E9: 0 | K9: =SUM(D9:G9) -> 0
B10: 200106 | C10: =SUM(D10:G10) -> 0 | K10: =SUM(D10:G10) -> 0
B11: 200107 | C11: =SUM(D11:G11) -> 0 | K11: =SUM(D11:G11) -> 0
B12: 200109 | C12: =SUM(D12:G12) -> 0 | K12: =SUM(D12:G12) -> 0
B13: 2002 | K13: =SUM(D13:G13) -> 0
B14: 2005 | C14: =C15 -> 0 | D14: =D15 -> 0 | E14: =E15 -> 0 | F14: =F15 -> 0 | G14: =G15 -> 0 | H14: =H15 -> 0 | I14: =I15 -> 0 | J14: =J15 -> 0 | K14: =SUM(D14:G14) -> 0
B15: 200530 | K15: =SUM(D15:G15) -> 0
B16: 2006 | C16: =C17 -> 0 | D16: =D17 -> 0 | E16: =E17 -> 0 | F16: =F17 -> 0 | G16: =G17 -> 0 | H16: =H17 -> 0 | I16: =I17 -> 0 | J16: =J17 -> 0 | K16: =SUM(D16:G16) -> 0
B17: 200601 | K17: =SUM(D17:G17) -> 0
B18: 2011 | K18: =SUM(D18:G18) -> 0
B19: 2013 | K19: =SUM(D19:G19) -> 0
B20: 57 | C20: =C21 -> 0 | D20: =D21 -> 0 | E20: =E21 -> 0 | F20: =F21 -> 0 | G20: =G21 -> 0 | H20: =H21 -> 0 | I20: =I21 -> 0 | J20: =J21 -> 0 | K20: =SUM(D20:G20) -> 0
B21: 5702 | C21: =SUM(C22:C23) -> 0 | D21: =SUM(D22:D23) -> 0 | E21: =SUM(E22:E23) -> 0 | F21: =SUM(F22:F23) -> 0 | G21: =SUM(G22:G23) -> 0 | H21: =SUM(H22:H23) -> 0 | I21: =SUM(I22:I23) -> 0 | J21: =SUM(J22:J23) -> 0 | K21: =SUM(D21:G21) -> 0
B22: 570201 | K22: =SUM(D22:G22) -> 0
B23: 570203 | K23: =SUM(D23:G23) -> 0
B24: 70 | C24: =C25 -> 120 | D24: =D25 -> 50 | E24: =E25 -> 70 | F24: =F25 -> 0 | G24: =G25 -> 0 | H24: =H25 -> 0 | I24: =I25 -> 0 | J24: =J25 -> 0 | K24: =SUM(D24:G24) -> 120
B25: 71 | C25: =C26 -> 120 | D25: =D26 -> 50 | E25: =E26 -> 70 | F25: =F26 -> 0 | G25: =G26 -> 0 | H25: =H26 -> 0 | I25: =I26 -> 0 | J25: =J26 -> 0 | K25: =SUM(D25:G25) -> 120
B26: 7101 | C26: =SUM(C27:C28) -> 120 | D26: =SUM(D27:D28) -> 50 | E26: =SUM(E27:E28) -> 70 | F26: =SUM(F27:F28) -> 0 | G26: =SUM(G27:G28) -> 0 | H26: =SUM(H27:H28) -> 0 | I26: =SUM(I27:I28) -> 0 | J26: =SUM(J27:J28) -> 0 | K26: =SUM(D26:G26) -> 120
B27: 710101 | C27: =D27+E27+F27+G27 -> 50 | D27: 50 | K27: =SUM(D27:G27) -> 50
B28: 710130 | C28: =D28+E28+F28+G28 -> 70 | E28: 70 | K28: =SUM(D28:G28) -> 70
A29: 65020302 | C29: =C30+C54 -> 191 | D29: =D30+D54 -> 141 | E29: =E30+E54 -> 50 | F29: =F30+F54 -> 0 | G29: =G30+G54 -> 0 | H29: =H30+H54 -> 0 | I29: =I30+I54 -> 0 | J29: =J30+J54 -> 0 | K29: =SUM(D29:G29) -> 191
B30: 1 | C30: =C31+C49+C53 -> 0 | D30: =D31+D49+D53 -> 0 | E30: =E31+E49+E53 -> 0 | F30: =F31+F49+F53 -> 0 | G30: =G31+G49+G53 -> 0 | H30: =H31+H49+H53 -> 0 | I30: =I31+I49+I53 -> 0 | J30: =J31+J49+J53 -> 0 | K30: =SUM(D30:G30) -> 0
B31: 20 | K31: =SUM(D31:G31) -> 0
B32: 2001 | K32: =SUM(D32:G32) -> 0
B33: 200101 | K33: =SUM(D33:G33) -> 0
B34: 200102 | K34: =SUM(D34:G34) -> 0
B35: 200103 | K35: =SUM(D35:G35) -> 0
B36: 200104 | K36: =SUM(D36:G36) -> 0
B37: 200106 | K37: =SUM(D37:G37) -> 0
B38: 200107 | K38: =SUM(D38:G38) -> 0
B39: 200108 | K39: =D39+E39+F39+G39 -> 0
B40: 200109 | K40: =SUM(D40:G40) -> 0
...

Sheet detalieri 67
C1: 2024 | D1: T1 | E1: T2 | F1: T3 | G1: T4 | H1: 2025 | I1: 2026 | J1: 2027
A2: 6702 | C2: =C3+C35 -> 1069 | D2: =D3+D35 -> 640 | E2: =E3+E35 -> 330 | F2: =F3+F35 -> 49 | G2: =G3+G35 -> 50 | H2: =H3+H35 -> 530 | I2: =I3+I35 -> 545 | J2: =J3+J35 -> 560 | K2: =SUM(D2:G2) -> 1069
B3: 1 | C3: =C4+C12+C33 -> 479 | D3: =D4+D12+D33 -> 250 | E3: =E4+E12+E33 -> 130 | F3: =F4+F12+F33 -> 49 | G3: =G4+G12+G33 -> 50 | H3: =H4+H12+H33 -> 530 | I3: =I4+I12+I33 -> 545 | J3: =J4+J12+J33 -> 560 | K3: =SUM(D3:G3) -> 479
B4: 10 | C4: =C5+C8+C10 -> 66 | D4: =D5+D8+D10 -> 7 | E4: =E5+E8+E10 -> 21 | F4: =F5+F8+F10 -> 19 | G4: =G5+G8+G10 -> 19 | H4: =H42 -> 70 | I4: =I42 -> 75 | J4: =J42 -> 80 | K4: =SUM(D4:G4) -> 66
B5: 1001 | C5: =SUM(C6:C7) -> 60 | D5: =SUM(D6:D7) -> 6 | E5: =SUM(E6:E7) -> 18 | F5: =SUM(F6:F7) -> 18 | G5: =SUM(G6:G7) -> 18 | K5: =SUM(D5:G5) -> 60
B6: 100101 | C6: =C44 -> 55 | D6: =D44 -> 5.5 | E6: =E44 -> 16.5 | F6: =F44 -> 16.5 | G6: =G44 -> 16.5 | K6: =SUM(D6:G6) -> 55
B7: 100117 | C7: =C45 -> 5 | D7: =D45 -> 0.5 | E7: =E45 -> 1.5 | F7: =F45 -> 1.5 | G7: =G45 -> 1.5 | K7: =SUM(D7:G7) -> 5
B8: 1002 | C8: =C9 -> 2 | D8: =D9 -> 0 | E8: =E9 -> 2 | F8: =F9 -> 0 | G8: =G9 -> 0
B9: 100206 | C9: =C47 -> 2 | D9: =D47 -> 0 | E9: =E47 -> 2 | F9: =F47 -> 0 | G9: =G47 -> 0
B10: 1003 | C10: =SUM(C11:C11) -> 4 | D10: =SUM(D11:D11) -> 1 | E10: =SUM(E11:E11) -> 1 | F10: =SUM(F11:F11) -> 1 | G10: =SUM(G11:G11) -> 1 | K10: =SUM(D10:G10) -> 4
B11: 100307 | C11: =C49 -> 4 | D11: =D49 -> 1 | E11: =E49 -> 1 | F11: =F49 -> 1 | G11: =G49 -> 1 | K11: =D11+E11+F11+G11 -> 4
B12: 20 | C12: =C13+C22+C23+C25+C29+C27+C28 -> 213 | D12: =D13+D22+D23+D25+D29+D27+D28 -> 93 | E12: =E13+E22+E23+E25+E29+E27+E28 -> 59 | F12: =F13+F22+F23+F25+F29+F27+F28 -> 30 | G12: =G13+G22+G23+G25+G29+G27+G28 -> 31 | H12: =H50+H58+H68+H81 -> 260 | I12: =I50+I58+I68+I81 -> 270 | J12: =J50+J58+J68+J81 -> 280 | K12: =SUM(D12:G12) -> 213
B13: 2001 | C13: =SUM(C14:C21) -> 108 | D13: =SUM(D14:D21) -> 41 | E13: =SUM(E14:E21) -> 24 | F13: =SUM(F14:F21) -> 19 | G13: =SUM(G14:G21) -> 24 | K13: =SUM(D13:G13) -> 108
B14: 200101 | C14: =C52 -> 1 | D14: =D52 -> 1 | E14: =E52 -> 0 | F14: =F52 -> 0 | G14: =G52 -> 0 | K14: =SUM(D14:G14) -> 1
B15: 200102 | C15: =C53 -> 1 | D15: =D53 -> 1 | E15: =E53 -> 0 | F15: =F53 -> 0 | K15: =SUM(D15:G15) -> 1
B16: 200103 | C16: =C60+C70 -> 46 | D16: =D60+D70 -> 17 | E16: =E60+E70 -> 10 | F16: =F60+F70 -> 7 | G16: =G60+G70 -> 12 | K16: =SUM(D16:G16) -> 46
B17: 200105 | K17: =SUM(D17:G17) -> 0
B18: 200106 | K18: =SUM(D18:G18) -> 0
B19: 200108 | K19: =SUM(D19:G19) -> 0
B20: 200109 | C20: =C61+C83 -> 40 | D20: =D61+D83 -> 17 | E20: =E61+E83 -> 9 | F20: =F61+F83 -> 7 | G20: =G61+G83 -> 7 | K20: =SUM(D20:G20) -> 40
B21: 200130 | C21: =C84 -> 20 | D21: =D84 -> 5 | E21: =E84 -> 5 | F21: =F84 -> 5 | G21: =G84 -> 5 | K21: =SUM(D21:G21) -> 20
B22: 2002 | C22: =C62+C71+C85 -> 35 | D22: =D62+D71+D85 -> 20 | E22: =E62+E71+E85 -> 15 | F22: =F62+F71+F85 -> 0 | G22: =G62+G71+G85 -> 0 | K22: =SUM(D22:G22) -> 35
B23: 2005 | C23: =C24 -> 10 | D23: =D24 -> 10 | E23: =E24 -> 0 | F23: =F24 -> 0 | G23: =G24 -> 0 | K23: =SUM(D23:G23) -> 10
B24: 200530 | C24: =C73 -> 10 | D24: =D73 -> 10 | E24: =E73 -> 0 | F24: =F73 -> 0 | G24: =G73 -> 0 | K24: =SUM(D24:G24) -> 10
B25: 2006 | C25: =C26 -> 1 | D25: =D26 -> 1 | E25: =E26 -> 0 | F25: =F26 -> 0 | G25: =G26 -> 0 | K25: =SUM(D25:G25) -> 1
B26: 200601 | C26: =C55 -> 1 | D26: =D55 -> 1 | E26: =E55 -> 0 | F26: =F55 -> 0 | G26: =G55 -> 0 | K26: =SUM(D26:G26) -> 1
B27: 2011 | C27: =C56 -> 3 | D27: =D56 -> 0 | E27: =E56 -> 0 | F27: =F56 -> 3 | G27: =G56 -> 0 | K27: =SUM(D27:G27) -> 3
B28: 2013 | C28: =C57 -> 1 | D28: =D57 -> 1 | E28: =E57 -> 0 | F28: =F57 -> 0 | G28: =G57 -> 0 | K28: =SUM(D28:G28) -> 1
B29: 2030 | C29: =SUM(C30:C32) -> 55 | D29: =SUM(D30:D32) -> 20 | E29: =SUM(E30:E32) -> 20 | F29: =SUM(F30:F32) -> 8 | G29: =SUM(G30:G32) -> 7 | K29: =SUM(D29:G29) -> 55
B30: 203001 | K30: =SUM(D30:G30) -> 0
B31: 203002 | K31: =SUM(D31:G31) -> 0
B32: 203030 | C32: =C75+C87 -> 55 | D32: =D75+D87 -> 20 | E32: =E75+E87 -> 20 | F32: =F75+F87 -> 8 | G32: =G75+G87 -> 7 | K32: =SUM(D32:G32) -> 55
B33: 59 | C33: =C34 -> 200 | D33: =D34 -> 150 | E33: =E34 -> 50 | F33: =F34 -> 0 | G33: =G34 -> 0 | H33: 200 | I33: 200 | J33: 200 | K33: =SUM(D33:G33) -> 200
B34: 5912 | C34: =C107 -> 200 | D34: =D107 -> 150 | E34: =E107 -> 50 | F34: =F107 -> 0 | G34: =G107 -> 0 | K34: =SUM(D34:G34) -> 200
B35: 70 | C35: =C36 -> 590 | D35: =D36 -> 390 | E35: =E36 -> 200 | F35: =F36 -> 0 | G35: =G36 -> 0 | K35: =SUM(D35:G35) -> 590
B36: 71 | C36: =C37 -> 590 | D36: =D37 -> 390 | E36: =E37 -> 200 | F36: =F37 -> 0 | G36: =G37 -> 0 | H36: 0 | I36: 0 | J36: 0 | K36: =SUM(D36:G36) -> 590
B37: 7101 | C37: =C38+C39 -> 590 | D37: =D38+D39 -> 390 | E37: =E38+E39 -> 200 | F37: =F38+F39 -> 0 | G37: =G38+G39 -> 0 | K37: =SUM(D37:G37) -> 590
B38: 710101 | C38: =D38+E38+F38+G38 -> 550 | D38: =D66+D79+D91+D111 -> 350 | E38: =E66+E79+E91+E111 -> 200 | F38: =F66+F79+F91+F111 -> 0 | G38: =G66+G79+G91+G111 -> 0 | K38: =SUM(D38:G38) -> 550
B39: 710130 | C39: =D39+E39+F39+G39 -> 40 | D39: =D67+D80+D92+D112 -> 40 | E39: =E67+E80+E92+E112 -> 0 | F39: =F67+F80+F92+F112 -> 0 | G39: =G67+G80+G92+G112 -> 0 | K39: =SUM(D39:G39) -> 40
A40: 67020302 | C40: =C41 -> 73 | D40: =D41 -> 11 | E40: =E41 -> 21 | F40: =F41 -> 22 | G40: =G41 -> 19 | H40: =H41+H95 -> 80 | I40: =I41+I95 -> 85 | J40: =J41+J95 -> 90 | K40: =SUM(D40:G40) -> 73
...

Sheet detalieri 70
C1: 2024 | D1: T1 | E1: T2 | F1: T3 | G1: T4 | H1: 2025 | I1: 2026 | J1: 2027
A2: 7002 | C2: =C3+C11 -> 856 | D2: =D3+D11 -> 424 | E2: =E3+E11 -> 409 | F2: =F3+F11 -> 18 | G2: =G3+G11 -> 5 | H2: =H3+H12 -> 520 | I2: =I3+I12 -> 520 | J2: =J3+J12 -> 310 | K2: =SUM(D2:G2) -> 856
A3: 700206 | C3: =C4+C6+C7+C8 -> 290 | D3: =D4+D6+D7+D8 -> 130 | E3: =E4+E6+E7+E8 -> 160 | F3: =F4+F6+F7+F8 -> 0 | G3: =G4+G6+G7+G8 -> 0 | H3: 300 | I3: 300 | J3: 150 | K3: =SUM(D3:G3) -> 290
B4: 2001 | C4: =C5 -> 80 | D4: =D5 -> 50 | E4: =E5 -> 30 | F4: =F5 -> 0 | G4: =G5 -> 0 | K4: =SUM(D4:G4) -> 80
B5: 200103 | C5: =D5+E5+F5+G5 -> 80 | D5: 50 | E5: 30 | F5: 0 | G5: 0 | K5: =SUM(D5:G5) -> 80
B6: 2002 | C6: =D6+E6+F6+G6 -> 100 | D6: 50 | E6: 50 | K6: =SUM(D6:G6) -> 100
B7: 203030 | C7: =D7+E7+F7+G7 -> 60 | D7: 30 | E7: 30 | K7: =SUM(D7:G7) -> 60
B8: 70 | C8: =C9 -> 50 | D8: =D9 -> 0 | E8: =E9 -> 50 | F8: =F9 -> 0 | G8: =G9 -> 0 | H8: 0 | I8: 0 | J8: 0
B9: 7001 | C9: =C10 -> 50 | D9: =D10 -> 0 | E9: =E10 -> 50 | F9: =F10 -> 0 | G9: =G10 -> 0
B10: 700101 | C10: =D10+E10+F10+G10 -> 50 | E10: 50
A11: 700250 | C11: =C12+C22 -> 566 | D11: =D12+D22 -> 294 | E11: =E12+E22 -> 249 | F11: =F12+F22 -> 18 | G11: =G12+G22 -> 5 | H11: =H12+H22 -> 220 | I11: =I12+I22 -> 220 | J11: =J12+J22 -> 160 | K11: =SUM(D11:G11) -> 566
B12: 20 | C12: =C13+C17+C18+C20 -> 220 | D12: =D13+D17+D18+D20 -> 168 | E12: =E13+E17+E18+E20 -> 29 | F12: =F13+F17+F18+F20 -> 18 | G12: =G13+G17+G18+G20 -> 5 | H12: 220 | I12: 220 | J12: 160 | K12: =SUM(D12:G12) -> 220
B13: 2001 | C13: =C14+C15+C16 -> 80 | D13: =D14+D15+D16 -> 28 | E13: =E14+E15+E16 -> 29 | F13: =F14+F15+F16 -> 18 | G13: =G14+G15+G16 -> 5 | K13: =SUM(D13:G13) -> 80
B14: 200105 | C14: =D14+E14+F14+G14 -> 30 | D14: 10 | E14: 10 | F14: 10 | G14: 0 | K14: =SUM(D14:G14) -> 30
B15: 200106 | C15: =D15+E15+F15+G15 -> 10 | D15: 3 | E15: 4 | F15: 3 | K15: =SUM(D15:G15) -> 10
B16: 200109 | C16: =D16+E16+F16+G16 -> 40 | D16: 15 | E16: 15 | F16: 5 | G16: 5 | K16: =SUM(D16:G16) -> 40
B17: 2002 | C17: =D17+E17+F17+G17 -> 50 | D17: 50 | E17: 0 | K17: =D17+E17+F17+G17 -> 50
B18: 2005 | C18: =C19 -> 20 | D18: =D19 -> 20 | E18: =E19 -> 0 | F18: =F19 -> 0 | G18: =G19 -> 0 | K18: =K19 -> 20
B19: 200530 | C19: =D19+E19+F19+G19 -> 20 | D19: 20 | E19: 0 | F19: 0 | K19: =SUM(D19:G19) -> 20
B20: 2030 | C20: =C21 -> 70 | D20: =D21 -> 70 | E20: =E21 -> 0 | F20: =F21 -> 0 | G20: =G21 -> 0 | K20: =SUM(D20:G20) -> 70
B21: 203030 | C21: =D21+E21+F21+G21 -> 70 | D21: 70 | E21: 0 | F21: 0 | K21: =SUM(D21:G21) -> 70
B22: 70 | C22: =C23 -> 346 | D22: =D23 -> 126 | E22: =E23 -> 220 | F22: =F23 -> 0 | G22: =G23 -> 0 | H22: 0 | I22: 0 | J22: 0 | K22: =SUM(D22:G22) -> 346
B23: 7001 | C23: =C24+C25+C26 -> 346 | D23: =D24+D25+D26 -> 126 | E23: =E24+E25+E26 -> 220 | F23: =F24+F25+F26 -> 0 | G23: =G24+G25+G26 -> 0 | K23: =SUM(D23:G23) -> 346
B24: 700101 | C24: =D24+E24+F24+G24 -> 240 | D24: 20 | E24: 220 | K24: =SUM(D24:G24) -> 240
B25: 710102 | C25: =D25+E25+F25+G25 -> 0 | K25: =SUM(D25:G25) -> 0
B26: 700130 | C26: =D26+E26+F26+G26 -> 106 | D26: 106 | K26: =SUM(D26:G26) -> 106

Sheet detalieri 74
C1: 2024 | D1: T1 | E1: T2 | F1: T3 | G1: T4 | H1: 2025 | I1: 2026 | J1: 2027
A2: 7402 | C2: =C3+C9 -> 1210 | D2: =D3+D9 -> 645 | E2: =E3+E9 -> 535 | F2: =F3+F9 -> 15 | G2: =G3+G9 -> 15 | H2: =H3+H12 -> 202 | I2: =I3+I12 -> 210 | J2: =J3+J12 -> 215 | K2: =SUM(D2:G2) -> 1210
A3: 74020501 | C3: =C5+C8+C7 -> 150 | D3: =D5+D8+D7 -> 105 | E3: =E5+E8+E7 -> 15 | F3: =F5+F8+F7 -> 15 | G3: =G5+G8+G7 -> 15 | H3: =H4+H8 -> 202 | I3: =I4+I8 -> 210 | J3: =J4+J8 -> 215 | K3: =SUM(D3:G3) -> 150
B4: 20 | C4: =C5+C7 -> 90 | D4: =D5+D7 -> 90 | E4: =E5+E7 -> 0 | F4: =F5+F7 -> 0 | G4: =G5+G7 -> 0 | H4: 142 | I4: 150 | J4: 155 | K4: =D4+E4+F4+G4 -> 90
B5: 2001 | C5: =C6 -> 10 | D5: =D6 -> 10 | E5: =E6 -> 0 | F5: =F6 -> 0 | G5: =G6 -> 0 | K5: =SUM(D5:G5) -> 10
B6: 200109 | C6: =D6+E6+F6+G6 -> 10 | D6: 10 | E6: 0 | K6: =SUM(D6:G6) -> 10
B7: 203030 | C7: =D7+E7+F7+G7 -> 80 | D7: 80 | E7: 0 | F7: 0 | G7: 0 | K7: =D7+E7+F7+G7 -> 80
B8: 5911 | C8: =D8+E8+F8+G8 -> 60 | D8: 15 | E8: 15 | F8: 15 | G8: 15 | H8: 60 | I8: 60 | J8: 60 | K8: =SUM(D8:G8) -> 60
A9: 740206 | C9: =C10+C12 -> 1060 | D9: =D10+D12 -> 540 | E9: =E10+E12 -> 520 | F9: =F10+F12 -> 0 | G9: =G10+G12 -> 0 | H9: =H13 -> 0 | I9: =I13 -> 0 | J9: =J13 -> 0 | K9: =SUM(D9:G9) -> 1060
B10: 58 | C10: =C11 -> 0 | D10: =D11 -> 0 | E10: =E11 -> 0 | F10: =F11 -> 0 | G10: =G11 -> 0 | K10: =SUM(D10:G10) -> 0
B11: 580402 | C11: =D11+E11+F11+G11 -> 0 | D11: 0 | E11: 0 | K11: =SUM(D11:G11) -> 0
B12: 7101 | C12: =SUM(D12:G12) -> 1060 | D12: =D13+D14 -> 540 | E12: =E13+E14 -> 520 | F12: =F13+F14 -> 0 | G12: =G13+G14 -> 0 | H12: =H13 -> 0 | I12: =I13 -> 0 | J12: =J13 -> 0 | K12: =SUM(D12:G12) -> 1060
B13: 710101 | C13: =D13+E13+F13+G13 -> 850 | D13: 390 | E13: 460 | K13: =SUM(D13:G13) -> 850
B14: 710130 | C14: =D14+E14+F14+G14 -> 210 | D14: 150 | E14: 60 | K14: =SUM(D14:G14) -> 210
K15: =SUM(D15:G15) -> 0
K16: =SUM(D16:G16) -> 0

Sheet detalieri 83
C1: 2024 | D1: T1 | E1: T2 | F1: T3 | G1: T4 | H1: 2025 | I1: 2026 | J1: 2027
A2: 8302 | C2: =C3 -> 0 | D2: =D3 -> 0 | E2: =E3 -> 0 | F2: =F3 -> 0 | G2: =G3 -> 0 | H2: 0 | I2: 0 | J2: 0 | K2: =SUM(D2:G2) -> 0
A3: 83020330 | C3: =C4+C6 -> 0 | D3: =D4+D6 -> 0 | E3: =E4+E6 -> 0 | F3: =F4+F6 -> 0 | G3: =G4+G6 -> 0 | K3: =SUM(D3:G3) -> 0
B4: 2001 | C4: =C5 -> 0 | D4: =D5 -> 0 | E4: =E5 -> 0 | F4: =F5 -> 0 | G4: =G5 -> 0 | K4: =SUM(D4:G4) -> 0
B5: 200109 | C5: 0 | D5: 0 | E5: 0 | F5: 0 | G5: 0 | K5: =SUM(D5:G5) -> 0
B6: 70 | C6: =C7 -> 0 | D6: =D7 -> 0 | E6: =E7 -> 0 | F6: =F7 -> 0 | G6: =G7 -> 0 | K6: =SUM(D6:G6) -> 0
B7: 7101 | C7: =C8 -> 0 | D7: =D8 -> 0 | E7: =E8 -> 0 | F7: =F8 -> 0 | G7: =G8 -> 0 | K7: =SUM(D7:G7) -> 0
B8: 710130 | C8: 0 | D8: 0 | K8: =SUM(D8:G8) -> 0

Sheet detalieri 84
C1: 2024 | D1: T1 | E1: T2 | F1: T3 | G1: T4 | H1: 2025 | I1: 2026 | J1: 2027
A2: 8402 | C2: =C3+C6 -> 2039 | D2: =D3+D6 -> 1189 | E2: =E3+E6 -> 850 | F2: =F3+F6 -> 0 | G2: =G3+G6 -> 0 | H2: =H3+H6 -> 100 | I2: =I3+I6 -> 110 | J2: =J3+J6 -> 120 | K2: =K3+K6 -> 2039
A3: 84020303 | B3: 20 | C3: =C4+C5 -> 83 | D3: =D4+D5 -> 33 | E3: =E4+E5 -> 50 | F3: =F4+F5 -> 0 | G3: =G4+G5 -> 0 | H3: 100 | I3: 110 | J3: 120 | K3: =SUM(D3:G3) -> 83
B4: 2002 | C4: =D4+E4+F4+G4 -> 53 | D4: 33 | E4: 20 | F4: 0 | G4: 0
B5: 203030 | C5: =D5+E5+F5+G5 -> 30 | D5: 0 | E5: 30
B6: 71 | C6: =C7 -> 1956 | D6: =D7 -> 1156 | E6: =E7 -> 800 | F6: =F7 -> 0 | G6: =G7 -> 0 | H6: =H7 -> 0 | I6: =I7 -> 0 | J6: =J7 -> 0 | K6: =SUM(D6:G6) -> 1956
B7: 7101 | C7: =C8+C9 -> 1956 | D7: =D8+D9 -> 1156 | E7: =E8+E9 -> 800 | F7: =F8+F9 -> 0 | G7: =G8+G9 -> 0 | H7: =H8+H9 -> 0 | I7: =I8+I9 -> 0 | J7: =J8+J9 -> 0 | K7: =SUM(D7:G7) -> 1956
B8: 710101 | C8: =D8+E8+F8+G8 -> 1509 | D8: 759 | E8: 750 | H8: 0 | I8: 0 | J8: 0 | K8: =SUM(D8:G8) -> 1509
B9: 710130 | C9: =D9+E9+F9+G9 -> 447 | D9: 397 | E9: 50 | K9: =SUM(D9:G9) -> 447

Sheet DETALIERI 68
C1: 2024 | D1: T1 | E1: T2 | F1: T3 | G1: T4 | H1: 2025 | I1: 2026 | J1: 2027
A2: 6802 | C2: =C3 -> 4207 | D2: =D3 -> 1131 | E2: =E3 -> 1275 | F2: =F3 -> 828 | G2: =G3 -> 973 | H2: =H4+H12+H14 -> 4440 | I2: =I4+I12+I14 -> 4640 | J2: =J4+J12+J14 -> 4940 | K2: =SUM(D2:G2) -> 4207
B3: 1 | C3: =C4+C12+C14 -> 4207 | D3: =D4+D12+D14 -> 1131 | E3: =E4+E12+E14 -> 1275 | F3: =F4+F12+F14 -> 828 | G3: =G4+G12+G14 -> 973 | H3: =H4+H12+H14 -> 4440 | I3: =I4+I12+I14 -> 4640 | J3: =J4+J12+J14 -> 4940 | K3: =SUM(D3:G3) -> 4207
B4: 10 | C4: =C19 -> 2178 | D4: =D19 -> 477 | E4: =E19 -> 620 | F4: =F19 -> 543 | G4: =G19 -> 538 | H4: =H19 -> 2300 | I4: =I19 -> 2400 | J4: =J19 -> 2500 | K4: =SUM(D4:G4) -> 2178
B5: 1001 | C5: =C6+C7 -> 2047 | D5: =SUM(D6:D7) -> 466 | E5: =SUM(E6:E7) -> 528 | F5: =SUM(F6:F7) -> 530 | G5: =SUM(G6:G7) -> 523 | K5: =SUM(D5:G5) -> 2047
B6: 100101 | C6: =C21 -> 1865 | D6: =D21 -> 425 | E6: =E21 -> 480 | F6: =F21 -> 480 | G6: =G21 -> 480 | K6: =SUM(D6:G6) -> 1865
B7: 100117 | C7: =C22 -> 182 | D7: =D22 -> 41 | E7: =E22 -> 48 | F7: =F22 -> 50 | G7: =G22 -> 43 | K7: =SUM(D7:G7) -> 182
B8: 1002 | D8: =D23 -> 0 | E8: =E23 -> 80 | F8: =F23 -> 0 | G8: =G23 -> 0 | K8: =SUM(D8:G8) -> 80
B9: 100206 | D9: =D24 -> 0 | E9: =E24 -> 80 | F9: =F24 -> 0 | G9: =G24 -> 0 | K9: =SUM(D9:G9) -> 80
B10: 1003 | C10: =C11 -> 51 | D10: =SUM(D11:D11) -> 11 | E10: =SUM(E11:E11) -> 12 | F10: =SUM(F11:F11) -> 13 | G10: =SUM(G11:G11) -> 15 | K10: =SUM(D10:G10) -> 51
B11: 100307 | C11: =C26 -> 51 | D11: =D26 -> 11 | E11: =E26 -> 12 | F11: =F26 -> 13 | G11: =G26 -> 15 | K11: =SUM(D11:G11) -> 51
B12: 20 | C12: =C27 -> 60 | D12: =D27 -> 15 | E12: =E27 -> 15 | F12: =F27 -> 15 | G12: =G27 -> 15 | H12: =H27 -> 60 | I12: =I27 -> 60 | J12: =J27 -> 60 | K12: =SUM(D12:G12) -> 60
B13: 200109 | C13: =C27 -> 60 | D13: =D27 -> 15 | E13: =E27 -> 15 | F13: =F27 -> 15 | G13: =G27 -> 15
B14: 57 | C14: =C15 -> 1969 | D14: =D15 -> 639 | E14: =E15 -> 640 | F14: =F15 -> 270 | G14: =G15 -> 420 | H14: =H29+H37 -> 2080 | I14: =I29+I37 -> 2180 | J14: =J29+J37 -> 2380 | K14: =SUM(D14:G14) -> 1969
B15: 5702 | C15: =C30+C34+C38 -> 1969 | D15: =D30+D34+D38 -> 639 | E15: =E30+E34+E38 -> 640 | F15: =F30+F34+F38 -> 270 | G15: =G30+G34+G38 -> 420 | H15: =H30+H34+H38 -> 2080 | I15: =I30+I34+I38 -> 2180 | J15: =J30+J34+J38 -> 2380 | K15: =SUM(D15:G15) -> 1969
B16: 570201 | C16: =C31+C35+C39 -> 1969 | D16: =D31+D35+D39 -> 639 | E16: =E31+E35+E39 -> 640 | F16: =F31+F35+F39 -> 270 | G16: =G31+G35+G39 -> 420 | H16: =H31+H35+H39 -> 2080 | I16: =I31+I35+I39 -> 2180 | J16: =J31+J35+J39 -> 2380 | K16: =SUM(D16:G16) -> 1969
A17: 68020502 | C17: =C18 -> 4108 | D17: =D18 -> 1092 | E17: =E18 -> 1255 | F17: =F18 -> 808 | G17: =G18 -> 953 | H17: =H18 -> 4360 | I17: =I18 -> 4560 | J17: =J18 -> 4860 | K17: =SUM(D17:G17) -> 4108
B18: 1 | C18: =C19+C27+C29 -> 4108 | D18: =D19+D27+D29 -> 1092 | E18: =E19+E27+E29 -> 1255 | F18: =F19+F27+F29 -> 808 | G18: =G19+G27+G29 -> 953 | H18: =H19+H27+H29 -> 4360 | I18: =I19+I27+I29 -> 4560 | J18: =J19+J27+J29 -> 4860 | K18: =SUM(D18:G18) -> 4108
B19: 10 | C19: =C20+C23+C25 -> 2178 | D19: =D20+D23+D25 -> 477 | E19: =E20+E23+E25 -> 620 | F19: =F20+F23+F25 -> 543 | G19: =G20+G23+G25 -> 538 | H19: 2300 | I19: 2400 | J19: 2500 | K19: =SUM(D19:G19) -> 2178
B20: 1001 | C20: =C21+C22 -> 2047 | D20: =D21+D22 -> 466 | E20: =E21+E22 -> 528 | F20: =F21+F22 -> 530 | G20: =G21+G22 -> 523 | K20: =SUM(D20:G20) -> 2047
B21: 100101 | C21: =D21+E21+F21+G21 -> 1865 | D21: 425 | E21: 480 | F21: 480 | G21: 480 | K21: =SUM(D21:G21) -> 1865
B22: 100117 | C22: =D22+E22+F22+G22 -> 182 | D22: 41 | E22: 48 | F22: 50 | G22: 43 | K22: =SUM(D22:G22) -> 182
B23: 1002 | C23: =C24 -> 80 | D23: =D24 -> 0 | E23: =E24 -> 80 | F23: =F24 -> 0 | G23: =G24 -> 0 | K23: =SUM(D23:G23) -> 80
B24: 100206 | C24: =D24+E24+F24+G24 -> 80 | E24: 80 | K24: =SUM(D24:G24) -> 80
B25: 1003 | C25: =C26 -> 51 | D25: =D26 -> 11 | E25: =E26 -> 12 | F25: =F26 -> 13 | G25: =G26 -> 15 | K25: =SUM(D25:G25) -> 51
B26: 100307 | C26: =D26+E26+F26+G26 -> 51 | D26: 11 | E26: 12 | F26: 13 | G26: 15 | K26: =SUM(D26:G26) -> 51
B27: 20 | C27: =C28 -> 60 | D27: =D28 -> 15 | E27: =E28 -> 15 | F27: =F28 -> 15 | G27: =G28 -> 15 | H27: 60 | I27: 60 | J27: 60 | K27: =D27+E27+F27+G27 -> 60
B28: 200109 | C28: =D28+E28+F28+G28 -> 60 | D28: 15 | E28: 15 | F28: 15 | G28: 15 | K28: =D28+E28+F28+G28 -> 60
B29: 57 | C29: =C30 -> 1870 | D29: =D30 -> 600 | E29: =E30 -> 620 | F29: =F30 -> 250 | G29: =G30 -> 400 | H29: =H30 -> 2000 | I29: =I30 -> 2100 | J29: =J30 -> 2300 | K29: =SUM(D29:G29) -> 1870
B30: 5702 | C30: =C31 -> 1870 | D30: =D31 -> 600 | E30: =E31 -> 620 | F30: =F31 -> 250 | G30: =G31 -> 400 | H30: =H31 -> 2000 | I30: =I31 -> 2100 | J30: =J31 -> 2300 | K30: =SUM(D30:G30) -> 1870
B31: 570201 | C31: =D31+E31+F31+G31 -> 1870 | D31: 600 | E31: 620 | F31: 250 | G31: 400 | H31: 2000 | I31: 2100 | J31: 2300 | K31: =SUM(D31:J31) -> 8270
A32: 68021501 | C32: =C33 -> 19 | D32: =D33 -> 19 | E32: =E33 -> 0 | F32: =F33 -> 0 | G32: =G33 -> 0 | H32: =H33 -> 0 | I32: =I33 -> 0 | J32: =J33 -> 0 | K32: =SUM(D32:G32) -> 19
B33: 57 | C33: =C34 -> 19 | D33: =D34 -> 19 | E33: =E34 -> 0 | F33: =F34 -> 0 | G33: =G34 -> 0 | H33: =H34 -> 0 | I33: =I34 -> 0 | J33: =J34 -> 0 | K33: =SUM(D33:G33) -> 19
B34: 5702 | C34: =C35 -> 19 | D34: =D35 -> 19 | E34: =E35 -> 0 | F34: =F35 -> 0 | G34: =G35 -> 0 | H34: =H35 -> 0 | I34: =I35 -> 0 | J34: =J35 -> 0 | K34: =SUM(D34:G34) -> 19
B35: 570201 | C35: =D35+E35+F35+G35 -> 19 | D35: 19 | E35: 0 | F35: 0 | G35: 0 | K35: =SUM(D35:G35) -> 19
A36: 68025050 | K36: =SUM(D36:G36) -> 0
B37: 57 | C37: =C38 -> 80 | D37: =D38 -> 20 | E37: =E38 -> 20 | F37: =F38 -> 20 | G37: =G38 -> 20 | H37: =H38 -> 80 | I37: =I38 -> 80 | J37: =J38 -> 80 | K37: =SUM(D37:G37) -> 80
B38: 5702 | C38: =C39 -> 80 | D38: =D39 -> 20 | E38: =E39 -> 20 | F38: =F39 -> 20 | G38: =G39 -> 20 | H38: =H39 -> 80 | I38: =I39 -> 80 | J38: =J39 -> 80 | K38: =SUM(D38:G38) -> 80
B39: 570201 | C39: =D39+E39+F39+G39 -> 80 | D39: 20 | E39: 20 | F39: 20 | G39: 20 | H39: 80 | I39: 80 | J39: 80 | K39: =SUM(D39:J39) -> 320

Sheet TOTALURI
A1: TOTAL CHELT. | B1: 2024 | C1: T1 | D1: T2 | E1: T3 | F1: T4 | G1: 2025 | H1: 2026 | I1: 2027
A2: 51 | B2: ='DETALIERI 51, 61, 65, 66'!C17 -> 5206 | C2: ='DETALIERI 51, 61, 65, 66'!D17 -> 1511 | D2: ='DETALIERI 51, 61, 65, 66'!E17 -> 1561 | E2: ='DETALIERI 51, 61, 65, 66'!F17 -> 1084 | F2: ='DETALIERI 51, 61, 65, 66'!G17 -> 1050 | G2: ='DETALIERI 51, 61, 65, 66'!H17 -> 5200 | H2: ='DETALIERI 51, 61, 65, 66'!I17 -> 5350 | I2: ='DETALIERI 51, 61, 65, 66'!J17 -> 5550 | J2: =SUM(C2:F2) -> 5206
A3: 54 | B3: ='DETALIERI 51, 61, 65, 66'!C65 -> 50 | C3: ='DETALIERI 51, 61, 65, 66'!D65 -> 0 | D3: ='DETALIERI 51, 61, 65, 66'!E65 -> 20 | E3: ='DETALIERI 51, 61, 65, 66'!F65 -> 20 | F3: ='DETALIERI 51, 61, 65, 66'!G65 -> 10 | G3: ='DETALIERI 51, 61, 65, 66'!H65 -> 0 | H3: ='DETALIERI 51, 61, 65, 66'!I65 -> 0 | I3: ='DETALIERI 51, 61, 65, 66'!J65 -> 0 | J3: =SUM(C3:F3) -> 50
A4: 61 | B4: ='DETALIERI 51, 61, 65, 66'!C69 -> 31 | C4: ='DETALIERI 51, 61, 65, 66'!D69 -> 11 | D4: ='DETALIERI 51, 61, 65, 66'!E69 -> 9 | E4: ='DETALIERI 51, 61, 65, 66'!F69 -> 6 | F4: ='DETALIERI 51, 61, 65, 66'!G69 -> 5 | G4: ='DETALIERI 51, 61, 65, 66'!H69 -> 144 | H4: ='DETALIERI 51, 61, 65, 66'!I69 -> 111 | I4: ='DETALIERI 51, 61, 65, 66'!J69 -> 122 | J4: =SUM(C4:F4) -> 31
A5: 65 | B5: ='DETALIERI 51, 61, 65, 66'!C79 -> 1175 | C5: ='DETALIERI 51, 61, 65, 66'!D79 -> 586 | D5: ='DETALIERI 51, 61, 65, 66'!E79 -> 421 | E5: ='DETALIERI 51, 61, 65, 66'!F79 -> 91 | F5: ='DETALIERI 51, 61, 65, 66'!G79 -> 77 | G5: ='DETALIERI 51, 61, 65, 66'!H79 -> 909 | H5: ='DETALIERI 51, 61, 65, 66'!I79 -> 941 | I5: ='DETALIERI 51, 61, 65, 66'!J79 -> 973 | J5: =SUM(C5:F5) -> 1175
A6: 66 | B6: ='DETALIERI 51, 61, 65, 66'!C110 -> 81 | C6: ='DETALIERI 51, 61, 65, 66'!D110 -> 20 | D6: ='DETALIERI 51, 61, 65, 66'!E110 -> 22 | E6: ='DETALIERI 51, 61, 65, 66'!F110 -> 20 | F6: ='DETALIERI 51, 61, 65, 66'!G110 -> 19 | G6: ='DETALIERI 51, 61, 65, 66'!H110 -> 88 | H6: ='DETALIERI 51, 61, 65, 66'!I110 -> 90 | I6: ='DETALIERI 51, 61, 65, 66'!J110 -> 92 | J6: =SUM(C6:F6) -> 81
A7: 67 | B7: ='detalieri 67'!C2 -> 1069 | C7: ='detalieri 67'!D2 -> 640 | D7: ='detalieri 67'!E2 -> 330 | E7: ='detalieri 67'!F2 -> 49 | F7: ='detalieri 67'!G2 -> 50 | G7: ='detalieri 67'!H2 -> 530 | H7: ='detalieri 67'!I2 -> 545 | I7: ='detalieri 67'!J2 -> 560 | J7: =SUM(C7:F7) -> 1069
A8: 68 | B8: ='DETALIERI 68'!C2 -> 4207 | C8: ='DETALIERI 68'!D2 -> 1131 | D8: ='DETALIERI 68'!E2 -> 1275 | E8: ='DETALIERI 68'!F2 -> 828 | F8: ='DETALIERI 68'!G2 -> 973 | G8: ='DETALIERI 68'!H2 -> 4440 | H8: ='DETALIERI 68'!I2 -> 4640 | I8: ='DETALIERI 68'!J2 -> 4940 | J8: =SUM(C8:F8) -> 4207
A9: 70 | B9: ='detalieri 70'!C2 -> 856 | C9: ='detalieri 70'!D2 -> 424 | D9: ='detalieri 70'!E2 -> 409 | E9: ='detalieri 70'!F2 -> 18 | F9: ='detalieri 70'!G2 -> 5 | G9: ='detalieri 70'!H2 -> 520 | H9: ='detalieri 70'!I2 -> 520 | I9: ='detalieri 70'!J2 -> 310 | J9: =SUM(C9:F9) -> 856
A10: 74 | B10: ='detalieri 74'!C2 -> 1210 | C10: ='detalieri 74'!D2 -> 645 | D10: ='detalieri 74'!E2 -> 535 | E10: ='detalieri 74'!F2 -> 15 | F10: ='detalieri 74'!G2 -> 15 | G10: ='detalieri 74'!H2 -> 202 | H10: ='detalieri 74'!I2 -> 210 | I10: ='detalieri 74'!J2 -> 215 | J10: =SUM(C10:F10) -> 1210
A11: 83 | B11: ='detalieri 83'!C2 -> 0 | C11: ='detalieri 83'!D2 -> 0 | D11: ='detalieri 83'!E2 -> 0 | E11: ='detalieri 83'!F2 -> 0 | F11: ='detalieri 83'!G2 -> 0 | G11: ='detalieri 83'!H2 -> 0 | H11: ='detalieri 83'!I2 -> 0 | I11: ='detalieri 83'!J2 -> 0 | J11: =SUM(C11:F11) -> 0
A12: 84 | B12: ='detalieri 84'!C2 -> 2039 | C12: ='detalieri 84'!D2 -> 1189 | D12: ='detalieri 84'!E2 -> 850 | E12: ='detalieri 84'!F2 -> 0 | F12: ='detalieri 84'!G2 -> 0 | G12: ='detalieri 84'!H2 -> 100 | H12: ='detalieri 84'!I2 -> 110 | I12: ='detalieri 84'!J2 -> 120 | J12: =SUM(C12:F12) -> 2039
A13: TOTAL | B13: =SUM(B2:B12) -> 15924 | C13: =SUM(C2:C12) -> 6157 | D13: =SUM(D2:D12) -> 5432 | E13: =SUM(E2:E12) -> 2131 | F13: =SUM(F2:F12) -> 2204 | G13: =SUM(G2:G12) -> 12133 | H13: =SUM(H2:H12) -> 12517 | I13: =SUM(I2:I12) -> 12882 | J13: =SUM(C13:F13) -> 15924
J14: =SUM(C14:F14) -> 0
J15: =SUM(C15:F15) -> 0
A16: VENITURI functionare | B16: =C16+D16+E16+F16 -> 11451 | C16: 3694 | D16: 3422 | E16: 2131 | F16: 2204 | G16: 12133 | H16: 12517 | I16: 12882 | J16: =C16+D16+E16+F16 -> 11451
A17: EXCEDENT | B17: =C17+D17+E17+F17 -> 3387 | C17: 1597 | D17: 1790 | J17: =SUM(C17:F17) -> 3387
A18: viramente | B18: =C18+D18+E18+F18 -> 470 | C18: 250 | D18: 220 | J18: =SUM(C18:F18) -> 470
A19: sume primite | B19: =C19+D19+E19+F19 -> 616 | C19: 616 | J19: =SUM(C19:F19) -> 616
A20: TOTAL | B20: =B16+B17+B18+B19 -> 15924 | C20: =C16+C17+C18+C19 -> 6157 | D20: =D16+D17+D18+D19 -> 5432 | E20: =E16+E17+E18+E19 -> 2131 | F20: =F16+F17+F18+F19 -> 2204 | G20: =G16+G17+G19 -> 12133 | H20: =H16+H17+H19 -> 12517 | I20: =I16+I17+I19 -> 12882 | J20: =SUM(C20:F20) -> 15924
J21: =SUM(C21:F21) -> 0
B22: =B13-B20 -> 0 | C22: =C13-C20 -> 0 | D22: =D13-D20 -> 0 | E22: =E13-E20 -> 0 | F22: =F13-F20 -> 0 | G22: =G13-G20 -> 0 | H22: =H13-H20 -> 0 | I22: =I13-I20 -> 0 | J22: =SUM(C22:F22) -> 0

Sheet anexa 2
A1: JUDETUL DAMBOVITA
A2: COMUNA ION LUCA CARAGIALE
C3: ANEXA NR.2
C4: PRIVIND CHELTUIELILE PE SECTIUNI ALE BUGETULUI LOCAL
C5: PENTRU ANUL 2024
F6: mii lei
A7: Cod | B7: Denumire indicator | C7: Program 2024 | D7: Sectiunea functionare | E7: Sectiunea dezvoltare | F7: Estimari 2025 | G7: Estimari 2026 | H7: Estimari 2027
A8: 50 02 | B8: TOTAL CHELTUIELI BUGET LOCAL | C8: =C9+C58+C60+C69+C100+C114+C152+C170+C188+C205 -> 15924 | D8: =D9+D58+D60+D69+D100+D114+D152+D170+D188+D205 -> 11451 | E8: =E9+E60+E69+E100+E114+E152+E170+E188+E205 -> 4473 | F8: =F9+F60+F69+F100+F114+F152+F170+F188+F205+F58 -> 12133 | G8: =G9+G60+G69+G100+G114+G152+G170+G188+G205+G58 -> 12517 | H8: =H9+H60+H69+H100+H114+H152+H170+H188+H205+H58 -> 12882
A9: 51 02 | B9: AUTORITATI PUBLICE SI ACTIUNI EXTERNE | C9: =C10 -> 5206 | D9: =D10 -> 5056 | E9: =E10 -> 150 | F9: =F10 -> 5200 | G9: =G10 -> 5350 | H9: =H10 -> 5550
A10: 51 02 01 03 | B10: Autoritati executive | C10: =C11+C51 -> 5206 | D10: =D11+D51 -> 5056 | E10: =E11+E51 -> 150 | F10: =F11+F51 -> 5200 | G10: =G11+G51 -> 5350 | H10: =H11+H51 -> 5550
A11: 51 02 01 | B11: Cheltuieli curente | C11: =C12+C27+C49 -> 5056 | D11: =D12+D27+D49 -> 5056 | E11: =E12+E27 -> 0 | F11: =F12+F27+F49 -> 5200 | G11: =G12+G27+G49 -> 5350 | H11: =H12+H27+H49 -> 5550
A12: 51 02 10 | B12: Cheltuieli de personal | C12: =C13+C18+C20 -> 4076 | D12: =D13+D18+D20 -> 4076 | E12: 0 | F12: ='DETALIERI 51, 61, 65, 66'!H19 -> 4200 | G12: ='DETALIERI 51, 61, 65, 66'!I19 -> 4300 | H12: ='DETALIERI 51, 61, 65, 66'!J19 -> 4400
A13: 51 02 10 01 | B13: Cheltuieli salariale in bani | C13: =C14+C15+C16+C17 -> 3916 | D13: =D14+D15+D16+D17 -> 3916 | E13: =SUM(E14:E15) -> 0 | F13: =SUM(F14:F15) -> 0 | G13: =SUM(G14:G15) -> 0 | H13: =SUM(H14:H15) -> 0
A14: 51 02 10 01 01 | B14: Salarii de baza | C14: =D14 -> 3510 | D14: ='DETALIERI 51, 61, 65, 66'!C21 -> 3510 | E14: 0
A15: 51 02 10 01 12 | B15: Indemnizatii in afara unitatii | C15: =D15 -> 226 | D15: ='DETALIERI 51, 61, 65, 66'!C22 -> 226
A16: 51 02 10 01 17 | B16: Indemnizatia de hrana | C16: =D16 -> 130 | D16: ='DETALIERI 51, 61, 65, 66'!C23 -> 130
A17: 51 02 10 01 30 | B17: Hotarari judecatoresti | C17: =D17 -> 50 | D17: ='DETALIERI 51, 61, 65, 66'!C24 -> 50
A18: 51 02 10 02 | B18: Cheltuieli salariale in natura | C18: =D18 -> 55 | D18: =D19 -> 55
A19: 51 02 10 02 06 | B19: Vouchere de vacanta | C19: =D19 -> 55 | D19: ='DETALIERI 51, 61, 65, 66'!C26 -> 55
A20: 51 02 10 03 | B20: Contributii | C20: =D20 -> 105 | D20: =SUM(D21:D26) -> 105 | E20: =SUM(E21:E25) -> 0 | F20: =SUM(F21:F25) -> 0 | G20: =SUM(G21:G25) -> 0 | H20: =SUM(H21:H25) -> 0
A21: 51 02 10 03 01 | B21: Contributii de asigurari sociale de stat | C21: =D21 -> 0 | D21: ='DETALIERI 51, 61, 65, 66'!C28 -> 0
A22: 51 02 10 03 02 | B22: Contributii de asigurari de somaj | C22: =D22 -> 0 | D22: ='DETALIERI 51, 61, 65, 66'!C29 -> 0
A23: 51 02 10 03 03 | B23: Contributii de asigurari sociale de sanatate | C23: =D23 -> 0 | D23: ='DETALIERI 51, 61, 65, 66'!C30 -> 0
A24: 51 02 10 03 04 | B24: Contributii de asigurari pt.accid.de munca si boli prof. | C24: =D24 -> 0 | D24: ='DETALIERI 51, 61, 65, 66'!C31 -> 0
A25: 51 02 10 03 06 | B25: Contributii pt.concedii si indemnizatii | C25: =D25 -> 0 | D25: ='DETALIERI 51, 61, 65, 66'!C32 -> 0
A26: 51 02 10 03 07 | B26: Contributia asiguratorie pentru munca | C26: =D26 -> 105 | D26: ='DETALIERI 51, 61, 65, 66'!C33 -> 105
A27: 51 02 20 | B27: Bunuri si servicii | C27: =D27 -> 930 | D27: =D28+D39+D40+D42+D45+D44 -> 930 | F27: ='DETALIERI 51, 61, 65, 66'!H34 -> 950 | G27: ='DETALIERI 51, 61, 65, 66'!I34 -> 1000 | H27: ='DETALIERI 51, 61, 65, 66'!J34 -> 1100
A28: 51 02 20 01 | B28: Bunuri si servicii | C28: =D28 -> 552 | D28: =SUM(D29:D38) -> 552 | E28: =SUM(E29:E38) -> 0 | F28: =SUM(F29:F38) -> 0 | G28: =SUM(G29:G38) -> 0 | H28: =SUM(H29:H38) -> 0
A29: 51 02 20 01 01 | B29: Furnituri de birou | C29: =D29 -> 50 | D29: ='DETALIERI 51, 61, 65, 66'!C36 -> 50
A30: 51 02 20 01 02 | B30: Materiale de curatenie | C30: =D30 -> 23 | D30: ='DETALIERI 51, 61, 65, 66'!C37 -> 23
A31: 51 02 20 01 03 | B31: Incalzit, iluminat | C31: =D31 -> 84 | D31: ='DETALIERI 51, 61, 65, 66'!C38 -> 84
A32: 51 02 20 01 04 | B32: Apa,canal | C32: =D32 -> 8 | D32: ='DETALIERI 51, 61, 65, 66'!C39 -> 8
A33: 51 02 20 01 05 | B33: Carburanti si lubrifianti | C33: =D33 -> 40 | D33: ='DETALIERI 51, 61, 65, 66'!C40 -> 40
A34: 51 02 20 01 06 | B34: Piese de schimb | C34: =D34 -> 10 | D34: ='DETALIERI 51, 61, 65, 66'!C41 -> 10
A35: 51 02 20 01 07 | B35: Transport | D35: ='DETALIERI 51, 61, 65, 66'!C42 -> 32
A36: 51 02 20 01 08 | B36: Posta, telecomunicatii, radio, TV, internet | C36: =D36 -> 55 | D36: ='DETALIERI 51, 61, 65, 66'!C43 -> 55
A37: 51 02 20 01 09 | B37: Materiale si prestari de servicii cu caracter functional | C37: =D37 -> 150 | D37: ='DETALIERI 51, 61, 65, 66'!C44 -> 150
A38: 51 02 20 01 30 | B38: Alte bunuri si servicii pt.intretinere si functionare | C38: =D38 -> 100 | D38: ='DETALIERI 51, 61, 65, 66'!C45 -> 100
A39: 51 02 20 02 | B39: Reparatii curente | C39: =D39 -> 60 | D39: ='DETALIERI 51, 61, 65, 66'!C46 -> 60
A40: 51 02 20 05 | B40: Bunuri de natura obiectelor de inventar | C40: =D40 -> 50 | D40: =D41 -> 50 | E40: =E41 -> 0 | F40: =F41 -> 0 | G40: =G41 -> 0 | H40: =H41 -> 0
...

Sheet TOTAL PE ARTICOLE
B1: TOTAL | C1: I | D1: II | E1: III | F1: IV
B2: 2024 | C2: TRIM. I | D2: TRIM. II | E2: TRIM. III | F2: TRIM. IV | G2: ESTIMAT 2025 | H2: ESTIMAT 2026 | I2: ESTIMAT 2027
A3: 10 TOTAL | B3: =B4+B11+B13 -> 6400 | C3: =C4+C11+C13 -> 1449.5 | D3: =D4+D11+D13 -> 1784.5 | E3: =E4+E11+E13 -> 1596 | F3: =F4+F11+F13 -> 1570 | G3: ='DETALIERI 51, 61, 65, 66'!H19+'DETALIERI 51, 61, 65, 66'!H111+'detalieri 67'!H4+'DETALIERI 68'!H19 -> 6655 | H3: ='DETALIERI 51, 61, 65, 66'!I19+'DETALIERI 51, 61, 65, 66'!I111+'detalieri 67'!I4+'DETALIERI 68'!I19 -> 6862 | I3: ='DETALIERI 51, 61, 65, 66'!J19+'DETALIERI 51, 61, 65, 66'!J111+'detalieri 67'!J4+'DETALIERI 68'!J19 -> 7069 | J3: =SUM(C3:F3) -> 6400
A4: 10 01 | B4: =SUM(B5:B10) -> 6099 | C4: =SUM(C5:C10) -> 1416 | D4: =SUM(D5:D10) -> 1602 | E4: =SUM(E5:E10) -> 1554.5 | F4: =SUM(F5:F10) -> 1526.5 | G4: =SUM(G5:G10) -> 0 | H4: =SUM(H5:H10) -> 0 | I4: =SUM(I5:I10) -> 0 | J4: =SUM(C4:F4) -> 6099
A5: 10 01 01 | B5: ='DETALIERI 51, 61, 65, 66'!C21+'DETALIERI 51, 61, 65, 66'!C113+'detalieri 67'!C6+'DETALIERI 68'!C21 -> 5490.3 | C5: ='DETALIERI 51, 61, 65, 66'!D21+'DETALIERI 51, 61, 65, 66'!D113+'detalieri 67'!D6+'DETALIERI 68'!D21 -> 1285.5 | D5: ='DETALIERI 51, 61, 65, 66'!E21+'DETALIERI 51, 61, 65, 66'!E113+'detalieri 67'!E6+'DETALIERI 68'!E21 -> 1411.8 | E5: ='DETALIERI 51, 61, 65, 66'!F21+'DETALIERI 51, 61, 65, 66'!F113+'detalieri 67'!F6+'DETALIERI 68'!F21 -> 1411.5 | F5: ='DETALIERI 51, 61, 65, 66'!G21+'DETALIERI 51, 61, 65, 66'!G113+'detalieri 67'!G6+'DETALIERI 68'!G21 -> 1381.5 | J5: =SUM(C5:F5) -> 5490.3
A6: 10 01 05 | B6: ='DETALIERI 51, 61, 65, 66'!C114 -> 4.3 | C6: ='DETALIERI 51, 61, 65, 66'!D114 -> 1 | D6: ='DETALIERI 51, 61, 65, 66'!E114 -> 1.1 | E6: ='DETALIERI 51, 61, 65, 66'!F114 -> 1.1 | F6: ='DETALIERI 51, 61, 65, 66'!G114 -> 1.1
A7: 10 01 06 | B7: ='DETALIERI 51, 61, 65, 66'!C115 -> 6 | C7: ='DETALIERI 51, 61, 65, 66'!D115 -> 1.5 | D7: ='DETALIERI 51, 61, 65, 66'!E115 -> 1.5 | E7: ='DETALIERI 51, 61, 65, 66'!F115 -> 1.5 | F7: ='DETALIERI 51, 61, 65, 66'!G115 -> 1.5
A8: 10 01 12 | B8: ='DETALIERI 51, 61, 65, 66'!C22 -> 226 | C8: ='DETALIERI 51, 61, 65, 66'!D22 -> 55 | D8: ='DETALIERI 51, 61, 65, 66'!E22 -> 57 | E8: ='DETALIERI 51, 61, 65, 66'!F22 -> 57 | F8: ='DETALIERI 51, 61, 65, 66'!G22 -> 57 | J8: =SUM(C8:F8) -> 226
A9: 10 01 17 | B9: ='DETALIERI 51, 61, 65, 66'!C23+'DETALIERI 51, 61, 65, 66'!C116+'detalieri 67'!C45+'DETALIERI 68'!C22 -> 322.4 | C9: ='DETALIERI 51, 61, 65, 66'!D23+'DETALIERI 51, 61, 65, 66'!D116+'detalieri 67'!D45+'DETALIERI 68'!D7 -> 73 | D9: ='DETALIERI 51, 61, 65, 66'!E23+'DETALIERI 51, 61, 65, 66'!E116+'detalieri 67'!E45+'DETALIERI 68'!E7 -> 80.6 | E9: ='DETALIERI 51, 61, 65, 66'!F23+'DETALIERI 51, 61, 65, 66'!F116+'detalieri 67'!F45+'DETALIERI 68'!F7 -> 83.4 | F9: ='DETALIERI 51, 61, 65, 66'!G23+'DETALIERI 51, 61, 65, 66'!G116+'detalieri 67'!G45+'DETALIERI 68'!G7 -> 85.4 | J9: =SUM(C9:F9) -> 322.4
A10: 10 01 30 | B10: ='DETALIERI 51, 61, 65, 66'!C24 -> 50 | C10: ='DETALIERI 51, 61, 65, 66'!D24 -> 0 | D10: ='DETALIERI 51, 61, 65, 66'!E24 -> 50 | E10: ='DETALIERI 51, 61, 65, 66'!F24 -> 0 | F10: ='DETALIERI 51, 61, 65, 66'!G24 -> 0 | J10: =SUM(C10:F10) -> 50
A11: 10 02 | B11: =B12 -> 139 | C11: =C12 -> 0 | D11: =D12 -> 139 | E11: =E12 -> 0 | F11: =F12 -> 0 | J11: =SUM(C11:F11) -> 139
A12: 10 02 06 | B12: ='DETALIERI 51, 61, 65, 66'!C26+'DETALIERI 51, 61, 65, 66'!C118+'detalieri 67'!C47+'DETALIERI 68'!C24 -> 139 | C12: ='DETALIERI 51, 61, 65, 66'!D26+'DETALIERI 51, 61, 65, 66'!D118+'detalieri 67'!D47+'DETALIERI 68'!D24 -> 0 | D12: ='DETALIERI 51, 61, 65, 66'!E26+'DETALIERI 51, 61, 65, 66'!E118+'detalieri 67'!E47+'DETALIERI 68'!E24 -> 139 | E12: ='DETALIERI 51, 61, 65, 66'!F26+'DETALIERI 51, 61, 65, 66'!F118+'detalieri 67'!F47+'DETALIERI 68'!F24 -> 0 | F12: ='DETALIERI 51, 61, 65, 66'!G26+'DETALIERI 51, 61, 65, 66'!G118+'detalieri 67'!G47+'DETALIERI 68'!G24 -> 0 | J12: =SUM(C12:F12) -> 139
A13: 10 03 | B13: =SUM(B14:B19) -> 162 | C13: =SUM(C14:C19) -> 33.5 | D13: =SUM(D14:D19) -> 43.5 | E13: =SUM(E14:E19) -> 41.5 | F13: =SUM(F14:F19) -> 43.5 | G13: =SUM(G14:G18) -> 0 | H13: =SUM(H14:H18) -> 0 | I13: =SUM(I14:I18) -> 0 | J13: =SUM(C13:F13) -> 162
A14: 10 03 01 | B14: ='DETALIERI 51, 61, 65, 66'!C28 -> 0 | C14: ='DETALIERI 51, 61, 65, 66'!D28 -> 0 | D14: ='DETALIERI 51, 61, 65, 66'!E28 -> 0 | E14: ='DETALIERI 51, 61, 65, 66'!F28 -> 0 | F14: ='DETALIERI 51, 61, 65, 66'!G28 -> 0 | J14: =SUM(C14:F14) -> 0
A15: 10 03 02 | B15: ='DETALIERI 51, 61, 65, 66'!C29 -> 0 | C15: ='DETALIERI 51, 61, 65, 66'!D29 -> 0 | D15: ='DETALIERI 51, 61, 65, 66'!E29 -> 0 | E15: ='DETALIERI 51, 61, 65, 66'!F29 -> 0 | F15: ='DETALIERI 51, 61, 65, 66'!G29 -> 0 | J15: =SUM(C15:F15) -> 0
A16: 10 03 03 | B16: ='DETALIERI 51, 61, 65, 66'!C30 -> 0 | C16: ='DETALIERI 51, 61, 65, 66'!D30 -> 0 | D16: ='DETALIERI 51, 61, 65, 66'!E30 -> 0 | E16: ='DETALIERI 51, 61, 65, 66'!F30 -> 0 | F16: ='DETALIERI 51, 61, 65, 66'!G30 -> 0 | J16: =SUM(C16:F16) -> 0
A17: 10 03 04 | B17: ='DETALIERI 51, 61, 65, 66'!C31 -> 0 | C17: ='DETALIERI 51, 61, 65, 66'!D31 -> 0 | D17: ='DETALIERI 51, 61, 65, 66'!E31 -> 0 | E17: ='DETALIERI 51, 61, 65, 66'!F31 -> 0 | F17: ='DETALIERI 51, 61, 65, 66'!G31 -> 0 | J17: =SUM(C17:F17) -> 0
A18: 10 03 06 | B18: ='DETALIERI 51, 61, 65, 66'!C32 -> 0 | C18: ='DETALIERI 51, 61, 65, 66'!D32 -> 0 | D18: ='DETALIERI 51, 61, 65, 66'!E32 -> 0 | E18: ='DETALIERI 51, 61, 65, 66'!F32 -> 0 | F18: ='DETALIERI 51, 61, 65, 66'!G32 -> 0 | J18: =SUM(C18:F18) -> 0
A19: 10 03 07 | B19: ='DETALIERI 51, 61, 65, 66'!C33+'DETALIERI 51, 61, 65, 66'!C120+'detalieri 67'!C11+'DETALIERI 68'!C26 -> 162 | C19: ='DETALIERI 51, 61, 65, 66'!D33+'DETALIERI 51, 61, 65, 66'!D120+'detalieri 67'!D11+'DETALIERI 68'!D26 -> 33.5 | D19: ='DETALIERI 51, 61, 65, 66'!E33+'DETALIERI 51, 61, 65, 66'!E120+'detalieri 67'!E11+'DETALIERI 68'!E26 -> 43.5 | E19: ='DETALIERI 51, 61, 65, 66'!F33+'DETALIERI 51, 61, 65, 66'!F120+'detalieri 67'!F11+'DETALIERI 68'!F26 -> 41.5 | F19: ='DETALIERI 51, 61, 65, 66'!G33+'DETALIERI 51, 61, 65, 66'!G120+'detalieri 67'!G11+'DETALIERI 68'!G26 -> 43.5 | J19: =SUM(C19:F19) -> 162
A20: 20 | B20: =B21+B32+B33+B35+B37+B39+B40+B41 -> 2614 | C20: =C21+C32+C33+C35+C37+C39+C40+C41 -> 1325.5 | D20: =D21+D32+D33+D35+D37+D39+D40+D41 -> 867.5 | E20: =E21+E32+E33+E35+E37+E39+E40+E41 -> 234 | F20: =F21+F32+F33+F35+F37+F39+F40+F41 -> 187 | G20: ='DETALIERI 51, 61, 65, 66'!H34+'DETALIERI 51, 61, 65, 66'!H65+'DETALIERI 51, 61, 65, 66'!H71+'DETALIERI 51, 61, 65, 66'!H81+'detalieri 67'!H12+'detalieri 70'!H2+'detalieri 74'!H4+'detalieri 84'!H2 -> 2816 | H20: ='DETALIERI 51, 61, 65, 66'!I34+'DETALIERI 51, 61, 65, 66'!I65+'DETALIERI 51, 61, 65, 66'!I71+'DETALIERI 51, 61, 65, 66'!I81+'detalieri 67'!I12+'detalieri 70'!I2+'detalieri 74'!I4+'detalieri 84'!I2 -> 2881 | I20: ='DETALIERI 51, 61, 65, 66'!J34+'DETALIERI 51, 61, 65, 66'!J65+'DETALIERI 51, 61, 65, 66'!J71+'DETALIERI 51, 61, 65, 66'!J81+'detalieri 67'!J12+'detalieri 70'!J2+'detalieri 74'!J4+'detalieri 84'!J2 -> 2827 | J20: =SUM(C20:F20) -> 2614
A21: 2001 | B21: =SUM(B22:B31) -> 1500 | C21: =SUM(C22:C31) -> 688 | D21: =SUM(D22:D31) -> 476 | E21: =SUM(E22:E31) -> 171 | F21: =SUM(F22:F31) -> 165 | G21: =SUM(G22:G31) -> 0 | H21: =SUM(H22:H31) -> 0 | I21: =SUM(I22:I31) -> 0 | J21: =SUM(C21:F21) -> 1500
A22: 200101 | B22: ='DETALIERI 51, 61, 65, 66'!C36+'DETALIERI 51, 61, 65, 66'!C83+'detalieri 67'!C14 -> 81 | C22: ='DETALIERI 51, 61, 65, 66'!D36+'DETALIERI 51, 61, 65, 66'!D83+'detalieri 67'!D14 -> 41 | D22: ='DETALIERI 51, 61, 65, 66'!E36+'DETALIERI 51, 61, 65, 66'!E83+'detalieri 67'!E14 -> 20 | E22: ='DETALIERI 51, 61, 65, 66'!F36+'DETALIERI 51, 61, 65, 66'!F83+'detalieri 67'!F14 -> 10 | F22: ='DETALIERI 51, 61, 65, 66'!G36+'DETALIERI 51, 61, 65, 66'!G83+'detalieri 67'!G14 -> 10 | J22: =SUM(C22:F22) -> 81
A23: 200102 | B23: ='DETALIERI 51, 61, 65, 66'!C37+'DETALIERI 51, 61, 65, 66'!C84+'detalieri 67'!C15 -> 54 | C23: ='DETALIERI 51, 61, 65, 66'!D37+'DETALIERI 51, 61, 65, 66'!D84+'detalieri 67'!D15 -> 26 | D23: ='DETALIERI 51, 61, 65, 66'!E37+'DETALIERI 51, 61, 65, 66'!E84+'detalieri 67'!E15 -> 15 | E23: ='DETALIERI 51, 61, 65, 66'!F37+'DETALIERI 51, 61, 65, 66'!F84+'detalieri 67'!F15 -> 5 | F23: ='DETALIERI 51, 61, 65, 66'!G37+'DETALIERI 51, 61, 65, 66'!G84+'detalieri 67'!G15 -> 8 | J23: =SUM(C23:F23) -> 54
A24: 200103 | B24: ='DETALIERI 51, 61, 65, 66'!C38+'DETALIERI 51, 61, 65, 66'!C85+'detalieri 67'!C16+'detalieri 70'!C5 -> 405 | C24: ='DETALIERI 51, 61, 65, 66'!D38+'DETALIERI 51, 61, 65, 66'!D85+'detalieri 67'!D16+'detalieri 70'!D5 -> 232 | D24: ='DETALIERI 51, 61, 65, 66'!E38+'DETALIERI 51, 61, 65, 66'!E85+'detalieri 67'!E16+'detalieri 70'!E5 -> 120 | E24: ='DETALIERI 51, 61, 65, 66'!F38+'DETALIERI 51, 61, 65, 66'!F85+'detalieri 67'!F16+'detalieri 70'!F5 -> 17 | F24: ='DETALIERI 51, 61, 65, 66'!G38+'DETALIERI 51, 61, 65, 66'!G85+'detalieri 67'!G16+'detalieri 70'!G5 -> 36 | J24: =SUM(C24:F24) -> 405
A25: 200104 | B25: ='DETALIERI 51, 61, 65, 66'!C39+'DETALIERI 51, 61, 65, 66'!C86 -> 13 | C25: ='DETALIERI 51, 61, 65, 66'!D39+'DETALIERI 51, 61, 65, 66'!D86 -> 4 | D25: ='DETALIERI 51, 61, 65, 66'!E39+'DETALIERI 51, 61, 65, 66'!E86 -> 4 | E25: ='DETALIERI 51, 61, 65, 66'!F39+'DETALIERI 51, 61, 65, 66'!F86 -> 3 | F25: ='DETALIERI 51, 61, 65, 66'!G39+'DETALIERI 51, 61, 65, 66'!G86 -> 2 | J25: =C25+D25+E25+F25 -> 13
A26: 200105 | B26: ='DETALIERI 51, 61, 65, 66'!C40+'DETALIERI 51, 61, 65, 66'!C73+'detalieri 70'!C14 -> 74 | C26: ='DETALIERI 51, 61, 65, 66'!D40+'DETALIERI 51, 61, 65, 66'!D73+'detalieri 70'!D14 -> 31 | D26: ='DETALIERI 51, 61, 65, 66'!E40+'DETALIERI 51, 61, 65, 66'!E73+'detalieri 70'!E14 -> 31 | E26: ='DETALIERI 51, 61, 65, 66'!F40+'DETALIERI 51, 61, 65, 66'!F73+'detalieri 70'!F14 -> 11 | F26: ='DETALIERI 51, 61, 65, 66'!G40+'DETALIERI 51, 61, 65, 66'!G73+'detalieri 70'!G14 -> 1 | J26: =SUM(C26:F26) -> 74
A27: 200106 | B27: ='DETALIERI 51, 61, 65, 66'!C41+'DETALIERI 51, 61, 65, 66'!C74+'DETALIERI 51, 61, 65, 66'!C87+'detalieri 70'!C15 -> 48 | C27: ='DETALIERI 51, 61, 65, 66'!D41+'DETALIERI 51, 61, 65, 66'!D74+'DETALIERI 51, 61, 65, 66'!D87+'detalieri 70'!D15 -> 18 | D27: ='DETALIERI 51, 61, 65, 66'!E41+'DETALIERI 51, 61, 65, 66'!E74+'DETALIERI 51, 61, 65, 66'!E87+'detalieri 70'!E15 -> 18 | E27: ='DETALIERI 51, 61, 65, 66'!F41+'DETALIERI 51, 61, 65, 66'!F74+'DETALIERI 51, 61, 65, 66'!F87+'detalieri 70'!F15 -> 8 | F27: ='DETALIERI 51, 61, 65, 66'!G41+'DETALIERI 51, 61, 65, 66'!G74+'DETALIERI 51, 61, 65, 66'!G87+'detalieri 70'!G15 -> 4 | J27: =SUM(C27:F27) -> 48
A28: 200107 | B28: ='DETALIERI 51, 61, 65, 66'!C88+'DETALIERI 51, 61, 65, 66'!C42 -> 137 | C28: ='DETALIERI 51, 61, 65, 66'!D88+'DETALIERI 51, 61, 65, 66'!D42 -> 53 | D28: ='DETALIERI 51, 61, 65, 66'!E88+'DETALIERI 51, 61, 65, 66'!E42 -> 53 | E28: ='DETALIERI 51, 61, 65, 66'!F88+'DETALIERI 51, 61, 65, 66'!F42 -> 8 | F28: ='DETALIERI 51, 61, 65, 66'!G88+'DETALIERI 51, 61, 65, 66'!G42 -> 23 | J28: =SUM(C28:F28) -> 137
A29: 200108 | B29: ='DETALIERI 51, 61, 65, 66'!C43+'DETALIERI 51, 61, 65, 66'!C89 -> 64 | C29: ='DETALIERI 51, 61, 65, 66'!D43+'DETALIERI 51, 61, 65, 66'!D89 -> 23 | D29: ='DETALIERI 51, 61, 65, 66'!E43+'DETALIERI 51, 61, 65, 66'!E89 -> 18 | E29: ='DETALIERI 51, 61, 65, 66'!F43+'DETALIERI 51, 61, 65, 66'!F89 -> 23 | F29: ='DETALIERI 51, 61, 65, 66'!G43+'DETALIERI 51, 61, 65, 66'!G89 -> 0 | J29: =SUM(C29:F29) -> 64
A30: 200109 | B30: ='DETALIERI 51, 61, 65, 66'!C44+'DETALIERI 51, 61, 65, 66'!C75+'DETALIERI 51, 61, 65, 66'!C90+'detalieri 67'!C20+'detalieri 70'!C16+'detalieri 74'!C6+'DETALIERI 68'!C13 -> 384 | C30: ='DETALIERI 51, 61, 65, 66'!D44+'DETALIERI 51, 61, 65, 66'!D75+'DETALIERI 51, 61, 65, 66'!D90+'detalieri 67'!D20+'detalieri 70'!D16+'detalieri 74'!D6+'DETALIERI 68'!D13 -> 180 | D30: ='DETALIERI 51, 61, 65, 66'!E44+'DETALIERI 51, 61, 65, 66'!E75+'DETALIERI 51, 61, 65, 66'!E90+'detalieri 67'!E20+'detalieri 70'!E16+'detalieri 74'!E6+'DETALIERI 68'!E13 -> 102 | E30: ='DETALIERI 51, 61, 65, 66'!F44+'DETALIERI 51, 61, 65, 66'!F75+'DETALIERI 51, 61, 65, 66'!F90+'detalieri 67'!F20+'detalieri 70'!F16+'detalieri 74'!F6+'DETALIERI 68'!F13 -> 56 | F30: ='DETALIERI 51, 61, 65, 66'!G44+'DETALIERI 51, 61, 65, 66'!G75+'DETALIERI 51, 61, 65, 66'!G90+'detalieri 67'!G20+'detalieri 70'!G16+'detalieri 74'!G6+'DETALIERI 68'!G13 -> 46 | J30: =SUM(C30:F30) -> 384
A31: 200130 | B31: ='DETALIERI 51, 61, 65, 66'!C45+'DETALIERI 51, 61, 65, 66'!C91+'detalieri 67'!C21 -> 240 | C31: ='DETALIERI 51, 61, 65, 66'!D45+'DETALIERI 51, 61, 65, 66'!D91+'detalieri 67'!D21 -> 80 | D31: ='DETALIERI 51, 61, 65, 66'!E45+'DETALIERI 51, 61, 65, 66'!E91+'detalieri 67'!E21 -> 95 | E31: ='DETALIERI 51, 61, 65, 66'!F45+'DETALIERI 51, 61, 65, 66'!F91+'detalieri 67'!F21 -> 30 | F31: ='DETALIERI 51, 61, 65, 66'!G45+'DETALIERI 51, 61, 65, 66'!G91+'detalieri 67'!G21 -> 35 | J31: =SUM(C31:F31) -> 240
A32: 2002 | B32: ='DETALIERI 51, 61, 65, 66'!C46+'DETALIERI 51, 61, 65, 66'!C92+'detalieri 67'!C22+'detalieri 70'!C6+'detalieri 70'!C17+'detalieri 84'!C4 -> 338 | C32: ='DETALIERI 51, 61, 65, 66'!D46+'DETALIERI 51, 61, 65, 66'!D92+'detalieri 67'!D22+'detalieri 70'!D6+'detalieri 70'!D17+'detalieri 84'!D4 -> 183 | D32: ='DETALIERI 51, 61, 65, 66'!E46+'DETALIERI 51, 61, 65, 66'!E92+'detalieri 67'!E22+'detalieri 70'!E6+'detalieri 70'!E17+'detalieri 84'!E4 -> 135 | E32: ='DETALIERI 51, 61, 65, 66'!F46+'DETALIERI 51, 61, 65, 66'!F92+'detalieri 67'!F22+'detalieri 70'!F6+'detalieri 70'!F17+'detalieri 84'!F4 -> 20 | F32: ='DETALIERI 51, 61, 65, 66'!G46+'DETALIERI 51, 61, 65, 66'!G92+'detalieri 67'!G22+'detalieri 70'!G6+'detalieri 70'!G17+'detalieri 84'!G4 -> 0 | J32: =SUM(C32:F32) -> 338
A33: 20 04 | B33: ='DETALIERI 51, 61, 65, 66'!C123 -> 1 | C33: ='DETALIERI 51, 61, 65, 66'!D123 -> 0.5 | D33: ='DETALIERI 51, 61, 65, 66'!E123 -> 0.5 | E33: ='DETALIERI 51, 61, 65, 66'!F123 -> 0 | F33: ='DETALIERI 51, 61, 65, 66'!G123 -> 0
A34: 20 04 02 | B34: ='DETALIERI 51, 61, 65, 66'!C123 -> 1 | C34: ='DETALIERI 51, 61, 65, 66'!D123 -> 0.5 | D34: ='DETALIERI 51, 61, 65, 66'!E123 -> 0.5
A35: 2005 | B35: =B36 -> 125 | C35: =C36 -> 75 | D35: =D36 -> 50 | E35: =E36 -> 0 | F35: =F36 -> 0 | G35: =G36 -> 0 | H35: =H36 -> 0 | I35: =I36 -> 0 | J35: =SUM(C35:F35) -> 125
A36: 200530 | B36: ='DETALIERI 51, 61, 65, 66'!C48+'DETALIERI 51, 61, 65, 66'!C94+'detalieri 67'!C24+'detalieri 70'!C19 -> 125 | C36: ='DETALIERI 51, 61, 65, 66'!D48+'DETALIERI 51, 61, 65, 66'!D94+'detalieri 67'!D24+'detalieri 70'!D19 -> 75 | D36: ='DETALIERI 51, 61, 65, 66'!E48+'DETALIERI 51, 61, 65, 66'!E94+'detalieri 67'!E24+'detalieri 70'!E19 -> 50 | E36: ='DETALIERI 51, 61, 65, 66'!F48+'DETALIERI 51, 61, 65, 66'!F94+'detalieri 67'!F24+'detalieri 70'!F19 -> 0 | F36: ='DETALIERI 51, 61, 65, 66'!G48+'DETALIERI 51, 61, 65, 66'!G94+'detalieri 67'!G24+'detalieri 70'!G19 -> 0 | J36: =SUM(C36:F36) -> 125
A37: 2006 | B37: =B38 -> 12 | C37: =C38 -> 3 | D37: =D38 -> 2 | E37: =E38 -> 2 | F37: =F38 -> 5 | G37: =G38 -> 0 | H37: =H38 -> 0 | I37: =I38 -> 0 | J37: =SUM(C37:F37) -> 12
A38: 200601 | B38: ='DETALIERI 51, 61, 65, 66'!C50+'DETALIERI 51, 61, 65, 66'!C95+'detalieri 67'!C26 -> 12 | C38: ='DETALIERI 51, 61, 65, 66'!D50+'DETALIERI 51, 61, 65, 66'!D95+'detalieri 67'!D26 -> 3 | D38: ='DETALIERI 51, 61, 65, 66'!E50+'DETALIERI 51, 61, 65, 66'!E95+'detalieri 67'!E26 -> 2 | E38: ='DETALIERI 51, 61, 65, 66'!F50+'DETALIERI 51, 61, 65, 66'!F95+'detalieri 67'!F26 -> 2 | F38: ='DETALIERI 51, 61, 65, 66'!G50+'DETALIERI 51, 61, 65, 66'!G95+'detalieri 67'!G26 -> 5 | G38: ='DETALIERI 51, 61, 65, 66'!H50+'DETALIERI 51, 61, 65, 66'!H95+'detalieri 67'!H26 -> 0 | H38: ='DETALIERI 51, 61, 65, 66'!I50+'DETALIERI 51, 61, 65, 66'!I95+'detalieri 67'!I26 -> 0 | I38: ='DETALIERI 51, 61, 65, 66'!J50+'DETALIERI 51, 61, 65, 66'!J95+'detalieri 67'!J26 -> 0 | J38: =SUM(C38:F38) -> 12
A39: 2011 | B39: ='DETALIERI 51, 61, 65, 66'!C97+'detalieri 67'!C27 -> 3 | C39: ='DETALIERI 51, 61, 65, 66'!D97+'detalieri 67'!D27 -> 0 | D39: ='DETALIERI 51, 61, 65, 66'!E97+'detalieri 67'!E27 -> 0 | E39: ='DETALIERI 51, 61, 65, 66'!F97+'detalieri 67'!F27 -> 3 | F39: ='DETALIERI 51, 61, 65, 66'!G97+'detalieri 67'!G27 -> 0 | J39: =SUM(C39:F39) -> 3
A40: 2013 | B40: ='DETALIERI 51, 61, 65, 66'!C51+'DETALIERI 51, 61, 65, 66'!C98+'detalieri 67'!C28 -> 46 | C40: ='DETALIERI 51, 61, 65, 66'!D51+'DETALIERI 51, 61, 65, 66'!D98+'detalieri 67'!D28 -> 21 | D40: ='DETALIERI 51, 61, 65, 66'!E51+'DETALIERI 51, 61, 65, 66'!E98+'detalieri 67'!E28 -> 25 | E40: ='DETALIERI 51, 61, 65, 66'!F51+'DETALIERI 51, 61, 65, 66'!F98+'detalieri 67'!F28 -> 0 | F40: ='DETALIERI 51, 61, 65, 66'!G51+'DETALIERI 51, 61, 65, 66'!G98+'detalieri 67'!G28 -> 0 | J40: =SUM(C40:F40) -> 46
...

Sheet Sheet1
A2: 5610 | B2: 5615 | C2: 5619
A3: 5500 | B3: 5444 | C3: 5371
A5: =A3-A2 -> -110 | B5: =B3-B2 -> -171 | C5: =C3-C2 -> -248
A6: 10 | B6: 20 | C6: 31
A7: 1 | B7: 1 | C7: 1
A8: 10 | B8: 13 | C8: 18
A9: 4 | B9: 6 | C9: 9
A10: 3 | B10: 4 | C10: 9
A11: 2 | B11: 2 | C11: 2
A12: 2 | B12: 2 | C12: 2
A13: 50 | B13: 50 | C13: 50
A14: 10 | B14: 20 | C14: 46
A15: 5 | B15: 10 | C15: 15
A16: 1 | B16: 2 | C16: 3
A17: 1 | B17: 2 | C17: 3
... A22: 1 | B22: 1 | C22: 10
A25: =SUM(A5:A22) -> 0 | B25: =SUM(B5:B22) -> -10 | C25: =SUM(C5:C22) -> -8
