Workbook

Sheet DETALIERI 51, 61, 65, 66
A1: JUDETUL DAMBOVITA
A2: COMUNA ION LUCA CARAGIALE
C6: Total an 2024 | D6: Trim.I | E6: Trim.II | F6: Trim.III | G6: Trim.IV | H6: Estimat 2025 | I6: Estimat 2026 | J6: Estimat 2027
A7: 5002 | C7: =C8+C14+C12 -> 15924 | D7: =D8+D14+D12 -> 6157 | E7: =E8+E14+E12 -> 5432 | F7: =F8+F14+F12 -> 2131 | G7: =G8+G14+G12 -> 2204 | H7: =H8+H14+H12 -> 11631 | I7: =I8+I14+I12 -> 12007 | J7: =J8+J14+J12 -> 12517 | K7: =SUM(D7:G7) -> 15924
B8: 1 | C8: =C9+C10+C11+C12+C13 -> 11451 | D8: =D9+D10+D11+D12+D13 -> 3694 | E8: =E9+E10+E11+E12+E13 -> 3422 | F8: =F9+F10+F11+F12+F13 -> 2131 | G8: =G9+G10+G11+G12+G13 -> 2204 | H8: =H9+H10+H11+H13 -> 11631 | I8: =I9+I10+I11+I13 -> 12007 | J8: =J9+J10+J11+J13 -> 12517 | K8: =SUM(D8:G8) -> 11451
B9: 10 | C9: =C19+C111+'detalieri 67'!C4+'DETALIERI 68'!C19 -> 6400 | D9: =D19+D111+'detalieri 67'!D4+'DETALIERI 68'!D19 -> 1449.5 | E9: =E19+E111+'detalieri 67'!E4+'DETALIERI 68'!E19 -> 1784.5 | F9: =F19+F111+'detalieri 67'!F4+'DETALIERI 68'!F19 -> 1596 | G9: =G19+G111+'detalieri 67'!G4+'DETALIERI 68'!G19 -> 1570 | H9: =H19+H111+'detalieri 67'!H4+'DETALIERI 68'!H19 -> 6655 | I9: =I19+I111+'detalieri 67'!I4+'DETALIERI 68'!I19 -> 6862 | J9: =J19+J111+'detalieri 67'!J4+'DETALIERI 68'!J19 -> 7069 | K9: =SUM(D9:G9) -> 6400
B10: 20 | C10: =C34+C66+C71+C81+C121+'detalieri 67'!C12+'detalieri 70'!C4+'detalieri 70'!C6+'detalieri 70'!C7+'detalieri 70'!C12+'detalieri 74'!C5+'detalieri 74'!C7+'detalieri 84'!C3+'DETALIERI 68'!C12 -> 2614 | D10: =D34+D66+D71+D81+D121+D66+'detalieri 67'!D12+'detalieri 70'!D4+'detalieri 70'!D6+'detalieri 70'!D7+'detalieri 70'!D12+'detalieri 74'!D5+'detalieri 74'!D7+'detalieri 84'!D3+'DETALIERI 68'!D12 -> 1325.5 | E10: =E34+E66+E71+E81+E121+'detalieri 67'!E12+'detalieri 70'!E4+'detalieri 70'!E6+'detalieri 70'!E7+'detalieri 70'!E12+'detalieri 74'!E5+'detalieri 74'!E7+'detalieri 84'!E3+'DETALIERI 68'!E13 -> 867.5 | F10: =F34+F66+F71+F81+F121+'detalieri 67'!F12+'detalieri 70'!F4+'detalieri 70'!F6+'detalieri 70'!F7+'detalieri 70'!F12+'detalieri 74'!F5+'detalieri 74'!F7+'detalieri 84'!F3+'DETALIERI 68'!F13 -> 234 | G10: =G34+G66+G71+G81+G121+'detalieri 67'!G12+'detalieri 70'!G4+'detalieri 70'!G6+'detalieri 70'!G7+'detalieri 70'!G12+'detalieri 74'!G5+'detalieri 74'!G7+'detalieri 84'!G3+'DETALIERI 68'!G13 -> 187 | H10: =H34+H66+H71+H81+H121+'detalieri 67'!H12+'detalieri 70'!H4+'detalieri 70'!H6+'detalieri 70'!H7+'detalieri 70'!H12+'detalieri 74'!H5+'detalieri 74'!H7+'detalieri 84'!H3+'DETALIERI 68'!H13 -> 2377 | I10: =I34+I66+I71+I81+I121+'detalieri 67'!I12+'detalieri 70'!I4+'detalieri 70'!I6+'detalieri 70'!I7+'detalieri 70'!I12+'detalieri 74'!I5+'detalieri 74'!I7+'detalieri 84'!I3+'DETALIERI 68'!I13 -> 2434 | J10: =J34+J66+J71+J81+J121+'detalieri 67'!J12+'detalieri 70'!J4+'detalieri 70'!J6+'detalieri 70'!J7+'detalieri 70'!J12+'detalieri 74'!J5+'detalieri 74'!J7+'detalieri 84'!J3+'DETALIERI 68'!J13 -> 2525 | K10: =SUM(D10:G10) -> 2614
B11: 57 | C11: =C99+'DETALIERI 68'!C14 -> 2127 | D11: =D99+'DETALIERI 68'!D14 -> 704 | E11: =E99+'DETALIERI 68'!E14 -> 705 | F11: =F99+'DETALIERI 68'!F14 -> 286 | G11: =G99+'DETALIERI 68'!G14 -> 432 | H11: =H99+'DETALIERI 68'!H14 -> 2289 | I11: =I99+'DETALIERI 68'!I14 -> 2401 | J11: =J99+'DETALIERI 68'!J14 -> 2613 | K11: =SUM(D11:G11) -> 2127
B12: 58 | C12: ='detalieri 74'!C10 -> 0 | D12: ='detalieri 74'!D10 -> 0 | E12: ='detalieri 74'!E10 -> 0 | F12: ='detalieri 74'!F10 -> 0 | G12: ='detalieri 74'!G10 -> 0 | H12: ='detalieri 74'!H10 -> 0 | I12: ='detalieri 74'!I10 -> 0 | J12: ='detalieri 74'!J10 -> 0 | K12: =SUM(D12:G12) -> 0
B13: 59 | C13: =C56+'detalieri 67'!C107+'detalieri 74'!C8 -> 310 | D13: =D56+'detalieri 67'!D107+'detalieri 74'!D8 -> 215 | E13: ='detalieri 67'!E107+'detalieri 74'!E8 -> 65 | F13: =F57+'detalieri 67'!F107+'detalieri 74'!F8 -> 15 | G13: =G57+'detalieri 67'!G107+'detalieri 74'!G8 -> 15 | H13: =H56+'detalieri 67'!H105+'detalieri 74'!H8 -> 310 | I13: =I56+'detalieri 67'!I105+'detalieri 74'!I8 -> 310 | J13: =J56+'detalieri 67'!J105+'detalieri 74'!J8 -> 310
B14: 70 | C14: =C15 -> 4473 | D14: =D15 -> 2463 | E14: =E15 -> 2010 | F14: =F15 -> 0 | G14: =G15 -> 0 | H14: =H15 -> 0 | I14: =I15 -> 0 | J14: =J15 -> 0 | K14: =SUM(D14:G14) -> 4473
B15: 71 | C15: =C59+C104+'detalieri 67'!C36+'detalieri 74'!C12+'detalieri 83'!C6+'detalieri 84'!C6+'detalieri 70'!C22+'detalieri 70'!E8 -> 4473 | D15: =D59+D104+'detalieri 67'!D36+'detalieri 74'!D12+'detalieri 83'!D6+'detalieri 84'!D6+'detalieri 70'!D22 -> 2463 | E15: =E59+E104+'detalieri 67'!E36+'detalieri 74'!E12+'detalieri 83'!E6+'detalieri 84'!E6+'detalieri 70'!E22+'detalieri 70'!E8 -> 2010 | F15: =F59+F104+'detalieri 67'!F36+'detalieri 74'!F12+'detalieri 83'!F6+'detalieri 84'!F6+'detalieri 70'!F22 -> 0 | G15: =G59+G104+'detalieri 67'!G36+'detalieri 74'!G12+'detalieri 83'!G6+'detalieri 84'!G6+'detalieri 70'!G22 -> 0 | H15: =H59+H104+'detalieri 67'!H36+'detalieri 74'!H12+'detalieri 83'!H6+'detalieri 84'!H6+'detalieri 70'!H22 -> 0 | I15: =I59+I104+'detalieri 67'!I36+'detalieri 74'!I12+'detalieri 83'!I6+'detalieri 84'!I6+'detalieri 70'!I22 -> 0 | J15: =J59+J104+'detalieri 67'!J36+'detalieri 74'!J12+'detalieri 83'!J6+'detalieri 84'!J6+'detalieri 70'!J22 -> 0 | K15: =SUM(D15:G15) -> 4473
A16: 510002 | C16: =C17 -> 5206 | D16: =D17 -> 1511 | E16: =E17 -> 1561 | F16: =F17 -> 1084 | G16: =G17 -> 1050 | H16: =H17 -> 5200 | I16: =I17 -> 5350 | J16: =J17 -> 5550 | K16: =SUM(D16:G16) -> 5206
A17: 5102 | C17: =C18+C58 -> 5206 | D17: =D18+D58 -> 1511 | E17: =E18+E58 -> 1561 | F17: =F18+F58 -> 1084 | G17: =G18+G58 -> 1050 | H17: =H18+H58 -> 5200 | I17: =I18+I58 -> 5350 | J17: =J18+J58 -> 5550 | K17: =SUM(D17:G17) -> 5206
B18: 1 | C18: =C19+C34+C56 -> 5056 | D18: =D19+D34+D57 -> 1461 | E18: =E19+E34+E57 -> 1461 | F18: =F19+F34+F57 -> 1084 | G18: =G19+G34+G57 -> 1050 | H18: =H19+H34+H56 -> 5200 | I18: =I19+I34+I56 -> 5350 | J18: =J19+J34+J56 -> 5550 | K18: =SUM(D18:G18) -> 5056
B19: 10 | C19: =C20+C25+C27 -> 4076 | D19: =D20+D25+D27 -> 946 | E19: =E20+E25+E27 -> 1122 | F19: =F20+F25+F27 -> 1014 | G19: =G20+G25+G27 -> 994 | H19: 4200 | I19: 4300 | J19: 4400 | K19: =SUM(D19:G19) -> 4076
B20: 1001 | C20: =SUM(C21:C24) -> 3916 | D20: =SUM(D21:D24) -> 925 | E20: =SUM(E21:E24) -> 1037 | F20: =SUM(F21:F24) -> 987 | G20: =SUM(G21:G24) -> 967 | K20: =SUM(D20:G20) -> 3916
B21: 100101 | C21: =D21+E21+F21+G21 -> 3510 | D21: 840 | E21: 900 | F21: 900 | G21: 870 | K21: =SUM(D21:G21) -> 3510
B22: 100112 | C22: =D22+E22+F22+G22 -> 226 | D22: 55 | E22: 57 | F22: 57 | G22: 57 | K22: =SUM(D22:G22) -> 226
B23: 100117 | C23: =D23+E23+F23+G23 -> 130 | D23: 30 | E23: 30 | F23: 30 | G23: 40 | K23: =SUM(D23:G23) -> 130
B24: 100130 | C24: =D24+E24+F24+G24 -> 50 | E24: 50 | K24: =SUM(D24:G24) -> 50
B25: 1002 | C25: =C26 -> 55 | D25: =D26 -> 0 | E25: =E26 -> 55 | F25: =F26 -> 0 | G25: =G26 -> 0 | K25: =SUM(D25:G25) -> 55
B26: 100206 | C26: =SUM(D26:G26) -> 55 | E26: 55 | K26: =SUM(D26:G26) -> 55
B27: 1003 | C27: =C28+C29+C30+C31+C32+C33 -> 105 | D27: =D28+D29+D30+D31+D32+D33 -> 21 | E27: =E28+E29+E30+E31+E32+E33 -> 30 | F27: =F28+F29+F30+F31+F32+F33 -> 27 | G27: =G28+G29+G30+G31+G32+G33 -> 27 | K27: =SUM(D27:G27) -> 105
B28: 100301 | K28: =SUM(D28:G28) -> 0
B29: 100302 | K29: =SUM(D29:G29) -> 0
B30: 100303 | K30: =SUM(D30:G30) -> 0
B31: 100304 | K31: =SUM(D31:G31) -> 0
B32: 100306 | K32: =SUM(D32:G32) -> 0
B33: 100307 | C33: =D33+E33+F33+G33 -> 105 | D33: 21 | E33: 30 | F33: 27 | G33: 27 | K33: =SUM(D33:G33) -> 105
B34: 20 | C34: =C35+C46+C47+C49+C52+C51 -> 930 | D34: =D35+D46+D47+D49+D52+D51 -> 465 | E34: =E35+E46+E47+E49+E52+E51 -> 339 | F34: =F35+F46+F47+F49+F52+F51 -> 70 | G34: =G35+G46+G47+G49+G52+G51 -> 56 | H34: 950 | I34: 1000 | J34: 1100 | K34: =SUM(D34:G34) -> 930
B35: 2001 | C35: =SUM(C36:C45) -> 552 | D35: =SUM(D36:D45) -> 248 | E35: =SUM(E36:E45) -> 192 | F35: =SUM(F36:F45) -> 58 | G35: =SUM(G36:G45) -> 54 | K35: =SUM(D35:G35) -> 552
B36: 200101 | C36: =D36+E36+F36+G36 -> 50 | D36: 20 | E36: 10 | F36: 10 | G36: 10 | K36: =SUM(D36:G36) -> 50
B37: 200102 | C37: =D37+E37+F37+G37 -> 23 | D37: 5 | E37: 5 | F37: 5 | G37: 8 | K37: =SUM(D37:G37) -> 23
B38: 200103 | C38: =D38+E38+F38+G38 -> 84 | D38: 20 | E38: 30 | F38: 10 | G38: 24 | K38: =SUM(D38:G38) -> 84
B39: 200104 | C39: =D39+E39+F39+G39 -> 8 | D39: 2 | E39: 2 | F39: 2 | G39: 2 | K39: =SUM(D39:G39) -> 8
B40: 200105 | C40: =D40+E40+F40+G40 -> 40 | D40: 20 | E40: 20 | F40: 0 | G40: 0 | K40: =SUM(D40:G40) -> 40
B41: 200106 | C41: =D41+E41+F41+G41 -> 10 | D41: 3 | E41: 2 | F41: 3 | G41: 2 | K41: =SUM(D41:G41) -> 10
B42: 200107 | C42: =D42+E42+F42+G42 -> 32 | D42: 8 | E42: 8 | F42: 8 | G42: 8 | K42: =SUM(D42:G42) -> 32
B43: 200108 | C43: =D43+E43+F43+G43 -> 55 | D43: 20 | E43: 15 | F43: 20 | G43: 0 | K43: =SUM(D43:G43) -> 55
B44: 200109 | C44: =D44+E44+F44+G44 -> 150 | D44: 100 | E44: 50 | F44: 0 | G44: 0 | K44: =SUM(D44:G44) -> 150
B45: 200130 | C45: =D45+E45+F45+G45 -> 100 | D45: 50 | E45: 50 | F45: 0 | G45: 0 | K45: =SUM(D45:G45) -> 100
B46: 2002 | C46: =D46+E46+F46+G46 -> 60 | D46: 30 | E46: 30 | F46: 0 | G46: 0 | K46: =SUM(D46:G46) -> 60
B47: 2005 | C47: =C48 -> 50 | D47: =D48 -> 20 | E47: =E48 -> 30 | F47: =F48 -> 0 | G47: =G48 -> 0 | K47: =SUM(D47:G47) -> 50
B48: 200530 | C48: =D48+E48+F48+G48 -> 50 | D48: 20 | E48: 30 | F48: 0 | G48: 0 | K48: =SUM(D48:G48) -> 50
B49: 2006 | C49: =C50 -> 8 | D49: =D50 -> 2 | E49: =E50 -> 2 | F49: =F50 -> 2 | G49: =G50 -> 2 | K49: =SUM(D49:G49) -> 8
B50: 200601 | C50: =D50+E50+F50+G50 -> 8 | D50: 2 | E50: 2 | F50: 2 | G50: 2 | K50: =SUM(D50:G50) -> 8
B51: 2013 | C51: =D51+E51+F51+G51 -> 25 | D51: 15 | E51: 10 | K51: =SUM(D51:G51) -> 25
B52: 2030 | C52: =C53+C54+C55 -> 235 | D52: =D53+D54+D55 -> 150 | E52: =E53+E54+E55 -> 75 | F52: =F53+F54+F55 -> 10 | G52: =G53+G54+G55 -> 0 | K52: =SUM(D52:G52) -> 235
B53: 203001 | C53: =D53+E53+F53+G53 -> 30 | D53: 15 | E53: 15 | F53: 0 | G53: 0 | K53: =SUM(D53:G53) -> 30
B54: 203002 | C54: =D54+E54+F54+G54 -> 30 | D54: 10 | E54: 10 | F54: 10 | G54: 0 | K54: =SUM(D54:G54) -> 30
B55: 203030 | C55: =D55+E55+F55+G55 -> 175 | D55: 125 | E55: 50 | F55: 0 | G55: 0 | K55: =SUM(D55:G55) -> 175
B56: 59 | C56: =C57 -> 50 | D56: =D57 -> 50 | E56: =E57 -> 0 | F56: =F57 -> 0 | G56: =G57 -> 0 | H56: 50 | I56: 50 | J56: 50 | K56: =D56+E56+F56+G56 -> 50
B57: 59 11 | C57: =D57+E57+F57+G57 -> 50 | D57: 50 | E57: 0 | F57: 0 | G57: 0 | K57: =D57+E57+F57+G57 -> 50
B58: 70 | C58: =C59 -> 150 | D58: =D59 -> 50 | E58: =E59 -> 100 | F58: =F59 -> 0 | G58: =G59 -> 0 | H58: =H59 -> 0 | I58: =I59 -> 0 | J58: =J59 -> 0 | K58: =SUM(D58:G58) -> 150
B59: 71 | C59: =C60 -> 150 | D59: =D60 -> 50 | E59: =E60 -> 100 | F59: =F60 -> 0 | G59: =G60 -> 0 | H59: =H60 -> 0 | I59: =I60 -> 0 | J59: =J60 -> 0 | K59: =SUM(D59:G59) -> 150
B60: 7101 | C60: =C61+C62+C63+C64 -> 150 | D60: =D61+D62+D63+D64 -> 50 | E60: =E61+E62+E63+E64 -> 100 | F60: =F61+F62+F63+F64 -> 0 | G60: =G61+G62+G63+G64 -> 0 | H60: =H61+H64 -> 0 | I60: =I61+I64 -> 0 | J60: =J61+J64 -> 0 | K60: =SUM(D60:G60) -> 150
B61: 710101 | C61: =D61+E61+F61+G61 -> 100 | E61: 100 | K61: =SUM(D61:G61) -> 100
B62: 710102 | C62: =D62+E62+F62+G62 -> 0
B63: 710103 | C63: =D63+E63+F63+G63 -> 0
B64: 710130 | C64: =D64+E64+F64+G64 -> 50 | D64: 50 | K64: =SUM(D64:G64) -> 50
A65: 5402 | B65: 1 | C65: =C66 -> 50 | D65: =D66 -> 0 | E65: =E66 -> 20 | F65: =F66 -> 20 | G65: =G66 -> 10 | H65: =H66 -> 0 | I65: =I66 -> 0 | J65: =J66 -> 0 | K65: =SUM(D65:G65) -> 50
B66: 20 | C66: =C67 -> 50 | D66: =D67 -> 0 | E66: =E67 -> 20 | F66: =F67 -> 20 | G66: =G67 -> 10 | H66: =H67 -> 0 | I66: =I67 -> 0 | J66: =J67 -> 0 | K66: =SUM(D66:G66) -> 50
B67: 203030 | C67: =D67+E67+F67+G67 -> 50 | E67: 20 | F67: 20 | G67: 10 | H67: 0 | I67: 0 | J67: 0 | K67: =SUM(D67:G67) -> 50
A68: 600002 | C68: =C69 -> 31 | D68: =D69 -> 11 | E68: =E69 -> 9 | F68: =F69 -> 6 | G68: =G69 -> 5 | H68: =H69 -> 144 | I68: =I69 -> 111 | J68: =J69 -> 122 | K68: =SUM(D68:G68) -> 31
A69: 6102 | C69: =C70 -> 31 | D69: =D70 -> 11 | E69: =E70 -> 9 | F69: =F70 -> 6 | G69: =G70 -> 5 | H69: =H70 -> 144 | I69: =I70 -> 111 | J69: =J70 -> 122 | K69: =SUM(D69:G69) -> 31
B70: 1 | C70: =C71 -> 31 | D70: =D71 -> 11 | E70: =E71 -> 9 | F70: =F71 -> 6 | G70: =G71 -> 5 | H70: =H71 -> 144 | I70: =I71 -> 111 | J70: =J71 -> 122 | K70: =SUM(D70:G70) -> 31
B71: 20 | C71: =C72+C76 -> 31 | D71: =D72+D76 -> 11 | E71: =E72+E76 -> 9 | F71: =F72+F76 -> 6 | G71: =G72+G76 -> 5 | H71: 144 | I71: 111 | J71: 122 | K71: =SUM(D71:G71) -> 31
B72: 2001 | C72: =C73+C74+C75 -> 22 | D72: =D73+D74+D75 -> 6 | E72: =E73+E74+E75 -> 5 | F72: =F73+F74+F75 -> 6 | G72: =G73+G74+G75 -> 5 | K72: =SUM(D72:G72) -> 22
B73: 200105 | C73: =D73+E73+F73+G73 -> 4 | D73: 1 | E73: 1 | F73: 1 | G73: 1 | K73: =D73+E73+F73+G73 -> 4
B74: 200106 | C74: =D74+E74+F74+G74 -> 8 | D74: 2 | E74: 2 | F74: 2 | G74: 2 | K74: =D74+E74+F74+G74 -> 8
B75: 200109 | C75: =D75+E75+F75+G75 -> 10 | D75: 3 | E75: 2 | F75: 3 | G75: 2 | K75: =SUM(D75:G75) -> 10
B76: 2030 | C76: =C77 -> 9 | D76: =D77 -> 5 | E76: =E77 -> 4 | F76: =F77 -> 0 | G76: =G77 -> 0 | K76: =SUM(D76:G76) -> 9
B77: 203030 | C77: =D77+E77+F77+G77 -> 9 | D77: 5 | E77: 4 | F77: 0 | G77: 0 | K77: =SUM(D77:G77) -> 9
A78: 650002 | K78: =SUM(D78:G78) -> 0
A79: 6502 | C79: =C80+C103 -> 1175 | D79: =D80+D103 -> 586 | E79: =E80+E103 -> 421 | F79: =F80+F103 -> 91 | G79: =G80+G103 -> 77 | H79: =H80+H103 -> 909 | I79: =I80+I103 -> 941 | J79: =J80+J103 -> 973 | K79: =SUM(D79:G79) -> 1175
B80: 1 | C80: =C81+C99 -> 854 | D80: =D81+D99 -> 385 | E80: =E81+E99 -> 301 | F80: =F81+F99 -> 91 | G80: =G81+G99 -> 77 | H80: =H81+H99 -> 909 | I80: =I81+I99 -> 941 | J80: =J81+J99 -> 973 | K80: =SUM(D80:G80) -> 854
B81: 20 | C81: =C82+C92+C93+C95+C97+C98 -> 696 | D81: ='detalieri scoala'!D62 -> 320 | E81: ='detalieri scoala'!E62 -> 236 | F81: ='detalieri scoala'!F62 -> 75 | G81: ='detalieri scoala'!G62 -> 65 | H81: ='detalieri scoala'!H5+'detalieri scoala'!H31+'detalieri scoala'!H62 -> 700 | I81: ='detalieri scoala'!I5+'detalieri scoala'!I31+'detalieri scoala'!I62 -> 720 | J81: ='detalieri scoala'!J5+'detalieri scoala'!J31+'detalieri scoala'!J62 -> 740 | K81: =SUM(D81:G81) -> 696
B82: 2001 | C82: =C83+C84+C85+C86+C87+C88+C89+C90+C91 -> 588 | H82: =SUM(H83:H90) -> 0 | I82: =SUM(I83:I90) -> 0 | J82: =SUM(J83:J90) -> 0 | K82: =SUM(D82:G82) -> 0
B83: 200101 | C83: =D83+E83+F83+G83 -> 30 | D83: ='detalieri scoala'!D64 -> 20 | E83: ='detalieri scoala'!E64 -> 10 | F83: ='detalieri scoala'!F64 -> 0 | G83: ='detalieri scoala'!G64 -> 0 | K83: =SUM(D83:G83) -> 30
B84: 200102 | C84: =D84+E84+F84+G84 -> 30 | D84: ='detalieri scoala'!D65 -> 20 | E84: ='detalieri scoala'!E65 -> 10 | F84: ='detalieri scoala'!F65 -> 0 | G84: ='detalieri scoala'!G65 -> 0 | K84: =SUM(D84:G84) -> 30
B85: 200103 | C85: =D85+E85+F85+G85 -> 195 | D85: ='detalieri scoala'!D66 -> 145 | E85: ='detalieri scoala'!E66 -> 50 | F85: ='detalieri scoala'!F66 -> 0 | G85: ='detalieri scoala'!G66 -> 0 | K85: =SUM(D85:G85) -> 195
B86: 200104 | C86: =D86+E86+F86+G86 -> 5 | D86: ='detalieri scoala'!D67 -> 2 | E86: ='detalieri scoala'!E67 -> 2 | F86: ='detalieri scoala'!F67 -> 1 | G86: ='detalieri scoala'!G67 -> 0 | K86: =D86+E86+F86+G86 -> 5
B87: 200106 | C87: =D87+E87+F87+G87 -> 20 | D87: ='detalieri scoala'!D68 -> 10 | E87: ='detalieri scoala'!E68 -> 10 | F87: ='detalieri scoala'!F68 -> 0 | G87: ='detalieri scoala'!G68 -> 0 | K87: =SUM(D87:G87) -> 20
B88: 200107 | C88: =D88+E88+F88+G88 -> 105 | D88: ='detalieri scoala'!D69 -> 45 | E88: ='detalieri scoala'!E69 -> 45 | F88: ='detalieri scoala'!F69 -> 0 | G88: ='detalieri scoala'!G69 -> 15 | K88: =SUM(D88:G88) -> 105
B89: 200108 | C89: =D89+E89+F89+G89 -> 9 | D89: ='detalieri scoala'!D70 -> 3 | E89: ='detalieri scoala'!E70 -> 3 | F89: ='detalieri scoala'!F70 -> 3 | G89: ='detalieri scoala'!G70 -> 0 | K89: =D89+E89+F89+G89 -> 9
B90: 200109 | C90: =D90+E90+F90+G90 -> 74 | D90: ='detalieri scoala'!D71 -> 20 | E90: ='detalieri scoala'!E71 -> 11 | F90: ='detalieri scoala'!F71 -> 26 | G90: ='detalieri scoala'!G71 -> 17 | K90: =SUM(D90:G90) -> 74
B91: 200130 | C91: =D91+E91+F91+G91 -> 120 | D91: ='detalieri scoala'!D72 -> 25 | E91: ='detalieri scoala'!E72 -> 40 | F91: ='detalieri scoala'!F72 -> 25 | G91: ='detalieri scoala'!G72 -> 30 | K91: =D91+E91+F91+G91 -> 120
B92: 2002 | C92: =D92+E92+F92+G92 -> 40 | D92: ='detalieri scoala'!D73 -> 0 | E92: ='detalieri scoala'!E73 -> 20 | F92: ='detalieri scoala'!F73 -> 20 | G92: ='detalieri scoala'!G73 -> 0 | K92: =SUM(D92:G92) -> 40
B93: 2005 | C93: =C94 -> 45 | D93: =D94 -> 25 | E93: =E94 -> 20 | F93: =F94 -> 0 | G93: =G94 -> 0 | H93: =H94 -> 0 | I93: =I94 -> 0 | J93: =J94 -> 0 | K93: =SUM(D93:G93) -> 45
B94: 200530 | C94: =D94+E94+F94+G94 -> 45 | D94: ='detalieri scoala'!D75 -> 25 | E94: ='detalieri scoala'!E75 -> 20 | F94: ='detalieri scoala'!F75 -> 0 | G94: ='detalieri scoala'!G75 -> 0 | K94: =SUM(D94:G94) -> 45
B95: 2006 | C95: =C96 -> 3 | D95: =D96 -> 0 | E95: =E96 -> 0 | F95: =F96 -> 0 | G95: =G96 -> 3 | H95: =H96 -> 0 | I95: =I96 -> 0 | J95: =J96 -> 0 | K95: =SUM(D95:G95) -> 3
B96: 200601 | C96: =D96+E96+F96+G96 -> 3 | D96: ='detalieri scoala'!D77 -> 0 | E96: ='detalieri scoala'!E77 -> 0 | F96: ='detalieri scoala'!F77 -> 0 | G96: ='detalieri scoala'!G77 -> 3 | K96: =SUM(D96:G96) -> 3
B97: 2011 | D97: ='detalieri scoala'!D78 -> 0 | E97: ='detalieri scoala'!E78 -> 0 | F97: ='detalieri scoala'!F78 -> 0 | G97: ='detalieri scoala'!G78 -> 0 | K97: =SUM(D97:G97) -> 0
B98: 2013 | C98: =D98+E98+F98+G98 -> 20 | D98: ='detalieri scoala'!D79 -> 5 | E98: ='detalieri scoala'!E79 -> 15 | F98: ='detalieri scoala'!F79 -> 0 | G98: ='detalieri scoala'!G79 -> 0 | K98: =SUM(D98:G98) -> 20
B99: 57 | C99: =C100 -> 158 | D99: =D100 -> 65 | E99: =E100 -> 65 | F99: =F100 -> 16 | G99: =G100 -> 12 | H99: ='detalieri scoala'!H80+'detalieri scoala'!H92 -> 209 | I99: ='detalieri scoala'!I80+'detalieri scoala'!I92 -> 221 | J99: ='detalieri scoala'!J80+'detalieri scoala'!J92 -> 233 | K99: =SUM(D99:G99) -> 158
B100: 5702 | C100: =C101+C102 -> 158 | D100: =D101+D102 -> 65 | E100: =E101+E102 -> 65 | F100: =F101+F102 -> 16 | G100: =G101+G102 -> 12 | H100: =H101+H102 -> 209 | I100: =I101+I102 -> 221 | J100: =J101+J102 -> 233 | K100: =SUM(D100:G100) -> 158
B101: 570201 | C101: =D101+E101+F101+G101 -> 104 | D101: ='detalieri scoala'!D80 -> 50 | E101: ='detalieri scoala'!E80 -> 50 | F101: ='detalieri scoala'!F80 -> 4 | G101: ='detalieri scoala'!G80 -> 0 | H101: ='detalieri scoala'!H80 -> 150 | I101: ='detalieri scoala'!I80 -> 160 | J101: ='detalieri scoala'!J80 -> 170 | K101: =SUM(D101:G101) -> 104
B102: 570203 | C102: =D102+E102+F102+G102 -> 54 | D102: ='detalieri scoala'!D92 -> 15 | E102: ='detalieri scoala'!E92 -> 15 | F102: ='detalieri scoala'!F92 -> 12 | G102: ='detalieri scoala'!G92 -> 12 | H102: ='detalieri scoala'!H92 -> 59 | I102: ='detalieri scoala'!I92 -> 61 | J102: ='detalieri scoala'!J92 -> 63 | K102: =SUM(D102:G102) -> 54
B103: 70 | C103: =C104 -> 321 | D103: =D104 -> 201 | E103: =E104 -> 120 | F103: =F104 -> 0 | G103: =G104 -> 0 | H103: =H104 -> 0 | I103: =I104 -> 0 | J103: =J104 -> 0 | K103: =SUM(D103:G103) -> 321
...

Sheet detalieri scoala
C1: 2024 | D1: T1 | E1: T2 | F1: T3 | G1: T4 | H1: 2025 | I1: 2026 | J1: 2027
A2: 6502 | C2: =C3+C29+C60+C87+C91 -> 1175 | D2: =D3+D29+D60+D87+D91 -> 586 | E2: =E3+E29+E60+E87+E91 -> 421 | F2: =F3+F29+F60+F87+F91 -> 91 | G2: =G3+G29+G60+G87+G91 -> 77 | H2: =H3+H29+H60+H91 -> 909 | I2: =I3+I29+I60+I91 -> 941 | J2: =J3+J29+J60+J91 -> 973 | K2: =K3+K29+K60+K87+K91 -> 1175
A3: 65020301 | C3: =C4+C24 -> 120 | D3: =D4+D24 -> 50 | E3: =E4+E24 -> 70 | F3: =F4+F24 -> 0 | G3: =G4+G24 -> 0 | H3: =H4+H24 -> 0 | I3: =I4+I24 -> 0 | J3: =J4+J24 -> 0 | K3: =SUM(D3:G3) -> 120
B4: 1 | C4: =C5+C20 -> 0 | D4: =D5+D20 -> 0 | E4: =E5+E20 -> 0 | F4: =F5+F20 -> 0 | G4: =G5+G20 -> 0 | H4: =H5+H20 -> 0 | I4: =I5+I20 -> 0 | J4: =J5+J20 -> 0 | K4: =SUM(D4:G4) -> 0
B5: 20 | C5: =C6+C13+C14+C16+C18+C19 -> 0 | D5: =D6+D13+D14+D16+D18+D19 -> 0 | E5: =E6+E13+E14+E16+E18+E19 -> 0 | F5: =F6+F13+F14+F16+F18+F19 -> 0 | G5: =G6+G13+G14+G16+G18+G19 -> 0 | H5: 0 | I5: 0 | J5: 0 | K5: =SUM(D5:G5) -> 0
B6: 2001 | C6: =SUM(C7:C12) -> 0 | D6: =SUM(D7:D12) -> 0 | E6: =SUM(E7:E12) -> 0 | F6: =SUM(F7:F12) -> 0 | G6: =SUM(G7:G12) -> 0 | H6: =SUM(H7:H12) -> 0 | I6: =SUM(I7:I12) -> 0 | J6: =SUM(J7:J12) -> 0 | K6: =SUM(D6:G6) -> 0
B7: 200101 | C7: =SUM(D7:G7) -> 0 | E7: 0 | K7: =SUM(D7:G7) -> 0
B8: 200102 | C8: =SUM(D8:G8) -> 0 | K8: =SUM(D8:G8) -> 0
B9: 200103 | C9: =SUM(D9:G9) -> 0 | E9: 0 | K9: =SUM(D9:G9) -> 0
B10: 200106 | C10: =SUM(D10:G10) -> 0 | K10: =SUM(D10:G10) -> 0
B11: 200107 | C11: =SUM(D11:G11) -> 0 | K11: =SUM(D11:G11) -> 0
B12: 200109 | C12: =SUM(D12:G12) -> 0 | K12: =SUM(D12:G12) -> 0
B13: 2002 | K13: =SUM(D13:G13) -> 0
B14: 2005 | C14: =C15 -> 0 | D14: =D15 -> 0 | E14: =E15 -> 0 | F14: =F15 -> 0 | G14: =G15 -> 0 | H14: =H15 -> 0 | I14: =I15 -> 0 | J14: =J15 -> 0 | K14: =SUM(D14:G14) -> 0
B15: 200530 | K15: =SUM(D15:G15) -> 0
B16: 2006 | C16: =C17 -> 0 | D16: =D17 -> 0 | E16: =E17 -> 0 | F16: =F17 -> 0 | G16: =G17 -> 0 | H16: =H17 -> 0 | I16: =I17 -> 0 | J16: =J17 -> 0 | K16: =SUM(D16:G16) -> 0
B17: 200601 | K17: =SUM(D17:G17) -> 0
B18: 2011 | K18: =SUM(D18:G18) -> 0
B19: 2013 | K19: =SUM(D19:G19) -> 0
B20: 57 | C20: =C21 -> 0 | D20: =D21 -> 0 | E20: =E21 -> 0 | F20: =F21 -> 0 | G20: =G21 -> 0 | H20: =H21 -> 0 | I20: =I21 -> 0 | J20: =J21 -> 0 | K20: =SUM(D20:G20) -> 0
B21: 5702 | C21: =SUM(C22:C23) -> 0 | D21: =SUM(D22:D23) -> 0 | E21: =SUM(E22:E23) -> 0 | F21: =SUM(F22:F23) -> 0 | G21: =SUM(G22:G23) -> 0 | H21: =SUM(H22:H23) -> 0 | I21: =SUM(I22:I23) -> 0 | J21: =SUM(J22:J23) -> 0 | K21: =SUM(D21:G21) -> 0
B22: 570201 | K22: =SUM(D22:G22) -> 0
B23: 570203 | K23: =SUM(D23:G23) -> 0
B24: 70 | C24: =C25 -> 120 | D24: =D25 -> 50 | E24: =E25 -> 70 | F24: =F25 -> 0 | G24: =G25 -> 0 | H24: =H25 -> 0 | I24: =I25 -> 0 | J24: =J25 -> 0 | K24: =SUM(D24:G24) -> 120
B25: 71 | C25: =C26 -> 120 | D25: =D26 -> 50 | E25: =E26 -> 70 | F25: =F26 -> 0 | G25: =G26 -> 0 | H25: =H26 -> 0 | I25: =I26 -> 0 | J25: =J26 -> 0 | K25: =SUM(D25:G25) -> 120
B26: 7101 | C26: =SUM(C27:C28) -> 120 | D26: =SUM(D27:D28) -> 50 | E26: =SUM(E27:E28) -> 70 | F26: =SUM(F27:F28) -> 0 | G26: =SUM(G27:G28) -> 0 | H26: =SUM(H27:H28) -> 0 | I26: =SUM(I27:I28) -> 0 | J26: =SUM(J27:J28) -> 0 | K26: =SUM(D26:G26) -> 120
B27: 710101 | C27: =D27+E27+F27+G27 -> 50 | D27: 50 | K27: =SUM(D27:G27) -> 50
B28: 710130 | C28: =D28+E28+F28+G28 -> 70 | E28: 70 | K28: =SUM(D28:G28) -> 70
A29: 65020302 | C29: =C30+C54 -> 191 | D29: =D30+D54 -> 141 | E29: =E30+E54 -> 50 | F29: =F30+F54 -> 0 | G29: =G30+G54 -> 0 | H29: =H30+H54 -> 0 | I29: =I30+I54 -> 0 | J29: =J30+J54 -> 0 | K29: =SUM(D29:G29) -> 191
B30: 1 | C30: =C31+C49+C53 -> 0 | D30: =D31+D49+D53 -> 0 | E30: =E31+E49+E53 -> 0 | F30: =F31+F49+F53 -> 0 | G30: =G31+G49+G53 -> 0 | H30: =H31+H49+H53 -> 0 | I30: =I31+I49+I53 -> 0 | J30: =J31+J49+J53 -> 0 | K30: =SUM(D30:G30) -> 0
B31: 20 | K31: =SUM(D31:G31) -> 0
B32: 2001 | K32: =SUM(D32:G32) -> 0
B33: 200101 | K33: =SUM(D33:G33) -> 0
B34: 200102 | K34: =SUM(D34:G34) -> 0
B35: 200103 | K35: =SUM(D35:G35) -> 0
B36: 200104 | K36: =SUM(D36:G36) -> 0
B37: 200106 | K37: =SUM(D37:G37) -> 0
B38: 200107 | K38: =SUM(D38:G38) -> 0
B39: 200108 | K39: =D39+E39+F39+G39 -> 0
B40: 200109 | K40: =SUM(D40:G40) -> 0
B41: 200130 | K41: =D41+E41+F41+G41 -> 0
B42: 2002 | K42: =SUM(D42:G42) -> 0
B43: 2005 | K43: =SUM(D43:G43) -> 0
B44: 200530 | K44: =SUM(D44:G44) -> 0
B45: 2006 | K45: =SUM(D45:G45) -> 0
B46: 200601 | K46: =SUM(D46:G46) -> 0
B47: 2011 | K47: =SUM(D47:G47) -> 0
B48: 2013 | K48: =SUM(D48:G48) -> 0
B49: 57 | C49: =C50 -> 0 | D49: =D50 -> 0 | E49: =E50 -> 0 | F49: =F50 -> 0 | G49: =G50 -> 0 | H49: =H50 -> 0 | I49: =I50 -> 0 | J49: =J50 -> 0 | K49: =SUM(D49:G49) -> 0
B50: 5702 | C50: =SUM(C51:C52) -> 0 | D50: =SUM(D51:D52) -> 0 | E50: =SUM(E51:E52) -> 0 | F50: =SUM(F51:F52) -> 0 | G50: =SUM(G51:G52) -> 0 | H50: =H51 -> 0 | I50: =SUM(I51:I52) -> 0 | J50: =SUM(J51:J52) -> 0 | K50: =SUM(D50:G50) -> 0
B51: 570201 | C51: =SUM(D51:G51) -> 0 | D51: 0 | K51: =SUM(D51:G51) -> 0
B52: 570203 | C52: =SUM(D52:G52) -> 0 | K52: =SUM(D52:G52) -> 0
B53: 5901 | C53: =SUM(D53:G53) -> 0 | D53: 0 | E53: 0 | F53: 0 | G53: 0 | H53: 0 | I53: 0 | J53: 0 | K53: =SUM(D53:G53) -> 0
B54: 70 | C54: =C55 -> 191 | D54: =D55 -> 141 | E54: =E55 -> 50 | F54: =F55 -> 0 | G54: =G55 -> 0 | H54: =H55 -> 0 | I54: =I55 -> 0 | J54: =J55 -> 0 | K54: =SUM(D54:G54) -> 191
B55: 71 | C55: =C56 -> 191 | D55: =D56 -> 141 | E55: =E56 -> 50 | F55: =F56 -> 0 | G55: =G56 -> 0 | H55: =H56 -> 0 | I55: =I56 -> 0 | J55: =J56 -> 0 | K55: =SUM(D55:G55) -> 191
B56: 7101 | C56: =SUM(C57:C59) -> 191 | D56: =SUM(D57:D59) -> 141 | E56: =SUM(E57:E59) -> 50 | F56: =SUM(F57:F59) -> 0 | G56: =SUM(G57:G59) -> 0 | H56: =SUM(H57:H59) -> 0 | I56: =SUM(I57:I59) -> 0 | J56: =SUM(J57:J59) -> 0 | K56: =SUM(D56:G56) -> 191
B57: 710101 | C57: =D57+E57+F57+G57 -> 181 | D57: 131 | E57: 50 | K57: =SUM(D57:G57) -> 181
B58: 710103 | C58: =D58+E58+F58+G58 -> 0
B59: 710130 | C59: =D59+E59+F59+G59 -> 10 | D59: 10 | K59: =SUM(D59:G59) -> 10
A60: 65020401 | C60: =C61+C81 -> 800 | D60: =D61+D81 -> 370 | E60: =E61+E81 -> 286 | F60: =F61+F81 -> 79 | G60: =G61+G81 -> 65 | H60: =H61+H81 -> 850 | I60: =I61+I81 -> 880 | J60: =J61+J81 -> 910 | K60: =SUM(D60:G60) -> 800
B61: 1 | C61: =C62+C80 -> 800 | D61: =D62+D80 -> 370 | E61: =E62+E80 -> 286 | F61: =F62+F80 -> 79 | G61: =G62+G80 -> 65 | H61: =H62+H80 -> 850 | I61: =I62+I80 -> 880 | J61: =J62+J80 -> 910 | K61: =SUM(D61:G61) -> 800
B62: 20 | C62: =C63+C73+C74+C76+C78+C79 -> 696 | D62: =D63+D73+D74+D76+D78+D79 -> 320 | E62: =E63+E73+E74+E76+E78+E79 -> 236 | F62: =F63+F73+F74+F76+F78+F79 -> 75 | G62: =G63+G73+G74+G76+G77+G78+G79 -> 65 | H62: 700 | I62: 720 | J62: 740 | K62: =SUM(D62:G62) -> 696
B63: 2001 | C63: =C64+C65+C66+C67+C68+C69+C70+C71+C72 -> 588 | D63: =D64+D65+D66+D67+D68+D69+D70+D71+D72 -> 290 | E63: =E64+E65+E66+E67+E68+E69+E70+E71+E72 -> 181 | F63: =F64+F65+F66+F67+F68+F69+F70+F71+F72 -> 55 | G63: =G64+G65+G66+G67+G68+G69+G70+G71+G72 -> 62 | H63: =SUM(H64:H71) -> 0 | I63: =SUM(I64:I71) -> 0 | J63: =SUM(J64:J71) -> 0 | K63: =SUM(D63:G63) -> 588
B64: 200101 | C64: =D64+E64+F64+G64 -> 30 | D64: 20 | E64: 10 | K64: =SUM(D64:G64) -> 30
B65: 200102 | C65: =D65+E65+F65+G65 -> 30 | D65: 20 | E65: 10 | K65: =SUM(D65:G65) -> 30
B66: 200103 | C66: =D66+E66+F66+G66 -> 195 | D66: 145 | E66: 50 | K66: =SUM(D66:G66) -> 195
B67: 200104 | C67: =D67+E67+F67+G67 -> 5 | D67: 2 | E67: 2 | F67: 1 | K67: =SUM(D67:G67) -> 5
B68: 200106 | C68: =D68+E68+F68+G68 -> 20 | D68: 10 | E68: 10 | K68: =SUM(D68:G68) -> 20
B69: 200107 | C69: =D69+E69+F69+G69 -> 105 | D69: 45 | E69: 45 | G69: 15 | K69: =SUM(D69:G69) -> 105
B70: 200108 | C70: =D70+E70+F70+G70 -> 9 | D70: 3 | E70: 3 | F70: 3 | K70: =SUM(D70:G70) -> 9
B71: 200109 | C71: =D71+E71+F71+G71 -> 74 | D71: 20 | E71: 11 | F71: 26 | G71: 17 | K71: =SUM(D71:G71) -> 74
B72: 200130 | C72: =D72+E72+F72+G72 -> 120 | D72: 25 | E72: 40 | F72: 25 | G72: 30 | K72: =SUM(D72:G72) -> 120
B73: 2002 | C73: =D73+E73+F73+G73 -> 40 | E73: 20 | F73: 20 | K73: =SUM(D73:G73) -> 40
B74: 2005 | C74: =C75 -> 45 | D74: =D75 -> 25 | E74: =E75 -> 20 | H74: =H75 -> 0 | I74: =I75 -> 0 | J74: =J75 -> 0 | K74: =SUM(D74:G74) -> 45
B75: 200530 | C75: =D75+E75+F75+G75 -> 45 | D75: 25 | E75: 20 | K75: =SUM(D75:G75) -> 45
B76: 2006 | C76: =C77 -> 3 | H76: =H77 -> 0 | I76: =I77 -> 0 | J76: =J77 -> 0 | K76: =SUM(D76:G76) -> 0
B77: 200601 | C77: =D77+E77+F77+G77 -> 3 | G77: 3 | K77: =SUM(D77:G77) -> 3
B78: 2011 | C78: =D78+E78+F78+G78 -> 0 | K78: =SUM(D78:G78) -> 0
B79: 2013 | C79: =D79+E79+F79+G79 -> 20 | D79: 5 | E79: 15 | K79: =SUM(D79:G79) -> 20
B80: 570201 | C80: =D80+E80+F80+G80 -> 104 | D80: 50 | E80: 50 | F80: 4 | H80: 150 | I80: 160 | J80: 170 | K80: =SUM(D80:G80) -> 104
B81: 70 | C81: =C82 -> 0 | D81: =D82 -> 0 | E81: =E82 -> 0 | F81: =F82 -> 0 | G81: =G82 -> 0 | H81: =H82 -> 0 | I81: =I82 -> 0 | J81: =J82 -> 0 | K81: =SUM(D81:G81) -> 0
B82: 71 | C82: =C83 -> 0 | D82: =D83 -> 0 | E82: =E83 -> 0 | F82: =F83 -> 0 | G82: =G83 -> 0 | H82: =H83 -> 0 | I82: =I83 -> 0 | J82: =J83 -> 0 | K82: =SUM(D82:G82) -> 0
B83: 7101 | C83: =SUM(C84:C85) -> 0 | D83: =SUM(D84:D85) -> 0 | E83: =SUM(E84:E85) -> 0 | F83: =SUM(F84:F85) -> 0 | G83: =SUM(G84:G85) -> 0 | H83: =SUM(H84:H85) -> 0 | I83: =SUM(I84:I85) -> 0 | J83: =SUM(J84:J85) -> 0 | K83: =SUM(D83:G83) -> 0
B84: 710101 | K84: =SUM(D84:G84) -> 0
B85: 710130 | K85: =SUM(D85:G85) -> 0
A86: 6513
B87: 70 | C87: =C88 -> 10 | D87: =D88 -> 10 | E87: =E88 -> 0 | F87: =F88 -> 0 | G87: =G88 -> 0 | K87: =D87+E87+F87+G87 -> 10
B88: 71 | C88: =C89 -> 10 | D88: =D89 -> 10 | E88: =E89 -> 0 | F88: =F89 -> 0 | G88: =G89 -> 0 | K88: =D88+E88+F88+G88 -> 10
B89: 7101 | C89: =C90 -> 10 | D89: =D90 -> 10 | E89: =E90 -> 0 | F89: =F90 -> 0 | G89: =G90 -> 0 | K89: =D89+E89+F89+G89 -> 10
B90: 710130 | C90: =D90+E90+F90+G90 -> 10 | D90: 10 | K90: =D90+E90+F90+G90 -> 10
A91: 6550 | C91: =C92 -> 54 | D91: =D92 -> 15 | E91: =E92 -> 15 | F91: =F92 -> 12 | G91: =G92 -> 12 | H91: =H92 -> 59 | I91: =I92 -> 61 | J91: =J92 -> 63 | K91: =SUM(D91:G91) -> 54
B92: 570203 | C92: =D92+E92+F92+G92 -> 54 | D92: 15 | E92: 15 | F92: 12 | G92: 12 | H92: 59 | I92: 61 | J92: 63 | K92: =SUM(D92:G92) -> 54

Sheet detalieri 67
C1: 2024 | D1: T1 | E1: T2 | F1: T3 | G1: T4 | H1: 2025 | I1: 2026 | J1: 2027
A2: 6702 | C2: =C3+C35 -> 1069 | D2: =D3+D35 -> 640 | E2: =E3+E35 -> 330 | F2: =F3+F35 -> 49 | G2: =G3+G35 -> 50 | H2: =H3+H35 -> 530 | I2: =I3+I35 -> 545 | J2: =J3+J35 -> 560 | K2: =SUM(D2:G2) -> 1069
B3: 1 | C3: =C4+C12+C33 -> 479 | D3: =D4+D12+D33 -> 250 | E3: =E4+E12+E33 -> 130 | F3: =F4+F12+F33 -> 49 | G3: =G4+G12+G33 -> 50 | H3: =H4+H12+H33 -> 530 | I3: =I4+I12+I33 -> 545 | J3: =J4+J12+J33 -> 560 | K3: =SUM(D3:G3) -> 479
B4: 10 | C4: =C5+C8+C10 -> 66 | D4: =D5+D8+D10 -> 7 | E4: =E5+E8+E10 -> 21 | F4: =F5+F8+F10 -> 19 | G4: =G5+G8+G10 -> 19 | H4: =H42 -> 70 | I4: =I42 -> 75 | J4: =J42 -> 80 | K4: =SUM(D4:G4) -> 66
B5: 1001 | C5: =SUM(C6:C7) -> 60 | D5: =SUM(D6:D7) -> 6 | E5: =SUM(E6:E7) -> 18 | F5: =SUM(F6:F7) -> 18 | G5: =SUM(G6:G7) -> 18 | K5: =SUM(D5:G5) -> 60
B6: 100101 | C6: =C44 -> 55 | D6: =D44 -> 5.5 | E6: =E44 -> 16.5 | F6: =F44 -> 16.5 | G6: =G44 -> 16.5 | K6: =SUM(D6:G6) -> 55
B7: 100117 | C7: =C45 -> 5 | D7: =D45 -> 0.5 | E7: =E45 -> 1.5 | F7: =F45 -> 1.5 | G7: =G45 -> 1.5 | K7: =SUM(D7:G7) -> 5
B8: 1002 | C8: =C9 -> 2 | D8: =D9 -> 0 | E8: =E9 -> 2 | F8: =F9 -> 0 | G8: =G9 -> 0
B9: 100206 | C9: =C47 -> 2 | D9: =D47 -> 0 | E9: =E47 -> 2 | F9: =F47 -> 0 | G9: =G47 -> 0
B10: 1003 | C10: =SUM(C11:C11) -> 4 | D10: =SUM(D11:D11) -> 1 | E10: =SUM(E11:E11) -> 1 | F10: =SUM(F11:F11) -> 1 | G10: =SUM(G11:G11) -> 1 | K10: =SUM(D10:G10) -> 4
B11: 100307 | C11: =C49 -> 4 | D11: =D49 -> 1 | E11: =E49 -> 1 | F11: =F49 -> 1 | G11: =G49 -> 1 | K11: =D11+E11+F11+G11 -> 4
B12: 20 | C12: =C13+C22+C23+C25+C29+C27+C28 -> 213 | D12: =D13+D22+D23+D25+D29+D27+D28 -> 93 | E12: =E13+E22+E23+E25+E29+E27+E28 -> 59 | F12: =F13+F22+F23+F25+F29+F27+F28 -> 30 | G12: =G13+G22+G23+G25+G29+G27+G28 -> 31 | H12: =H50+H58+H68+H81 -> 260 | I12: =I50+I58+I68+I81 -> 270 | J12: =J50+J58+J68+J81 -> 280 | K12: =SUM(D12:G12) -> 213
B13: 2001 | C13: =SUM(C14:C21) -> 108 | D13: =SUM(D14:D21) -> 41 | E13: =SUM(E14:E21) -> 24 | F13: =SUM(F14:F21) -> 19 | G13: =SUM(G14:G21) -> 24 | K13: =SUM(D13:G13) -> 108
B14: 200101 | C14: =C52 -> 1 | D14: =D52 -> 1 | E14: =E52 -> 0 | F14: =F52 -> 0 | G14: =G52 -> 0 | K14: =SUM(D14:G14) -> 1
B15: 200102 | C15: =C53 -> 1 | D15: =D53 -> 1 | E15: =E53 -> 0 | F15: =F53 -> 0 | K15: =SUM(D15:G15) -> 1
B16: 200103 | C16: =C60+C70 -> 46 | D16: =D60+D70 -> 17 | E16: =E60+E70 -> 10 | F16: =F60+F70 -> 7 | G16: =G60+G70 -> 12 | K16: =SUM(D16:G16) -> 46
B17: 200105 | K17: =SUM(D17:G17) -> 0
B18: 200106 | K18: =SUM(D18:G18) -> 0
B19: 200108 | K19: =SUM(D19:G19) -> 0
B20: 200109 | C20: =C61+C83 -> 40 | D20: =D61+D83 -> 17 | E20: =E61+E83 -> 9 | F20: =F61+F83 -> 7 | G20: =G61+G83 -> 7 | K20: =SUM(D20:G20) -> 40
B21: 200130 | C21: =C84 -> 20 | D21: =D84 -> 5 | E21: =E84 -> 5 | F21: =F84 -> 5 | G21: =G84 -> 5 | K21: =SUM(D21:G21) -> 20
B22: 2002 | C22: =C62+C71+C85 -> 35 | D22: =D62+D71+D85 -> 20 | E22: =E62+E71+E85 -> 15 | F22: =F62+F71+F85 -> 0 | G22: =G62+G71+G85 -> 0 | K22: =SUM(D22:G22) -> 35
B23: 2005 | C23: =C24 -> 10 | D23: =D24 -> 10 | E23: =E24 -> 0 | F23: =F24 -> 0 | G23: =G24 -> 0 | K23: =SUM(D23:G23) -> 10
B24: 200530 | C24: =C73 -> 10 | D24: =D73 -> 10 | E24: =E73 -> 0 | F24: =F73 -> 0 | G24: =G73 -> 0 | K24: =SUM(D24:G24) -> 10
B25: 2006 | C25: =C26 -> 1 | D25: =D26 -> 1 | E25: =E26 -> 0 | F25: =F26 -> 0 | G25: =G26 -> 0 | K25: =SUM(D25:G25) -> 1
B26: 200601 | C26: =C55 -> 1 | D26: =D55 -> 1 | E26: =E55 -> 0 | F26: =F55 -> 0 | G26: =G55 -> 0 | K26: =SUM(D26:G26) -> 1
B27: 2011 | C27: =C56 -> 3 | D27: =D56 -> 0 | E27: =E56 -> 0 | F27: =F56 -> 3 | G27: =G56 -> 0 | K27: =SUM(D27:G27) -> 3
B28: 2013 | C28: =C57 -> 1 | D28: =D57 -> 1 | E28: =E57 -> 0 | F28: =F57 -> 0 | G28: =G57 -> 0 | K28: =SUM(D28:G28) -> 1
B29: 2030 | C29: =SUM(C30:C32) -> 55 | D29: =SUM(D30:D32) -> 20 | E29: =SUM(E30:E32) -> 20 | F29: =SUM(F30:F32) -> 8 | G29: =SUM(G30:G32) -> 7 | K29: =SUM(D29:G29) -> 55
B30: 203001 | K30: =SUM(D30:G30) -> 0
B31: 203002 | K31: =SUM(D31:G31) -> 0
B32: 203030 | C32: =C75+C87 -> 55 | D32: =D75+D87 -> 20 | E32: =E75+E87 -> 20 | F32: =F75+F87 -> 8 | G32: =G75+G87 -> 7 | K32: =SUM(D32:G32) -> 55
B33: 59 | C33: =C34 -> 200 | D33: =D34 -> 150 | E33: =E34 -> 50 | F33: =F34 -> 0 | G33: =G34 -> 0 | H33: 200 | I33: 200 | J33: 200 | K33: =SUM(D33:G33) -> 200
B34: 5912 | C34: =C107 -> 200 | D34: =D107 -> 150 | E34: =E107 -> 50 | F34: =F107 -> 0 | G34: =G107 -> 0 | K34: =SUM(D34:G34) -> 200
B35: 70 | C35: =C36 -> 590 | D35: =D36 -> 390 | E35: =E36 -> 200 | F35: =F36 -> 0 | G35: =G36 -> 0 | K35: =SUM(D35:G35) -> 590
B36: 71 | C36: =C37 -> 590 | D36: =D37 -> 390 | E36: =E37 -> 200 | F36: =F37 -> 0 | G36: =G37 -> 0 | H36: 0 | I36: 0 | J36: 0 | K36: =SUM(D36:G36) -> 590
B37: 7101 | C37: =C38+C39 -> 590 | D37: =D38+D39 -> 390 | E37: =E38+E39 -> 200 | F37: =F38+F39 -> 0 | G37: =G38+G39 -> 0 | K37: =SUM(D37:G37) -> 590
B38: 710101 | C38: =D38+E38+F38+G38 -> 550 | D38: =D66+D79+D91+D111 -> 350 | E38: =E66+E79+E91+E111 -> 200 | F38: =F66+F79+F91+F111 -> 0 | G38: =G66+G79+G91+G111 -> 0 | K38: =SUM(D38:G38) -> 550
B39: 710130 | C39: =D39+E39+F39+G39 -> 40 | D39: =D67+D80+D92+D112 -> 40 | E39: =E67+E80+E92+E112 -> 0 | F39: =F67+F80+F92+F112 -> 0 | G39: =G67+G80+G92+G112 -> 0 | K39: =SUM(D39:G39) -> 40
A40: 67020302 | C40: =C41 -> 73 | D40: =D41 -> 11 | E40: =E41 -> 21 | F40: =F41 -> 22 | G40: =G41 -> 19 | H40: =H41+H95 -> 80 | I40: =I41+I95 -> 85 | J40: =J41+J95 -> 90 | K40: =SUM(D40:G40) -> 73
B41: 1 | C41: =C42+C50 -> 73 | D41: =D42+D50 -> 11 | E41: =E42+E50 -> 21 | F41: =F42+F50 -> 22 | G41: =G42+G50 -> 19 | H41: =H42+H50 -> 80 | I41: =I42+I50 -> 85 | J41: =J42+J50 -> 90 | K41: =SUM(D41:G41) -> 73
B42: 10 | C42: =C43+C46+C48 -> 66 | D42: =D43+D46+D47+D48 -> 7 | E42: =E43+E46+E48 -> 21 | F42: =F43+F46+F47+F48 -> 19 | G42: =G43+G46+G47+G48 -> 19 | H42: 70 | I42: 75 | J42: 80 | K42: =SUM(D42:G42) -> 66
B43: 1001 | C43: =SUM(C44:C45) -> 60 | D43: =SUM(D44:D45) -> 6 | E43: =SUM(E44:E45) -> 18 | F43: =SUM(F44:F45) -> 18 | G43: =SUM(G44:G45) -> 18 | K43: =SUM(D43:G43) -> 60
B44: 100101 | C44: =D44+E44+F44+G44 -> 55 | D44: 5.5 | E44: 16.5 | F44: 16.5 | G44: 16.5 | K44: =SUM(D44:G44) -> 55
B45: 100117 | C45: =D45+E45+F45+G45 -> 5 | D45: 0.5 | E45: 1.5 | F45: 1.5 | G45: 1.5 | K45: =SUM(D45:G45) -> 5
B46: 1002 | C46: =C47 -> 2 | D46: =D47 -> 0 | E46: =E47 -> 2 | F46: =F47 -> 0 | G46: =G47 -> 0 | K46: =SUM(D46:G46) -> 2
B47: 100206 | C47: =D47+E47+F47+G47 -> 2 | E47: 2 | K47: =SUM(D47:G47) -> 2
B48: 1003 | C48: =SUM(C49:C49) -> 4 | D48: =SUM(D49:D49) -> 1 | E48: =SUM(E49:E49) -> 1 | F48: =SUM(F49:F49) -> 1 | G48: =SUM(G49:G49) -> 1 | K48: =SUM(D48:G48) -> 4
B49: 100307 | C49: =D49+E49+F49+G49 -> 4 | D49: 1 | E49: 1 | F49: 1 | G49: 1 | K49: =SUM(D49:G49) -> 4
B50: 20 | C50: =C51+C54+C56+C57 -> 7 | D50: =D51+D54+D56+D57 -> 4 | E50: =E51+E54+E56+E57 -> 0 | F50: =F51+F54+F56+F57 -> 3 | G50: =G51+G54+G56+G57 -> 0 | H50: 10 | I50: 10 | J50: 10 | K50: =SUM(D50:G50) -> 7
B51: 2001 | C51: =SUM(C52:C53) -> 2 | D51: =SUM(D52:D53) -> 2 | E51: =SUM(E52:E53) -> 0 | F51: =SUM(F52:F53) -> 0 | G51: =SUM(G52:G53) -> 0 | K51: =SUM(D51:G51) -> 2
B52: 200101 | C52: =SUM(D52:G52) -> 1 | D52: 1 | F52: 0 | G52: 0 | K52: =SUM(D52:G52) -> 1
B53: 200102 | C53: =SUM(D53:G53) -> 1 | D53: 1 | K53: =SUM(D53:G53) -> 1
B54: 2006 | C54: =C55 -> 1 | D54: =D55 -> 1 | K54: =SUM(D54:G54) -> 1
B55: 200601 | C55: =D55+E55+F55+G55 -> 1 | D55: 1 | K55: =SUM(D55:G55) -> 1
B56: 2011 | C56: =SUM(D56:G56) -> 3 | D56: 0 | F56: 3 | G56: 0 | K56: =SUM(D56:G56) -> 3
B57: 2013 | C57: =SUM(D57:G57) -> 1 | D57: 1 | K57: =SUM(D57:G57) -> 1
A58: 67020303 | C58: =C59+C62+C63 -> 41 | D58: =D59+D62+D63 -> 19 | E58: =E59+E62+E63 -> 14 | F58: =F59+F62+F63 -> 4 | G58: =G59+G62+G63 -> 4 | H58: 50 | I58: 60 | J58: 70 | K58: =SUM(D58:G58) -> 41
B59: 2001 | C59: =C60+C61 -> 36 | D59: =D60+D61 -> 19 | E59: =E60+E61 -> 9 | F59: =F60+F61 -> 4 | G59: =G60+G61 -> 4 | K59: =SUM(D59:G59) -> 36
B60: 200103 | C60: =D60+E60+F60+G60 -> 16 | D60: 7 | E60: 5 | F60: 2 | G60: 2 | K60: =SUM(D60:G60) -> 16
B61: 200109 | C61: =D61+E61+F61+G61 -> 20 | D61: 12 | E61: 4 | F61: 2 | G61: 2 | K61: =SUM(D61:G61) -> 20
B62: 2002 | C62: =D62+E62+F62+G62 -> 5 | D62: 0 | E62: 5 | K62: =SUM(D62:G62) -> 5
B63: 70 | C63: =C64 -> 0 | D63: =D64 -> 0 | F63: =F64 -> 0 | G63: =G64 -> 0 | K63: =D63+E63+F63+G63 -> 0
B64: 71 | C64: =C65 -> 0 | D64: =D65 -> 0 | F64: =F65 -> 0 | G64: =G65 -> 0 | K64: =D64+E64+F64+G64 -> 0
B65: 7101 | C65: =C66+C67 -> 0 | D65: =D66+D67 -> 0 | F65: =F66+F67 -> 0 | G65: =G66+G67 -> 0 | K65: =D65+E65+F65+G65 -> 0
B66: 710101 | K66: =D66+E66+F66+G66 -> 0
B67: 710130 | K67: =D67+E67+F67+G67 -> 0
A68: 67020307 | C68: =C69+C71+C72+C74+C76 -> 100 | D68: =D69+D71+D72+D74+D76 -> 40 | E68: =E69+E71+E72+E74+E76 -> 40 | F68: =F69+F71+F72+F74+F76 -> 8 | G68: =G69+G71+G72+G74+G76 -> 12 | H68: 110 | I68: 110 | J68: 110 | K68: =SUM(D68:G68) -> 100
B69: 2001 | C69: =C70 -> 30 | D69: =D70 -> 10 | E69: =E70 -> 5 | F69: =F70 -> 5 | G69: =G70 -> 10 | K69: =SUM(D69:G69) -> 30
B70: 200103 | C70: =D70+E70+F70+G70 -> 30 | D70: 10 | E70: 5 | F70: 5 | G70: 10 | K70: =SUM(D70:G70) -> 30
B71: 2002 | C71: =SUM(D71:G71) -> 10 | D71: 10 | K71: =SUM(D71:G71) -> 10
B72: 2005 | C72: =C73 -> 10 | D72: =D73 -> 10 | E72: =E73 -> 0 | F72: =F73 -> 0 | G72: =G73 -> 0 | K72: =K73 -> 10
B73: 200530 | C73: =D73+E73+F73+G73 -> 10 | D73: 10 | E73: 0 | K73: =D73+E73+F73+G73 -> 10
B74: 2030 | C74: =C75 -> 30 | D74: =D75 -> 10 | E74: =E75 -> 15 | F74: =F75 -> 3 | G74: =G75 -> 2 | K74: =SUM(D74:G74) -> 30
B75: 203030 | C75: =D75+E75+F75+G75 -> 30 | D75: 10 | E75: 15 | F75: 3 | G75: 2 | K75: =SUM(D75:G75) -> 30
B76: 70 | C76: =C77 -> 20 | D76: =D77 -> 0 | E76: =E77 -> 20 | F76: =F77 -> 0 | G76: =G77 -> 0
B77: 71 | C77: =C78 -> 20 | D77: =D78 -> 0 | E77: =E78 -> 20 | F77: =F78 -> 0 | G77: =G78 -> 0
B78: 7101 | C78: =C80+C79 -> 20 | D78: =D80+D79 -> 0 | E78: =E80+E79 -> 20 | F78: =F80+F79 -> 0 | G78: =G80+G79 -> 0
B79: 710101 | C79: =SUM(D79:G79) -> 20 | E79: 20
B80: 710130 | C80: =SUM(D80:G80) -> 0
A81: 670205 | C81: =C93 -> 235 | D81: =D93 -> 60 | E81: =E93 -> 145 | F81: =F93 -> 15 | G81: =G93 -> 15 | H81: =H93 -> 90 | I81: =I93 -> 90 | J81: =J93 -> 90 | K81: =SUM(D81:G81) -> 235
B82: 2001 | C82: =C83+C84 -> 40 | D82: =D83+D84 -> 10 | E82: =E83+E84 -> 10 | F82: =F83+F84 -> 10 | G82: =G83+G84 -> 10 | K82: =SUM(D82:G82) -> 40
B83: 200109 | C83: =D83+E83+F83+G83 -> 20 | D83: 5 | E83: 5 | F83: 5 | G83: 5 | K83: =SUM(D83:G83) -> 20
B84: 200130 | C84: =D84+E84+F84+G84 -> 20 | D84: 5 | E84: =E96 -> 5 | F84: 5 | G84: 5 | K84: =SUM(D84:G84) -> 20
B85: 2002 | C85: =C97 -> 20 | D85: 10 | E85: 10 | F85: 0 | G85: =G97 -> 0 | K85: =SUM(D85:G85) -> 20
B86: 2030 | C86: =C87 -> 25 | D86: =D87 -> 10 | E86: =E87 -> 5 | F86: =F87 -> 5 | G86: =G87 -> 5 | K86: =SUM(D86:G86) -> 25
B87: 203030 | C87: =D87+E87+F87+G87 -> 25 | D87: =D99 -> 10 | E87: 5 | F87: 5 | G87: 5 | K87: =SUM(D87:G87) -> 25
B88: 70 | C88: =C100 -> 150 | D88: =D100 -> 30 | E88: =E100 -> 120 | F88: =F100 -> 0 | G88: =G100 -> 0
B89: 71 | C89: =C101 -> 150 | D89: =D101 -> 30 | E89: =E101 -> 120 | F89: =F101 -> 0 | G89: =G101 -> 0
B90: 7101 | C90: =C102 -> 150 | D90: =D102 -> 30 | E90: =E102 -> 120 | F90: =F102 -> 0 | G90: =G102 -> 0
B91: 710101 | C91: =C103 -> 120 | D91: =D103 -> 0 | E91: =E103 -> 120 | F91: =F103 -> 0 | G91: =G103 -> 0
B92: 710130 | C92: =C104 -> 30 | D92: =D104 -> 30 | E92: =E104 -> 0 | F92: =F104 -> 0 | G92: =G104 -> 0
A93: 67020501 | C93: =C94+C97+C98+C100 -> 235 | D93: =D94+D97+D98+D100 -> 60 | E93: =E94+E97+E98+E100 -> 145 | F93: =F94+F97+F98+F100 -> 15 | G93: =G94+G97+G98+G100 -> 15 | H93: 90 | I93: 90 | J93: 90 | K93: =SUM(D93:G93) -> 235
B94: 2001 | C94: =C95+C96 -> 40 | D94: =D95+D96 -> 10 | E94: =E95+E96 -> 10 | F94: =F95+F96 -> 10 | G94: =G95+G96 -> 10 | K94: =SUM(D94:G94) -> 40
B95: 200109 | C95: =D95+E95+F95+G95 -> 20 | D95: 5 | E95: 5 | F95: 5 | G95: 5 | K95: =SUM(D95:G95) -> 20
B96: 200130 | C96: =D96+E96+F96+G96 -> 20 | D96: 5 | E96: 5 | F96: 5 | G96: 5 | K96: =SUM(D96:G96) -> 20
B97: 2002 | C97: 20 | D97: 10 | E97: 10 | F97: 0 | G97: 0 | K97: =SUM(D97:G97) -> 20
B98: 2030 | C98: =C99 -> 25 | D98: =D99 -> 10 | E98: =E99 -> 5 | F98: =F99 -> 5 | G98: =G99 -> 5 | K98: =SUM(D98:G98) -> 25
B99: 203030 | C99: =D99+E99+F99+G99 -> 25 | D99: 10 | E99: 5 | F99: 5 | G99: 5
B100: 70 | C100: =C101 -> 150 | D100: =D101 -> 30 | E100: =E101 -> 120 | F100: =F101 -> 0 | G100: =G101 -> 0
...

Sheet detalieri 70
C1: 2024 | D1: T1 | E1: T2 | F1: T3 | G1: T4 | H1: 2025 | I1: 2026 | J1: 2027
A2: 7002 | C2: =C3+C11 -> 856 | D2: =D3+D11 -> 424 | E2: =E3+E11 -> 409 | F2: =F3+F11 -> 18 | G2: =G3+G11 -> 5 | H2: =H3+H12 -> 520 | I2: =I3+I12 -> 520 | J2: =J3+J12 -> 310 | K2: =SUM(D2:G2) -> 856
A3: 700206 | C3: =C4+C6+C7+C8 -> 290 | D3: =D4+D6+D7+D8 -> 130 | E3: =E4+E6+E7+E8 -> 160 | F3: =F4+F6+F7+F8 -> 0 | G3: =G4+G6+G7+G8 -> 0 | H3: 300 | I3: 300 | J3: 150 | K3: =SUM(D3:G3) -> 290
B4: 2001 | C4: =C5 -> 80 | D4: =D5 -> 50 | E4: =E5 -> 30 | F4: =F5 -> 0 | G4: =G5 -> 0 | K4: =SUM(D4:G4) -> 80
B5: 200103 | C5: =D5+E5+F5+G5 -> 80 | D5: 50 | E5: 30 | F5: 0 | G5: 0 | K5: =SUM(D5:G5) -> 80
B6: 2002 | C6: =D6+E6+F6+G6 -> 100 | D6: 50 | E6: 50 | K6: =SUM(D6:G6) -> 100
B7: 203030 | C7: =D7+E7+F7+G7 -> 60 | D7: 30 | E7: 30 | K7: =SUM(D7:G7) -> 60
B8: 70 | C8: =C9 -> 50 | D8: =D9 -> 0 | E8: =E9 -> 50 | F8: =F9 -> 0 | G8: =G9 -> 0 | H8: 0 | I8: 0 | J8: 0
B9: 7001 | C9: =C10 -> 50 | D9: =D10 -> 0 | E9: =E10 -> 50 | F9: =F10 -> 0 | G9: =G10 -> 0
B10: 700101 | C10: =D10+E10+F10+G10 -> 50 | E10: 50
A11: 700250 | C11: =C12+C22 -> 566 | D11: =D12+D22 -> 294 | E11: =E12+E22 -> 249 | F11: =F12+F22 -> 18 | G11: =G12+G22 -> 5 | H11: =H12+H22 -> 220 | I11: =I12+I22 -> 220 | J11: =J12+J22 -> 160 | K11: =SUM(D11:G11) -> 566
B12: 20 | C12: =C13+C17+C18+C20 -> 220 | D12: =D13+D17+D18+D20 -> 168 | E12: =E13+E17+E18+E20 -> 29 | F12: =F13+F17+F18+F20 -> 18 | G12: =G13+G17+G18+G20 -> 5 | H12: 220 | I12: 220 | J12: 160 | K12: =SUM(D12:G12) -> 220
B13: 2001 | C13: =C14+C15+C16 -> 80 | D13: =D14+D15+D16 -> 28 | E13: =E14+E15+E16 -> 29 | F13: =F14+F15+F16 -> 18 | G13: =G14+G15+G16 -> 5 | K13: =SUM(D13:G13) -> 80
B14: 200105 | C14: =D14+E14+F14+G14 -> 30 | D14: 10 | E14: 10 | F14: 10 | G14: 0 | K14: =SUM(D14:G14) -> 30
B15: 200106 | C15: =D15+E15+F15+G15 -> 10 | D15: 3 | E15: 4 | F15: 3 | K15: =SUM(D15:G15) -> 10
B16: 200109 | C16: =D16+E16+F16+G16 -> 40 | D16: 15 | E16: 15 | F16: 5 | G16: 5 | K16: =SUM(D16:G16) -> 40
B17: 2002 | C17: =D17+E17+F17+G17 -> 50 | D17: 50 | E17: 0 | K17: =D17+E17+F17+G17 -> 50
B18: 2005 | C18: =C19 -> 20 | D18: =D19 -> 20 | E18: =E19 -> 0 | F18: =F19 -> 0 | G18: =G19 -> 0 | K18: =K19 -> 20
B19: 200530 | C19: =D19+E19+F19+G19 -> 20 | D19: 20 | E19: 0 | F19: 0 | K19: =SUM(D19:G19) -> 20
B20: 2030 | C20: =C21 -> 70 | D20: =D21 -> 70 | E20: =E21 -> 0 | F20: =F21 -> 0 | G20: =G21 -> 0 | K20: =SUM(D20:G20) -> 70
B21: 203030 | C21: =D21+E21+F21+G21 -> 70 | D21: 70 | E21: 0 | F21: 0 | K21: =SUM(D21:G21) -> 70
B22: 70 | C22: =C23 -> 346 | D22: =D23 -> 126 | E22: =E23 -> 220 | F22: =F23 -> 0 | G22: =G23 -> 0 | H22: 0 | I22: 0 | J22: 0 | K22: =SUM(D22:G22) -> 346
B23: 7001 | C23: =C24+C25+C26 -> 346 | D23: =D24+D25+D26 -> 126 | E23: =E24+E25+E26 -> 220 | F23: =F24+F25+F26 -> 0 | G23: =G24+G25+G26 -> 0 | K23: =SUM(D23:G23) -> 346
B24: 700101 | C24: =D24+E24+F24+G24 -> 240 | D24: 20 | E24: 220 | K24: =SUM(D24:G24) -> 240
B25: 710102 | C25: =D25+E25+F25+G25 -> 0 | K25: =SUM(D25:G25) -> 0
B26: 700130 | C26: =D26+E26+F26+G26 -> 106 | D26: 106 | K26: =SUM(D26:G26) -> 106

Sheet detalieri 74
C1: 2024 | D1: T1 | E1: T2 | F1: T3 | G1: T4 | H1: 2025 | I1: 2026 | J1: 2027
A2: 7402 | C2: =C3+C9 -> 1210 | D2: =D3+D9 -> 645 | E2: =E3+E9 -> 535 | F2: =F3+F9 -> 15 | G2: =G3+G9 -> 15 | H2: =H3+H12 -> 202 | I2: =I3+I12 -> 210 | J2: =J3+J12 -> 215 | K2: =SUM(D2:G2) -> 1210
A3: 74020501 | C3: =C5+C8+C7 -> 150 | D3: =D5+D8+D7 -> 105 | E3: =E5+E8+E7 -> 15 | F3: =F5+F8+F7 -> 15 | G3: =G5+G8+G7 -> 15 | H3: =H4+H8 -> 202 | I3: =I4+I8 -> 210 | J3: =J4+J8 -> 215 | K3: =SUM(D3:G3) -> 150
B4: 20 | C4: =C5+C7 -> 90 | D4: =D5+D7 -> 90 | E4: =E5+E7 -> 0 | F4: =F5+F7 -> 0 | G4: =G5+G7 -> 0 | H4: 142 | I4: 150 | J4: 155 | K4: =D4+E4+F4+G4 -> 90
B5: 2001 | C5: =C6 -> 10 | D5: =D6 -> 10 | E5: =E6 -> 0 | F5: =F6 -> 0 | G5: =G6 -> 0 | K5: =SUM(D5:G5) -> 10
B6: 200109 | C6: =D6+E6+F6+G6 -> 10 | D6: 10 | E6: 0 | K6: =SUM(D6:G6) -> 10
B7: 203030 | C7: =D7+E7+F7+G7 -> 80 | D7: 80 | E7: 0 | F7: 0 | G7: 0 | K7: =D7+E7+F7+G7 -> 80
B8: 5911 | C8: =D8+E8+F8+G8 -> 60 | D8: 15 | E8: 15 | F8: 15 | G8: 15 | H8: 60 | I8: 60 | J8: 60 | K8: =SUM(D8:G8) -> 60
A9: 740206 | C9: =C10+C12 -> 1060 | D9: =D10+D12 -> 540 | E9: =E10+E12 -> 520 | F9: =F10+F12 -> 0 | G9: =G10+G12 -> 0 | H9: =H13 -> 0 | I9: =I13 -> 0 | J9: =J13 -> 0 | K9: =SUM(D9:G9) -> 1060
B10: 58 | C10: =C11 -> 0 | D10: =D11 -> 0 | E10: =E11 -> 0 | F10: =F11 -> 0 | G10: =G11 -> 0 | K10: =SUM(D10:G10) -> 0
B11: 580402 | C11: =D11+E11+F11+G11 -> 0 | D11: 0 | E11: 0 | K11: =SUM(D11:G11) -> 0
B12: 7101 | C12: =SUM(D12:G12) -> 1060 | D12: =D13+D14 -> 540 | E12: =E13+E14 -> 520 | F12: =F13+F14 -> 0 | G12: =G13+G14 -> 0 | H12: =H13 -> 0 | I12: =I13 -> 0 | J12: =J13 -> 0 | K12: =SUM(D12:G12) -> 1060
B13: 710101 | C13: =D13+E13+F13+G13 -> 850 | D13: 390 | E13: 460 | K13: =SUM(D13:G13) -> 850
B14: 710130 | C14: =D14+E14+F14+G14 -> 210 | D14: 150 | E14: 60 | K14: =SUM(D14:G14) -> 210
K15: =SUM(D15:G15) -> 0
K16: =SUM(D16:G16) -> 0

Sheet detalieri 83
C1: 2024 | D1: T1 | E1: T2 | F1: T3 | G1: T4 | H1: 2025 | I1: 2026 | J1: 2027
A2: 8302 | C2: =C3 -> 0 | D2: =D3 -> 0 | E2: =E3 -> 0 | F2: =F3 -> 0 | G2: =G3 -> 0 | H2: 0 | I2: 0 | J2: 0 | K2: =SUM(D2:G2) -> 0
A3: 83020330 | C3: =C4+C6 -> 0 | D3: =D4+D6 -> 0 | E3: =E4+E6 -> 0 | F3: =F4+F6 -> 0 | G3: =G4+G6 -> 0 | K3: =SUM(D3:G3) -> 0
B4: 2001 | C4: =C5 -> 0 | D4: =D5 -> 0 | E4: =E5 -> 0 | F4: =F5 -> 0 | G4: =G5 -> 0 | K4: =SUM(D4:G4) -> 0
B5: 200109 | C5: 0 | D5: 0 | E5: 0 | F5: 0 | G5: 0 | K5: =SUM(D5:G5) -> 0
B6: 70 | C6: =C7 -> 0 | D6: =D7 -> 0 | E6: =E7 -> 0 | F6: =F7 -> 0 | G6: =G7 -> 0 | K6: =SUM(D6:G6) -> 0
B7: 7101 | C7: =C8 -> 0 | D7: =D8 -> 0 | E7: =E8 -> 0 | F7: =F8 -> 0 | G7: =G8 -> 0 | K7: =SUM(D7:G7) -> 0
B8: 710130 | C8: 0 | D8: 0 | K8: =SUM(D8:G8) -> 0

Sheet detalieri 84
C1: 2024 | D1: T1 | E1: T2 | F1: T3 | G1: T4 | H1: 2025 | I1: 2026 | J1: 2027
A2: 8402 | C2: =C3+C6 -> 2039 | D2: =D3+D6 -> 1189 | E2: =E3+E6 -> 850 | F2: =F3+F6 -> 0 | G2: =G3+G6 -> 0 | H2: =H3+H6 -> 100 | I2: =I3+I6 -> 110 | J2: =J3+J6 -> 120 | K2: =K3+K6 -> 2039
A3: 84020303 | B3: 20 | C3: =C4+C5 -> 83 | D3: =D4+D5 -> 33 | E3: =E4+E5 -> 50 | F3: =F4+F5 -> 0 | G3: =G4+G5 -> 0 | H3: 100 | I3: 110 | J3: 120 | K3: =SUM(D3:G3) -> 83
B4: 2002 | C4: =D4+E4+F4+G4 -> 53 | D4: 33 | E4: 20 | F4: 0 | G4: 0
B5: 203030 | C5: =D5+E5+F5+G5 -> 30 | D5: 0 | E5: 30
B6: 71 | C6: =C7 -> 1956 | D6: =D7 -> 1156 | E6: =E7 -> 800 | F6: =F7 -> 0 | G6: =G7 -> 0 | H6: =H7 -> 0 | I6: =I7 -> 0 | J6: =J7 -> 0 | K6: =SUM(D6:G6) -> 1956
B7: 7101 | C7: =C8+C9 -> 1956 | D7: =D8+D9 -> 1156 | E7: =E8+E9 -> 800 | F7: =F8+F9 -> 0 | G7: =G8+G9 -> 0 | H7: =H8+H9 -> 0 | I7: =I8+I9 -> 0 | J7: =J8+J9 -> 0 | K7: =SUM(D7:G7) -> 1956
B8: 710101 | C8: =D8+E8+F8+G8 -> 1509 | D8: 759 | E8: 750 | H8: 0 | I8: 0 | J8: 0 | K8: =SUM(D8:G8) -> 1509
B9: 710130 | C9: =D9+E9+F9+G9 -> 447 | D9: 397 | E9: 50 | K9: =SUM(D9:G9) -> 447

Sheet DETALIERI 68
C1: 2024 | D1: T1 | E1: T2 | F1: T3 | G1: T4 | H1: 2025 | I1: 2026 | J1: 2027
A2: 6802 | C2: =C3 -> 4207 | D2: =D3 -> 1131 | E2: =E3 -> 1275 | F2: =F3 -> 828 | G2: =G3 -> 973 | H2: =H4+H12+H14 -> 4440 | I2: =I4+I12+I14 -> 4640 | J2: =J4+J12+J14 -> 4940 | K2: =SUM(D2:G2) -> 4207
B3: 1 | C3: =C4+C12+C14 -> 4207 | D3: =D4+D12+D14 -> 1131 | E3: =E4+E12+E14 -> 1275 | F3: =F4+F12+F14 -> 828 | G3: =G4+G12+G14 -> 973 | H3: =H4+H12+H14 -> 4440 | I3: =I4+I12+I14 -> 4640 | J3: =J4+J12+J14 -> 4940 | K3: =SUM(D3:G3) -> 4207
B4: 10 | C4: =C19 -> 2178 | D4: =D19 -> 477 | E4: =E19 -> 620 | F4: =F19 -> 543 | G4: =G19 -> 538 | H4: =H19 -> 2300 | I4: =I19 -> 2400 | J4: =J19 -> 2500 | K4: =SUM(D4:G4) -> 2178
B5: 1001 | C5: =C6+C7 -> 2047 | D5: =SUM(D6:D7) -> 466 | E5: =SUM(E6:E7) -> 528 | F5: =SUM(F6:F7) -> 530 | G5: =SUM(G6:G7) -> 523 | K5: =SUM(D5:G5) -> 2047
B6: 100101 | C6: =C21 -> 1865 | D6: =D21 -> 425 | E6: =E21 -> 480 | F6: =F21 -> 480 | G6: =G21 -> 480 | K6: =SUM(D6:G6) -> 1865
B7: 100117 | C7: =C22 -> 182 | D7: =D22 -> 41 | E7: =E22 -> 48 | F7: =F22 -> 50 | G7: =G22 -> 43 | K7: =SUM(D7:G7) -> 182
B8: 1002 | D8: =D23 -> 0 | E8: =E23 -> 80 | F8: =F23 -> 0 | G8: =G23 -> 0 | K8: =SUM(D8:G8) -> 80
B9: 100206 | D9: =D24 -> 0 | E9: =E24 -> 80 | F9: =F24 -> 0 | G9: =G24 -> 0 | K9: =SUM(D9:G9) -> 80
B10: 1003 | C10: =C11 -> 51 | D10: =SUM(D11:D11) -> 11 | E10: =SUM(E11:E11) -> 12 | F10: =SUM(F11:F11) -> 13 | G10: =SUM(G11:G11) -> 15 | K10: =SUM(D10:G10) -> 51
B11: 100307 | C11: =C26 -> 51 | D11: =D26 -> 11 | E11: =E26 -> 12 | F11: =F26 -> 13 | G11: =G26 -> 15 | K11: =SUM(D11:G11) -> 51
B12: 20 | C12: =C27 -> 60 | D12: =D27 -> 15 | E12: =E27 -> 15 | F12: =F27 -> 15 | G12: =G27 -> 15 | H12: =H27 -> 60 | I12: =I27 -> 60 | J12: =J27 -> 60 | K12: =SUM(D12:G12) -> 60
B13: 200109 | C13: =C27 -> 60 | D13: =D27 -> 15 | E13: =E27 -> 15 | F13: =F27 -> 15 | G13: =G27 -> 15
B14: 57 | C14: =C15 -> 1969 | D14: =D15 -> 639 | E14: =E15 -> 640 | F14: =F15 -> 270 | G14: =G15 -> 420 | H14: =H29+H37 -> 2080 | I14: =I29+I37 -> 2180 | J14: =J29+J37 -> 2380 | K14: =SUM(D14:G14) -> 1969
B15: 5702 | C15: =C30+C34+C38 -> 1969 | D15: =D30+D34+D38 -> 639 | E15: =E30+E34+E38 -> 640 | F15: =F30+F34+F38 -> 270 | G15: =G30+G34+G38 -> 420 | H15: =H30+H34+H38 -> 2080 | I15: =I30+I34+I38 -> 2180 | J15: =J30+J34+J38 -> 2380 | K15: =SUM(D15:G15) -> 1969
B16: 570201 | C16: =C31+C35+C39 -> 1969 | D16: =D31+D35+D39 -> 639 | E16: =E31+E35+E39 -> 640 | F16: =F31+F35+F39 -> 270 | G16: =G31+G35+G39 -> 420 | H16: =H31+H35+H39 -> 2080 | I16: =I31+I35+I39 -> 2180 | J16: =J31+J35+J39 -> 2380 | K16: =SUM(D16:G16) -> 1969
A17: 68020502 | C17: =C18 -> 4108 | D17: =D18 -> 1092 | E17: =E18 -> 1255 | F17: =F18 -> 808 | G17: =G18 -> 953 | H17: =H18 -> 4360 | I17: =I18 -> 4560 | J17: =J18 -> 4860 | K17: =SUM(D17:G17) -> 4108
B18: 1 | C18: =C19+C27+C29 -> 4108 | D18: =D19+D27+D29 -> 1092 | E18: =E19+E27+E29 -> 1255 | F18: =F19+F27+F29 -> 808 | G18: =G19+G27+G29 -> 953 | H18: =H19+H27+H29 -> 4360 | I18: =I19+I27+I29 -> 4560 | J18: =J19+J27+J29 -> 4860 | K18: =SUM(D18:G18) -> 4108
B19: 10 | C19: =C20+C23+C25 -> 2178 | D19: =D20+D23+D25 -> 477 | E19: =E20+E23+E25 -> 620 | F19: =F20+F23+F25 -> 543 | G19: =G20+G23+G25 -> 538 | H19: 2300 | I19: 2400 | J19: 2500 | K19: =SUM(D19:G19) -> 2178
B20: 1001 | C20: =C21+C22 -> 2047 | D20: =D21+D22 -> 466 | E20: =E21+E22 -> 528 | F20: =F21+F22 -> 530 | G20: =G21+G22 -> 523 | K20: =SUM(D20:G20) -> 2047
B21: 100101 | C21: =D21+E21+F21+G21 -> 1865 | D21: 425 | E21: 480 | F21: 480 | G21: 480 | K21: =SUM(D21:G21) -> 1865
B22: 100117 | C22: =D22+E22+F22+G22 -> 182 | D22: 41 | E22: 48 | F22: 50 | G22: 43 | K22: =SUM(D22:G22) -> 182
B23: 1002 | C23: =C24 -> 80 | D23: =D24 -> 0 | E23: =E24 -> 80 | F23: =F24 -> 0 | G23: =G24 -> 0 | K23: =SUM(D23:G23) -> 80
B24: 100206 | C24: =D24+E24+F24+G24 -> 80 | E24: 80 | K24: =SUM(D24:G24) -> 80
B25: 1003 | C25: =C26 -> 51 | D25: =D26 -> 11 | E25: =E26 -> 12 | F25: =F26 -> 13 | G25: =G26 -> 15 | K25: =SUM(D25:G25) -> 51
B26: 100307 | C26: =D26+E26+F26+G26 -> 51 | D26: 11 | E26: 12 | F26: 13 | G26: 15 | K26: =SUM(D26:G26) -> 51
B27: 20 | C27: =C28 -> 60 | D27: =D28 -> 15 | E27: =E28 -> 15 | F27: =F28 -> 15 | G27: =G28 -> 15 | H27: 60 | I27: 60 | J27: 60 | K27: =D27+E27+F27+G27 -> 60
B28: 200109 | C28: =D28+E28+F28+G28 -> 60 | D28: 15 | E28: 15 | F28: 15 | G28: 15 | K28: =D28+E28+F28+G28 -> 60
B29: 57 | C29: =C30 -> 1870 | D29: =D30 -> 600 | E29: =E30 -> 620 | F29: =F30 -> 250 | G29: =G30 -> 400 | H29: =H30 -> 2000 | I29: =I30 -> 2100 | J29: =J30 -> 2300 | K29: =SUM(D29:G29) -> 1870
B30: 5702 | C30: =C31 -> 1870 | D30: =D31 -> 600 | E30: =E31 -> 620 | F30: =F31 -> 250 | G30: =G31 -> 400 | H30: =H31 -> 2000 | I30: =I31 -> 2100 | J30: =J31 -> 2300 | K30: =SUM(D30:G30) -> 1870
B31: 570201 | C31: =D31+E31+F31+G31 -> 1870 | D31: 600 | E31: 620 | F31: 250 | G31: 400 | H31: 2000 | I31: 2100 | J31: 2300 | K31: =SUM(D31:J31) -> 8270
A32: 68021501 | C32: =C33 -> 19 | D32: =D33 -> 19 | E32: =E33 -> 0 | F32: =F33 -> 0 | G32: =G33 -> 0 | H32: =H33 -> 0 | I32: =I33 -> 0 | J32: =J33 -> 0 | K32: =SUM(D32:G32) -> 19
B33: 57 | C33: =C34 -> 19 | D33: =D34 -> 19 | E33: =E34 -> 0 | F33: =F34 -> 0 | G33: =G34 -> 0 | H33: =H34 -> 0 | I33: =I34 -> 0 | J33: =J34 -> 0 | K33: =SUM(D33:G33) -> 19
B34: 5702 | C34: =C35 -> 19 | D34: =D35 -> 19 | E34: =E35 -> 0 | F34: =F35 -> 0 | G34: =G35 -> 0 | H34: =H35 -> 0 | I34: =I35 -> 0 | J34: =J35 -> 0 | K34: =SUM(D34:G34) -> 19
B35: 570201 | C35: =D35+E35+F35+G35 -> 19 | D35: 19 | E35: 0 | F35: 0 | G35: 0 | K35: =SUM(D35:G35) -> 19
A36: 68025050 | K36: =SUM(D36:G36) -> 0
B37: 57 | C37: =C38 -> 80 | D37: =D38 -> 20 | E37: =E38 -> 20 | F37: =F38 -> 20 | G37: =G38 -> 20 | H37: =H38 -> 80 | I37: =I38 -> 80 | J37: =J38 -> 80 | K37: =SUM(D37:G37) -> 80
B38: 5702 | C38: =C39 -> 80 | D38: =D39 -> 20 | E38: =E39 -> 20 | F38: =F39 -> 20 | G38: =G39 -> 20 | H38: =H39 -> 80 | I38: =I39 -> 80 | J38: =J39 -> 80 | K38: =SUM(D38:G38) -> 80
B39: 570201 | C39: =D39+E39+F39+G39 -> 80 | D39: 20 | E39: 20 | F39: 20 | G39: 20 | H39: 80 | I39: 80 | J39: 80 | K39: =SUM(D39:J39) -> 320

Sheet TOTALURI
A1: TOTAL CHELT. | B1: 2024 | C1: T1 | D1: T2 | E1: T3 | F1: T4 | G1: 2025 | H1: 2026 | I1: 2027
A2: 51 | B2: ='DETALIERI 51, 61, 65, 66'!C17 -> 5206 | C2: ='DETALIERI 51, 61, 65, 66'!D17 -> 1511 | D2: ='DETALIERI 51, 61, 65, 66'!E17 -> 1561 | E2: ='DETALIERI 51, 61, 65, 66'!F17 -> 1084 | F2: ='DETALIERI 51, 61, 65, 66'!G17 -> 1050 | G2: ='DETALIERI 51, 61, 65, 66'!H17 -> 5200 | H2: ='DETALIERI 51, 61, 65, 66'!I17 -> 5350 | I2: ='DETALIERI 51, 61, 65, 66'!J17 -> 5550 | J2: =SUM(C2:F2) -> 5206
A3: 54 | B3: ='DETALIERI 51, 61, 65, 66'!C65 -> 50 | C3: ='DETALIERI 51, 61, 65, 66'!D65 -> 0 | D3: ='DETALIERI 51, 61, 65, 66'!E65 -> 20 | E3: ='DETALIERI 51, 61, 65, 66'!F65 -> 20 | F3: ='DETALIERI 51, 61, 65, 66'!G65 -> 10 | G3: ='DETALIERI 51, 61, 65, 66'!H65 -> 0 | H3: ='DETALIERI 51, 61, 65, 66'!I65 -> 0 | I3: ='DETALIERI 51, 61, 65, 66'!J65 -> 0 | J3: =SUM(C3:F3) -> 50
A4: 61 | B4: ='DETALIERI 51, 61, 65, 66'!C69 -> 31 | C4: ='DETALIERI 51, 61, 65, 66'!D69 -> 11 | D4: ='DETALIERI 51, 61, 65, 66'!E69 -> 9 | E4: ='DETALIERI 51, 61, 65, 66'!F69 -> 6 | F4: ='DETALIERI 51, 61, 65, 66'!G69 -> 5 | G4: ='DETALIERI 51, 61, 65, 66'!H69 -> 144 | H4: ='DETALIERI 51, 61, 65, 66'!I69 -> 111 | I4: ='DETALIERI 51, 61, 65, 66'!J69 -> 122 | J4: =SUM(C4:F4) -> 31
A5: 65 | B5: ='DETALIERI 51, 61, 65, 66'!C79 -> 1175 | C5: ='DETALIERI 51, 61, 65, 66'!D79 -> 586 | D5: ='DETALIERI 51, 61, 65, 66'!E79 -> 421 | E5: ='DETALIERI 51, 61, 65, 66'!F79 -> 91 | F5: ='DETALIERI 51, 61, 65, 66'!G79 -> 77 | G5: ='DETALIERI 51, 61, 65, 66'!H79 -> 909 | H5: ='DETALIERI 51, 61, 65, 66'!I79 -> 941 | I5: ='DETALIERI 51, 61, 65, 66'!J79 -> 973 | J5: =SUM(C5:F5) -> 1175
A6: 66 | B6: ='DETALIERI 51, 61, 65, 66'!C110 -> 81 | C6: ='DETALIERI 51, 61, 65, 66'!D110 -> 20 | D6: ='DETALIERI 51, 61, 65, 66'!E110 -> 22 | E6: ='DETALIERI 51, 61, 65, 66'!F110 -> 20 | F6: ='DETALIERI 51, 61, 65, 66'!G110 -> 19 | G6: ='DETALIERI 51, 61, 65, 66'!H110 -> 88 | H6: ='DETALIERI 51, 61, 65, 66'!I110 -> 90 | I6: ='DETALIERI 51, 61, 65, 66'!J110 -> 92 | J6: =SUM(C6:F6) -> 81
A7: 67 | B7: ='detalieri 67'!C2 -> 1069 | C7: ='detalieri 67'!D2 -> 640 | D7: ='detalieri 67'!E2 -> 330 | E7: ='detalieri 67'!F2 -> 49 | F7: ='detalieri 67'!G2 -> 50 | G7: ='detalieri 67'!H2 -> 530 | H7: ='detalieri 67'!I2 -> 545 | I7: ='detalieri 67'!J2 -> 560 | J7: =SUM(C7:F7) -> 1069
A8: 68 | B8: ='DETALIERI 68'!C2 -> 4207 | C8: ='DETALIERI 68'!D2 -> 1131 | D8: ='DETALIERI 68'!E2 -> 1275 | E8: ='DETALIERI 68'!F2 -> 828 | F8: ='DETALIERI 68'!G2 -> 973 | G8: ='DETALIERI 68'!H2 -> 4440 | H8: ='DETALIERI 68'!I2 -> 4640 | I8: ='DETALIERI 68'!J2 -> 4940 | J8: =SUM(C8:F8) -> 4207
A9: 70 | B9: ='detalieri 70'!C2 -> 856 | C9: ='detalieri 70'!D2 -> 424 | D9: ='detalieri 70'!E2 -> 409 | E9: ='detalieri 70'!F2 -> 18 | F9: ='detalieri 70'!G2 -> 5 | G9: ='detalieri 70'!H2 -> 520 | H9: ='detalieri 70'!I2 -> 520 | I9: ='detalieri 70'!J2 -> 310 | J9: =SUM(C9:F9) -> 856
A10: 74 | B10: ='detalieri 74'!C2 -> 1210 | C10: ='detalieri 74'!D2 -> 645 | D10: ='detalieri 74'!E2 -> 535 | E10: ='detalieri 74'!F2 -> 15 | F10: ='detalieri 74'!G2 -> 15 | G10: ='detalieri 74'!H2 -> 202 | H10: ='detalieri 74'!I2 -> 210 | I10: ='detalieri 74'!J2 -> 215 | J10: =SUM(C10:F10) -> 1210
A11: 83 | B11: ='detalieri 83'!C2 -> 0 | C11: ='detalieri 83'!D2 -> 0 | D11: ='detalieri 83'!E2 -> 0 | E11: ='detalieri 83'!F2 -> 0 | F11: ='detalieri 83'!G2 -> 0 | G11: ='detalieri 83'!H2 -> 0 | H11: ='detalieri 83'!I2 -> 0 | I11: ='detalieri 83'!J2 -> 0 | J11: =SUM(C11:F11) -> 0
A12: 84 | B12: ='detalieri 84'!C2 -> 2039 | C12: ='detalieri 84'!D2 -> 1189 | D12: ='detalieri 84'!E2 -> 850 | E12: ='detalieri 84'!F2 -> 0 | F12: ='detalieri 84'!G2 -> 0 | G12: ='detalieri 84'!H2 -> 100 | H12: ='detalieri 84'!I2 -> 110 | I12: ='detalieri 84'!J2 -> 120 | J12: =SUM(C12:F12) -> 2039
A13: TOTAL | B13: =SUM(B2:B12) -> 15924 | C13: =SUM(C2:C12) -> 6157 | D13: =SUM(D2:D12) -> 5432 | E13: =SUM(E2:E12) -> 2131 | F13: =SUM(F2:F12) -> 2204 | G13: =SUM(G2:G12) -> 12133 | H13: =SUM(H2:H12) -> 12517 | I13: =SUM(I2:I12) -> 12882 | J13: =SUM(C13:F13) -> 15924
J14: =SUM(C14:F14) -> 0
J15: =SUM(C15:F15) -> 0
A16: VENITURI functionare | B16: =C16+D16+E16+F16 -> 11451 | C16: 3694 | D16: 3422 | E16: 2131 | F16: 2204 | G16: 12133 | H16: 12517 | I16: 12882 | J16: =C16+D16+E16+F16 -> 11451
A17: EXCEDENT | B17: =C17+D17+E17+F17 -> 3387 | C17: 1597 | D17: 1790 | J17: =SUM(C17:F17) -> 3387
A18: viramente | B18: =C18+D18+E18+F18 -> 470 | C18: 250 | D18: 220 | J18: =SUM(C18:F18) -> 470
A19: sume primite | B19: =C19+D19+E19+F19 -> 616 | C19: 616 | J19: =SUM(C19:F19) -> 616
A20: TOTAL | B20: =B16+B17+B18+B19 -> 15924 | C20: =C16+C17+C18+C19 -> 6157 | D20: =D16+D17+D18+D19 -> 5432 | E20: =E16+E17+E18+E19 -> 2131 | F20: =F16+F17+F18+F19 -> 2204 | G20: =G16+G17+G19 -> 12133 | H20: =H16+H17+H19 -> 12517 | I20: =I16+I17+I19 -> 12882 | J20: =SUM(C20:F20) -> 15924
J21: =SUM(C21:F21) -> 0
B22: =B13-B20 -> 0 | C22: =C13-C20 -> 0 | D22: =D13-D20 -> 0 | E22: =E13-E20 -> 0 | F22: =F13-F20 -> 0 | G22: =G13-G20 -> 0 | H22: =H13-H20 -> 0 | I22: =I13-I20 -> 0 | J22: =SUM(C22:F22) -> 0

Sheet anexa 2
A1: JUDETUL DAMBOVITA
A2: COMUNA ION LUCA CARAGIALE
C3: ANEXA NR.2
C4: PRIVIND CHELTUIELILE PE SECTIUNI ALE BUGETULUI LOCAL
C5: PENTRU ANUL 2024
F6: mii lei
A7: Cod | B7: Denumire indicator | C7: Program 2024 | D7: Sectiunea functionare | E7: Sectiunea dezvoltare | F7: Estimari 2025 | G7: Estimari 2026 | H7: Estimari 2027
A8: 50 02 | B8: TOTAL CHELTUIELI BUGET LOCAL | C8: =C9+C58+C60+C69+C100+C114+C152+C170+C188+C205 -> 15924 | D8: =D9+D58+D60+D69+D100+D114+D152+D170+D188+D205 -> 11451 | E8: =E9+E60+E69+E100+E114+E152+E170+E188+E205 -> 4473 | F8: =F9+F60+F69+F100+F114+F152+F170+F188+F205+F58 -> 12133 | G8: =G9+G60+G69+G100+G114+G152+G170+G188+G205+G58 -> 12517 | H8: =H9+H60+H69+H100+H114+H152+H170+H188+H205+H58 -> 12882
A9: 51 02 | B9: AUTORITATI PUBLICE SI ACTIUNI EXTERNE | C9: =C10 -> 5206 | D9: =D10 -> 5056 | E9: =E10 -> 150 | F9: =F10 -> 5200 | G9: =G10 -> 5350 | H9: =H10 -> 5550
A10: 51 02 01 03 | B10: Autoritati executive | C10: =C11+C51 -> 5206 | D10: =D11+D51 -> 5056 | E10: =E11+E51 -> 150 | F10: =F11+F51 -> 5200 | G10: =G11+G51 -> 5350 | H10: =H11+H51 -> 5550
A11: 51 02 01 | B11: Cheltuieli curente | C11: =C12+C27+C49 -> 5056 | D11: =D12+D27+D49 -> 5056 | E11: =E12+E27 -> 0 | F11: =F12+F27+F49 -> 5200 | G11: =G12+G27+G49 -> 5350 | H11: =H12+H27+H49 -> 5550
A12: 51 02 10 | B12: Cheltuieli de personal | C12: =C13+C18+C20 -> 4076 | D12: =D13+D18+D20 -> 4076 | E12: 0 | F12: ='DETALIERI 51, 61, 65, 66'!H19 -> 4200 | G12: ='DETALIERI 51, 61, 65, 66'!I19 -> 4300 | H12: ='DETALIERI 51, 61, 65, 66'!J19 -> 4400
A13: 51 02 10 01 | B13: Cheltuieli salariale in bani | C13: =C14+C15+C16+C17 -> 3916 | D13: =D14+D15+D16+D17 -> 3916 | E13: =SUM(E14:E15) -> 0 | F13: =SUM(F14:F15) -> 0 | G13: =SUM(G14:G15) -> 0 | H13: =SUM(H14:H15) -> 0
A14: 51 02 10 01 01 | B14: Salarii de baza | C14: =D14 -> 3510 | D14: ='DETALIERI 51, 61, 65, 66'!C21 -> 3510 | E14: 0
A15: 51 02 10 01 12 | B15: Indemnizatii in afara unitatii | C15: =D15 -> 226 | D15: ='DETALIERI 51, 61, 65, 66'!C22 -> 226
A16: 51 02 10 01 17 | B16: Indemnizatia de hrana | C16: =D16 -> 130 | D16: ='DETALIERI 51, 61, 65, 66'!C23 -> 130
A17: 51 02 10 01 30 | B17: Hotarari judecatoresti | C17: =D17 -> 50 | D17: ='DETALIERI 51, 61, 65, 66'!C24 -> 50
A18: 51 02 10 02 | B18: Cheltuieli salariale in natura | C18: =D18 -> 55 | D18: =D19 -> 55
A19: 51 02 10 02 06 | B19: Vouchere de vacanta | C19: =D19 -> 55 | D19: ='DETALIERI 51, 61, 65, 66'!C26 -> 55
A20: 51 02 10 03 | B20: Contributii | C20: =D20 -> 105 | D20: =SUM(D21:D26) -> 105 | E20: =SUM(E21:E25) -> 0 | F20: =SUM(F21:F25) -> 0 | G20: =SUM(G21:G25) -> 0 | H20: =SUM(H21:H25) -> 0
A21: 51 02 10 03 01 | B21: Contributii de asigurari sociale de stat | C21: =D21 -> 0 | D21: ='DETALIERI 51, 61, 65, 66'!C28 -> 0
A22: 51 02 10 03 02 | B22: Contributii de asigurari de somaj | C22: =D22 -> 0 | D22: ='DETALIERI 51, 61, 65, 66'!C29 -> 0
A23: 51 02 10 03 03 | B23: Contributii de asigurari sociale de sanatate | C23: =D23 -> 0 | D23: ='DETALIERI 51, 61, 65, 66'!C30 -> 0
A24: 51 02 10 03 04 | B24: Contributii de asigurari pt.accid.de munca si boli prof. | C24: =D24 -> 0 | D24: ='DETALIERI 51, 61, 65, 66'!C31 -> 0
A25: 51 02 10 03 06 | B25: Contributii pt.concedii si indemnizatii | C25: =D25 -> 0 | D25: ='DETALIERI 51, 61, 65, 66'!C32 -> 0
A26: 51 02 10 03 07 | B26: Contributia asiguratorie pentru munca | C26: =D26 -> 105 | D26: ='DETALIERI 51, 61, 65, 66'!C33 -> 105
A27: 51 02 20 | B27: Bunuri si servicii | C27: =D27 -> 930 | D27: =D28+D39+D40+D42+D45+D44 -> 930 | F27: ='DETALIERI 51, 61, 65, 66'!H34 -> 950 | G27: ='DETALIERI 51, 61, 65, 66'!I34 -> 1000 | H27: ='DETALIERI 51, 61, 65, 66'!J34 -> 1100
A28: 51 02 20 01 | B28: Bunuri si servicii | C28: =D28 -> 552 | D28: =SUM(D29:D38) -> 552 | E28: =SUM(E29:E38) -> 0 | F28: =SUM(F29:F38) -> 0 | G28: =SUM(G29:G38) -> 0 | H28: =SUM(H29:H38) -> 0
A29: 51 02 20 01 01 | B29: Furnituri de birou | C29: =D29 -> 50 | D29: ='DETALIERI 51, 61, 65, 66'!C36 -> 50
A30: 51 02 20 01 02 | B30: Materiale de curatenie | C30: =D30 -> 23 | D30: ='DETALIERI 51, 61, 65, 66'!C37 -> 23
A31: 51 02 20 01 03 | B31: Incalzit, iluminat | C31: =D31 -> 84 | D31: ='DETALIERI 51, 61, 65, 66'!C38 -> 84
A32: 51 02 20 01 04 | B32: Apa,canal | C32: =D32 -> 8 | D32: ='DETALIERI 51, 61, 65, 66'!C39 -> 8
A33: 51 02 20 01 05 | B33: Carburanti si lubrifianti | C33: =D33 -> 40 | D33: ='DETALIERI 51, 61, 65, 66'!C40 -> 40
A34: 51 02 20 01 06 | B34: Piese de schimb | C34: =D34 -> 10 | D34: ='DETALIERI 51, 61, 65, 66'!C41 -> 10
A35: 51 02 20 01 07 | B35: Transport | D35: ='DETALIERI 51, 61, 65, 66'!C42 -> 32
A36: 51 02 20 01 08 | B36: Posta, telecomunicatii, radio, TV, internet | C36: =D36 -> 55 | D36: ='DETALIERI 51, 61, 65, 66'!C43 -> 55
A37: 51 02 20 01 09 | B37: Materiale si prestari de servicii cu caracter functional | C37: =D37 -> 150 | D37: ='DETALIERI 51, 61, 65, 66'!C44 -> 150
A38: 51 02 20 01 30 | B38: Alte bunuri si servicii pt.intretinere si functionare | C38: =D38 -> 100 | D38: ='DETALIERI 51, 61, 65, 66'!C45 -> 100
A39: 51 02 20 02 | B39: Reparatii curente | C39: =D39 -> 60 | D39: ='DETALIERI 51, 61, 65, 66'!C46 -> 60
A40: 51 02 20 05 | B40: Bunuri de natura obiectelor de inventar | C40: =D40 -> 50 | D40: =D41 -> 50 | E40: =E41 -> 0 | F40: =F41 -> 0 | G40: =G41 -> 0 | H40: =H41 -> 0
A41: 51 02 20 05 30 | B41: Alte obiecte de inventar | C41: =D41 -> 50 | D41: ='DETALIERI 51, 61, 65, 66'!C48 -> 50
A42: 51 02 20 06 | B42: Deplasari, detasari, transferari | C42: =D42 -> 8 | D42: =D43 -> 8 | E42: =E43 -> 0 | F42: =F43 -> 0 | G42: =G43 -> 0 | H42: =H43 -> 0
A43: 51 02 20 06 01 | B43: Deplasari interne, detasari, transferari | C43: =D43 -> 8 | D43: ='DETALIERI 51, 61, 65, 66'!C50 -> 8
A44: 51 02 20 13 | B44: Pregatire profesionala | C44: =D44 -> 25 | D44: ='DETALIERI 51, 61, 65, 66'!C51 -> 25
A45: 51 02 20 30 | B45: Alte cheltuieli | C45: =D45 -> 235 | D45: =SUM(D46:D48) -> 235 | E45: =SUM(E46:E48) -> 0 | F45: =SUM(F46:F48) -> 0 | G45: =SUM(G46:G48) -> 0 | H45: =SUM(H46:H48) -> 0
A46: 51 02 20 30 01 | B46: Reclama si publicitate | C46: =D46 -> 30 | D46: ='DETALIERI 51, 61, 65, 66'!C53 -> 30
A47: 51 02 20 30 02 | B47: Protocol si reprezentare | C47: =D47 -> 30 | D47: ='DETALIERI 51, 61, 65, 66'!C54 -> 30
A48: 51 02 20 30 30 | B48: Alte cheltuieli cu bunuri si servicii | C48: =D48 -> 175 | D48: ='DETALIERI 51, 61, 65, 66'!C55 -> 175
A49: 51 02 59 | B49: Alte cheltuieli | C49: ='DETALIERI 51, 61, 65, 66'!C56 -> 50 | D49: ='DETALIERI 51, 61, 65, 66'!D56 -> 50 | F49: ='DETALIERI 51, 61, 65, 66'!H56 -> 50 | G49: ='DETALIERI 51, 61, 65, 66'!I56 -> 50 | H49: ='DETALIERI 51, 61, 65, 66'!J56 -> 50
A50: 51 02 59 11 | B50: Asociatii si fundatii | C50: ='DETALIERI 51, 61, 65, 66'!C57 -> 50 | D50: ='DETALIERI 51, 61, 65, 66'!D57 -> 50
A51: 51 02 70 | B51: Cheltuieli de capital | C51: =C52 -> 150 | E51: ='DETALIERI 51, 61, 65, 66'!C58 -> 150 | F51: =F52 -> 0 | G51: =G52 -> 0 | H51: =H52 -> 0
A52: 51 02 71 | B52: Active nefinanciare | C52: =C53 -> 150 | E52: ='DETALIERI 51, 61, 65, 66'!C59 -> 150 | F52: =F53 -> 0 | G52: =G53 -> 0 | H52: =H53 -> 0
A53: 51 02 71 01 | B53: Active fixe | C53: =C54+C55+C56+C57 -> 150 | E53: ='DETALIERI 51, 61, 65, 66'!C60 -> 150 | F53: =F54+F57 -> 0 | G53: =G54+G57 -> 0 | H53: =H54+H57 -> 0
A54: 51 02 71 01 01 | B54: Constructii | C54: =E54 -> 100 | E54: ='DETALIERI 51, 61, 65, 66'!C61 -> 100
A55: 51 02 71 01 02 | B55: Masini,echipamente si mijloace de transport | C55: =E55 -> 0 | E55: ='DETALIERI 51, 61, 65, 66'!C62 -> 0
A56: 51 02 71 01 03 | B56: Mobilier,aparatura birotica si alte active corporale | C56: =E56 -> 0 | E56: ='DETALIERI 51, 61, 65, 66'!D63 -> 0
A57: 51 02 71 01 30 | B57: Alte active fixe | C57: =E57 -> 50 | E57: ='DETALIERI 51, 61, 65, 66'!C64 -> 50
A58: 54 02 | C58: =D58 -> 50 | D58: =D59 -> 50 | E58: =E59 -> 0 | F58: =F59 -> 0 | G58: =G59 -> 0 | H58: =H59 -> 0
A59: 54 02 20 30 30 | B59: Alte cheltuieli cu bunuri si servicii | C59: =D59 -> 50 | D59: ='DETALIERI 51, 61, 65, 66'!C67 -> 50 | E59: ='DETALIERI 51, 61, 65, 66'!D67 -> 0 | F59: ='DETALIERI 51, 61, 65, 66'!H65 -> 0 | G59: ='DETALIERI 51, 61, 65, 66'!I65 -> 0 | H59: ='DETALIERI 51, 61, 65, 66'!J65 -> 0
A60: 61 02 | B60: ORDINE PUBLICA SI SIGURANTA NATIONALA | C60: =C61 -> 31 | D60: =D61 -> 31 | E60: =E61 -> 0 | F60: =F61 -> 144 | G60: =G61 -> 111 | H60: =H61 -> 122
A61: 61 02 01 | B61: Cheltuieli curente | C61: =C62 -> 31 | D61: =D62 -> 31 | E61: =E62 -> 0 | F61: =F62 -> 144 | G61: =G62 -> 111 | H61: =H62 -> 122
A62: 61 02 20 | B62: Bunuri si servicii | C62: =C63+C67 -> 31 | D62: =D63+D67 -> 31 | E62: =E63+E67 -> 0 | F62: ='DETALIERI 51, 61, 65, 66'!H71 -> 144 | G62: ='DETALIERI 51, 61, 65, 66'!I71 -> 111 | H62: ='DETALIERI 51, 61, 65, 66'!J71 -> 122
A63: 61 02 20 01 | B63: Bunuri si servicii | C63: =C64+C65+C66 -> 22 | D63: =D64+D65+D66 -> 22 | E63: =E64 -> 0 | F63: =F64 -> 0 | G63: =G64 -> 0 | H63: =H64 -> 0
A64: 61 02 20 01 09 | B64: Materiale si prestari de servicii cu caracter functional | C64: =D64 -> 10 | D64: ='DETALIERI 51, 61, 65, 66'!C75 -> 10
A65: 61 02 20 01 05 | B65: Carburanti si lubrifianti | C65: =D65 -> 4 | D65: ='DETALIERI 51, 61, 65, 66'!C73 -> 4
A66: 61 02 20 01 06 | B66: Piese de schimb | C66: =D66 -> 8 | D66: ='DETALIERI 51, 61, 65, 66'!C74 -> 8
A67: 61 02 20 30 | B67: Alte cheltuieli | C67: =C68 -> 9 | D67: =D68 -> 9 | E67: =E68 -> 0 | F67: =F68 -> 0 | G67: =G68 -> 0 | H67: =H68 -> 0
A68: 61 02 20 30 30 | B68: Alte cheltuieli cu bunuri si servicii | C68: =D68 -> 9 | D68: ='DETALIERI 51, 61, 65, 66'!C77 -> 9
A69: 65 02 | B69: INVATAMANT | C69: =D69+E69 -> 1175 | D69: =D70+D71+D72+D74 -> 854 | E69: =E70+E71+E72+E73+E74 -> 321 | F69: =F75 -> 909 | G69: =G75 -> 941 | H69: =H75 -> 973
A70: 65 02 03 01 | B70: Invatamant prescolar | C70: ='detalieri scoala'!C3 -> 120 | D70: 0 | E70: ='detalieri scoala'!C24 -> 120 | F70: ='detalieri scoala'!H3 -> 0 | G70: ='detalieri scoala'!I3 -> 0 | H70: ='detalieri scoala'!J3 -> 0
A71: 65 02 03 02 | B71: Invatamant primar | C71: =SUM(D71:E71) -> 191 | D71: 0 | E71: ='detalieri scoala'!C54 -> 191 | F71: ='detalieri scoala'!H29 -> 0 | G71: ='detalieri scoala'!I29 -> 0 | H71: ='detalieri scoala'!J29 -> 0
A72: 65 02 04 01 | B72: Invatamant gimnazial | C72: =D72+E72 -> 800 | D72: =D76+D92 -> 800 | F72: ='detalieri scoala'!H60 -> 850 | G72: ='detalieri scoala'!I60 -> 880 | H72: ='detalieri scoala'!J60 -> 910
A73: 65 02 13 | B73: Invatamant anteprescolar | C73: =D73+E73 -> 10 | E73: ='detalieri scoala'!C87 -> 10
A74: 65 02 50 | B74: Alte cheltuieli in domeniul invatamantului | C74: =D74+E74 -> 54 | D74: =D93 -> 54 | F74: ='detalieri scoala'!H92 -> 59 | G74: ='detalieri scoala'!I92 -> 61 | H74: ='detalieri scoala'!J92 -> 63
A75: 65 02 01 | B75: Cheltuieli curente | C75: =C76+C91 -> 854 | D75: =D76+D91 -> 854 | E75: =E76+E91 -> 0 | F75: =F76+F91 -> 909 | G75: =G76+G91 -> 941 | H75: =H76+H91 -> 973
A76: 65 02 20 | B76: Bunuri si servicii | C76: ='DETALIERI 51, 61, 65, 66'!C81 -> 696 | D76: ='DETALIERI 51, 61, 65, 66'!C81 -> 696 | E76: =E77+E84+E85+E87+E89+E90 -> 0 | F76: ='DETALIERI 51, 61, 65, 66'!H81 -> 700 | G76: ='DETALIERI 51, 61, 65, 66'!I81 -> 720 | H76: ='DETALIERI 51, 61, 65, 66'!J81 -> 740
A77: 65 02 20 01 | B77: Bunuri si servicii | C77: =SUM(C78:C83) -> 454 | D77: =SUM(D78:D83) -> 454 | E77: =SUM(E78:E83) -> 0 | F77: ='DETALIERI 51, 61, 65, 66'!H82 -> 0 | G77: ='DETALIERI 51, 61, 65, 66'!I82 -> 0 | H77: ='DETALIERI 51, 61, 65, 66'!J82 -> 0
A78: 65 02 20 01 01 | B78: Furnituri de birou | C78: =D78 -> 30 | D78: ='DETALIERI 51, 61, 65, 66'!C83 -> 30 | F78: ='DETALIERI 51, 61, 65, 66'!H83 -> 0 | G78: ='DETALIERI 51, 61, 65, 66'!I83 -> 0 | H78: ='DETALIERI 51, 61, 65, 66'!J83 -> 0
A79: 65 02 20 01 02 | B79: Materiale de curatenie | C79: =D79 -> 30 | D79: ='DETALIERI 51, 61, 65, 66'!C84 -> 30 | F79: ='DETALIERI 51, 61, 65, 66'!H84 -> 0 | G79: ='DETALIERI 51, 61, 65, 66'!I84 -> 0 | H79: ='DETALIERI 51, 61, 65, 66'!J84 -> 0
A80: 65 02 20 01 03 | B80: Incalzit, iluminat | C80: =D80 -> 195 | D80: ='DETALIERI 51, 61, 65, 66'!C85 -> 195 | F80: ='DETALIERI 51, 61, 65, 66'!H85 -> 0 | G80: ='DETALIERI 51, 61, 65, 66'!I85 -> 0 | H80: ='DETALIERI 51, 61, 65, 66'!J85 -> 0
A81: 65 02 20 01 06 | B81: Piese de schimb | C81: =D81 -> 20 | D81: ='DETALIERI 51, 61, 65, 66'!C87 -> 20 | F81: ='DETALIERI 51, 61, 65, 66'!H87 -> 0 | G81: ='DETALIERI 51, 61, 65, 66'!I87 -> 0 | H81: ='DETALIERI 51, 61, 65, 66'!J87 -> 0
A82: 65 02 20 01 07 | B82: Transport | C82: =D82 -> 105 | D82: ='DETALIERI 51, 61, 65, 66'!C88 -> 105 | F82: ='DETALIERI 51, 61, 65, 66'!H88 -> 0 | G82: ='DETALIERI 51, 61, 65, 66'!I88 -> 0 | H82: ='DETALIERI 51, 61, 65, 66'!J88 -> 0
A83: 65 02 20 01 09 | B83: Materiale si prestari de servicii cu caracter functional | C83: =D83 -> 74 | D83: ='DETALIERI 51, 61, 65, 66'!C90 -> 74 | F83: ='DETALIERI 51, 61, 65, 66'!H90 -> 0 | G83: ='DETALIERI 51, 61, 65, 66'!I90 -> 0 | H83: ='DETALIERI 51, 61, 65, 66'!J90 -> 0
A84: 65 02 20 02 | B84: Reparatii curente | C84: =D84 -> 40 | D84: ='DETALIERI 51, 61, 65, 66'!C92 -> 40 | E84: 0 | F84: ='DETALIERI 51, 61, 65, 66'!H92 -> 0 | G84: ='DETALIERI 51, 61, 65, 66'!I92 -> 0 | H84: ='DETALIERI 51, 61, 65, 66'!J92 -> 0
A85: 65 02 20 05 | B85: Bunuri de natura obiectelor de inventar | C85: =D85 -> 45 | D85: ='DETALIERI 51, 61, 65, 66'!C93 -> 45 | E85: 0 | F85: ='DETALIERI 51, 61, 65, 66'!H93 -> 0 | G85: ='DETALIERI 51, 61, 65, 66'!I93 -> 0 | H85: ='DETALIERI 51, 61, 65, 66'!J93 -> 0
A86: 65 02 20 05 30 | B86: Alte obiecte de inventar | C86: =D86 -> 45 | D86: ='DETALIERI 51, 61, 65, 66'!C94 -> 45 | E86: 0 | F86: ='DETALIERI 51, 61, 65, 66'!H94 -> 0 | G86: ='DETALIERI 51, 61, 65, 66'!I94 -> 0 | H86: ='DETALIERI 51, 61, 65, 66'!J94 -> 0
A87: 65 02 20 06 | B87: Deplasari, detasari, transferari | C87: =D87 -> 3 | D87: ='DETALIERI 51, 61, 65, 66'!C95 -> 3 | E87: 0 | F87: ='DETALIERI 51, 61, 65, 66'!H95 -> 0 | G87: ='DETALIERI 51, 61, 65, 66'!I95 -> 0 | H87: ='DETALIERI 51, 61, 65, 66'!J95 -> 0
A88: 65 02 20 06 01 | B88: Deplasari interne, detasari, transferari | C88: =D88 -> 3 | D88: ='DETALIERI 51, 61, 65, 66'!C96 -> 3 | E88: 0 | F88: ='DETALIERI 51, 61, 65, 66'!H96 -> 0 | G88: ='DETALIERI 51, 61, 65, 66'!I96 -> 0 | H88: ='DETALIERI 51, 61, 65, 66'!J96 -> 0
A89: 65 02 20 11 | B89: Carti | C89: =D89 -> 0 | D89: ='DETALIERI 51, 61, 65, 66'!C97 -> 0 | F89: ='DETALIERI 51, 61, 65, 66'!H97 -> 0 | G89: ='DETALIERI 51, 61, 65, 66'!I97 -> 0 | H89: ='DETALIERI 51, 61, 65, 66'!J97 -> 0
A90: 65 02 20 13 | B90: Pregatire profesionala | C90: =D90 -> 20 | D90: ='DETALIERI 51, 61, 65, 66'!C98 -> 20 | E90: 0 | F90: ='DETALIERI 51, 61, 65, 66'!H98 -> 0 | G90: ='DETALIERI 51, 61, 65, 66'!I98 -> 0 | H90: ='DETALIERI 51, 61, 65, 66'!J98 -> 0
A91: 65 02 57 | B91: Asistenta sociala | C91: =C92+C93 -> 158 | D91: =D92+D93 -> 158 | E91: 0 | F91: ='DETALIERI 51, 61, 65, 66'!H99 -> 209 | G91: ='DETALIERI 51, 61, 65, 66'!I99 -> 221 | H91: ='DETALIERI 51, 61, 65, 66'!J99 -> 233
A92: 65 02 57 02 01 | B92: Ajutoare sociale in numerar | C92: =D92 -> 104 | D92: ='DETALIERI 51, 61, 65, 66'!C101 -> 104 | E92: 0 | F92: ='detalieri scoala'!H80 -> 150 | G92: ='detalieri scoala'!I80 -> 160 | H92: ='detalieri scoala'!J80 -> 170
A93: 65 02 57 02 03 | B93: Tichete de cresa si tichete sociale pentru grădiniță | C93: =D93 -> 54 | D93: ='DETALIERI 51, 61, 65, 66'!C102 -> 54 | F93: ='detalieri scoala'!H92 -> 59 | G93: ='detalieri scoala'!I92 -> 61 | H93: ='detalieri scoala'!J92 -> 63
A94: 65 02 70 | B94: Cheltuieli de capital | C94: =C95 -> 321 | E94: ='DETALIERI 51, 61, 65, 66'!C103 -> 321 | F94: ='DETALIERI 51, 61, 65, 66'!H103 -> 0 | G94: ='DETALIERI 51, 61, 65, 66'!I103 -> 0 | H94: ='DETALIERI 51, 61, 65, 66'!J103 -> 0
A95: 65 02 71 | B95: Active nefinanciare | C95: =C96 -> 321 | E95: ='DETALIERI 51, 61, 65, 66'!C104 -> 321 | F95: ='DETALIERI 51, 61, 65, 66'!H104 -> 0 | G95: ='DETALIERI 51, 61, 65, 66'!I104 -> 0 | H95: ='DETALIERI 51, 61, 65, 66'!J104 -> 0
A96: 65 02 71 01 | B96: Active fixe | C96: =C97+C99 -> 321 | E96: ='DETALIERI 51, 61, 65, 66'!C105 -> 321 | F96: ='DETALIERI 51, 61, 65, 66'!H105 -> 0 | G96: ='DETALIERI 51, 61, 65, 66'!I105 -> 0 | H96: ='DETALIERI 51, 61, 65, 66'!J105 -> 0
A97: 65 02 71 01 01 | B97: Constructii | C97: =E97 -> 231 | E97: ='DETALIERI 51, 61, 65, 66'!C106 -> 231 | F97: ='DETALIERI 51, 61, 65, 66'!H106 -> 0 | G97: ='DETALIERI 51, 61, 65, 66'!I106 -> 0 | H97: ='DETALIERI 51, 61, 65, 66'!J106 -> 0
A98: 65 02 71 01 03 | B98: Mobilier,aparatura birotica si alte active corporale | C98: =E98 -> 0 | E98: ='detalieri scoala'!C58 -> 0
A99: 65 02 71 01 30 | B99: Alte active fixe | C99: =E99 -> 90 | D99: ='DETALIERI 51, 61, 65, 66'!C109 -> 81 | E99: ='DETALIERI 51, 61, 65, 66'!C108 -> 90 | F99: ='DETALIERI 51, 61, 65, 66'!H108 -> 0 | G99: ='DETALIERI 51, 61, 65, 66'!I108 -> 0 | H99: ='DETALIERI 51, 61, 65, 66'!J108 -> 0
A100: 66 02 | B100: SANATATE | C100: =C101 -> 81 | D100: =D101 -> 81 | E100: =E101 -> 0 | F100: =F101 -> 88 | G100: =G101 -> 90 | H100: =H101 -> 92
...

Sheet TOTAL PE ARTICOLE
B1: TOTAL | C1: I | D1: II | E1: III | F1: IV
B2: 2024 | C2: TRIM. I | D2: TRIM. II | E2: TRIM. III | F2: TRIM. IV | G2: ESTIMAT 2025 | H2: ESTIMAT 2026 | I2: ESTIMAT 2027
A3: 10 TOTAL | B3: =B4+B11+B13 -> 6400 | C3: =C4+C11+C13 -> 1449.5 | D3: =D4+D11+D13 -> 1784.5 | E3: =E4+E11+E13 -> 1596 | F3: =F4+F11+F13 -> 1570 | G3: ='DETALIERI 51, 61, 65, 66'!H19+'DETALIERI 51, 61, 65, 66'!H111+'detalieri 67'!H4+'DETALIERI 68'!H19 -> 6655 | H3: ='DETALIERI 51, 61, 65, 66'!I19+'DETALIERI 51, 61, 65, 66'!I111+'detalieri 67'!I4+'DETALIERI 68'!I19 -> 6862 | I3: ='DETALIERI 51, 61, 65, 66'!J19+'DETALIERI 51, 61, 65, 66'!J111+'detalieri 67'!J4+'DETALIERI 68'!J19 -> 7069 | J3: =SUM(C3:F3) -> 6400
A4: 10 01 | B4: =SUM(B5:B10) -> 6099 | C4: =SUM(C5:C10) -> 1416 | D4: =SUM(D5:D10) -> 1602 | E4: =SUM(E5:E10) -> 1554.5 | F4: =SUM(F5:F10) -> 1526.5 | G4: =SUM(G5:G10) -> 0 | H4: =SUM(H5:H10) -> 0 | I4: =SUM(I5:I10) -> 0 | J4: =SUM(C4:F4) -> 6099
A5: 10 01 01 | B5: ='DETALIERI 51, 61, 65, 66'!C21+'DETALIERI 51, 61, 65, 66'!C113+'detalieri 67'!C6+'DETALIERI 68'!C21 -> 5490.3 | C5: ='DETALIERI 51, 61, 65, 66'!D21+'DETALIERI 51, 61, 65, 66'!D113+'detalieri 67'!D6+'DETALIERI 68'!D21 -> 1285.5 | D5: ='DETALIERI 51, 61, 65, 66'!E21+'DETALIERI 51, 61, 65, 66'!E113+'detalieri 67'!E6+'DETALIERI 68'!E21 -> 1411.8 | E5: ='DETALIERI 51, 61, 65, 66'!F21+'DETALIERI 51, 61, 65, 66'!F113+'detalieri 67'!F6+'DETALIERI 68'!F21 -> 1411.5 | F5: ='DETALIERI 51, 61, 65, 66'!G21+'DETALIERI 51, 61, 65, 66'!G113+'detalieri 67'!G6+'DETALIERI 68'!G21 -> 1381.5 | J5: =SUM(C5:F5) -> 5490.3
A6: 10 01 05 | B6: ='DETALIERI 51, 61, 65, 66'!C114 -> 4.3 | C6: ='DETALIERI 51, 61, 65, 66'!D114 -> 1 | D6: ='DETALIERI 51, 61, 65, 66'!E114 -> 1.1 | E6: ='DETALIERI 51, 61, 65, 66'!F114 -> 1.1 | F6: ='DETALIERI 51, 61, 65, 66'!G114 -> 1.1
A7: 10 01 06 | B7: ='DETALIERI 51, 61, 65, 66'!C115 -> 6 | C7: ='DETALIERI 51, 61, 65, 66'!D115 -> 1.5 | D7: ='DETALIERI 51, 61, 65, 66'!E115 -> 1.5 | E7: ='DETALIERI 51, 61, 65, 66'!F115 -> 1.5 | F7: ='DETALIERI 51, 61, 65, 66'!G115 -> 1.5
A8: 10 01 12 | B8: ='DETALIERI 51, 61, 65, 66'!C22 -> 226 | C8: ='DETALIERI 51, 61, 65, 66'!D22 -> 55 | D8: ='DETALIERI 51, 61, 65, 66'!E22 -> 57 | E8: ='DETALIERI 51, 61, 65, 66'!F22 -> 57 | F8: ='DETALIERI 51, 61, 65, 66'!G22 -> 57 | J8: =SUM(C8:F8) -> 226
A9: 10 01 17 | B9: ='DETALIERI 51, 61, 65, 66'!C23+'DETALIERI 51, 61, 65, 66'!C116+'detalieri 67'!C45+'DETALIERI 68'!C22 -> 322.4 | C9: ='DETALIERI 51, 61, 65, 66'!D23+'DETALIERI 51, 61, 65, 66'!D116+'detalieri 67'!D45+'DETALIERI 68'!D7 -> 73 | D9: ='DETALIERI 51, 61, 65, 66'!E23+'DETALIERI 51, 61, 65, 66'!E116+'detalieri 67'!E45+'DETALIERI 68'!E7 -> 80.6 | E9: ='DETALIERI 51, 61, 65, 66'!F23+'DETALIERI 51, 61, 65, 66'!F116+'detalieri 67'!F45+'DETALIERI 68'!F7 -> 83.4 | F9: ='DETALIERI 51, 61, 65, 66'!G23+'DETALIERI 51, 61, 65, 66'!G116+'detalieri 67'!G45+'DETALIERI 68'!G7 -> 85.4 | J9: =SUM(C9:F9) -> 322.4
A10: 10 01 30 | B10: ='DETALIERI 51, 61, 65, 66'!C24 -> 50 | C10: ='DETALIERI 51, 61, 65, 66'!D24 -> 0 | D10: ='DETALIERI 51, 61, 65, 66'!E24 -> 50 | E10: ='DETALIERI 51, 61, 65, 66'!F24 -> 0 | F10: ='DETALIERI 51, 61, 65, 66'!G24 -> 0 | J10: =SUM(C10:F10) -> 50
A11: 10 02 | B11: =B12 -> 139 | C11: =C12 -> 0 | D11: =D12 -> 139 | E11: =E12 -> 0 | F11: =F12 -> 0 | J11: =SUM(C11:F11) -> 139
A12: 10 02 06 | B12: ='DETALIERI 51, 61, 65, 66'!C26+'DETALIERI 51, 61, 65, 66'!C118+'detalieri 67'!C47+'DETALIERI 68'!C24 -> 139 | C12: ='DETALIERI 51, 61, 65, 66'!D26+'DETALIERI 51, 61, 65, 66'!D118+'detalieri 67'!D47+'DETALIERI 68'!D24 -> 0 | D12: ='DETALIERI 51, 61, 65, 66'!E26+'DETALIERI 51, 61, 65, 66'!E118+'detalieri 67'!E47+'DETALIERI 68'!E24 -> 139 | E12: ='DETALIERI 51, 61, 65, 66'!F26+'DETALIERI 51, 61, 65, 66'!F118+'detalieri 67'!F47+'DETALIERI 68'!F24 -> 0 | F12: ='DETALIERI 51, 61, 65, 66'!G26+'DETALIERI 51, 61, 65, 66'!G118+'detalieri 67'!G47+'DETALIERI 68'!G24 -> 0 | J12: =SUM(C12:F12) -> 139
A13: 10 03 | B13: =SUM(B14:B19) -> 162 | C13: =SUM(C14:C19) -> 33.5 | D13: =SUM(D14:D19) -> 43.5 | E13: =SUM(E14:E19) -> 41.5 | F13: =SUM(F14:F19) -> 43.5 | G13: =SUM(G14:G18) -> 0 | H13: =SUM(H14:H18) -> 0 | I13: =SUM(I14:I18) -> 0 | J13: =SUM(C13:F13) -> 162
A14: 10 03 01 | B14: ='DETALIERI 51, 61, 65, 66'!C28 -> 0 | C14: ='DETALIERI 51, 61, 65, 66'!D28 -> 0 | D14: ='DETALIERI 51, 61, 65, 66'!E28 -> 0 | E14: ='DETALIERI 51, 61, 65, 66'!F28 -> 0 | F14: ='DETALIERI 51, 61, 65, 66'!G28 -> 0 | J14: =SUM(C14:F14) -> 0
A15: 10 03 02 | B15: ='DETALIERI 51, 61, 65, 66'!C29 -> 0 | C15: ='DETALIERI 51, 61, 65, 66'!D29 -> 0 | D15: ='DETALIERI 51, 61, 65, 66'!E29 -> 0 | E15: ='DETALIERI 51, 61, 65, 66'!F29 -> 0 | F15: ='DETALIERI 51, 61, 65, 66'!G29 -> 0 | J15: =SUM(C15:F15) -> 0
A16: 10 03 03 | B16: ='DETALIERI 51, 61, 65, 66'!C30 -> 0 | C16: ='DETALIERI 51, 61, 65, 66'!D30 -> 0 | D16: ='DETALIERI 51, 61, 65, 66'!E30 -> 0 | E16: ='DETALIERI 51, 61, 65, 66'!F30 -> 0 | F16: ='DETALIERI 51, 61, 65, 66'!G30 -> 0 | J16: =SUM(C16:F16) -> 0
A17: 10 03 04 | B17: ='DETALIERI 51, 61, 65, 66'!C31 -> 0 | C17: ='DETALIERI 51, 61, 65, 66'!D31 -> 0 | D17: ='DETALIERI 51, 61, 65, 66'!E31 -> 0 | E17: ='DETALIERI 51, 61, 65, 66'!F31 -> 0 | F17: ='DETALIERI 51, 61, 65, 66'!G31 -> 0 | J17: =SUM(C17:F17) -> 0
A18: 10 03 06 | B18: ='DETALIERI 51, 61, 65, 66'!C32 -> 0 | C18: ='DETALIERI 51, 61, 65, 66'!D32 -> 0 | D18: ='DETALIERI 51, 61, 65, 66'!E32 -> 0 | E18: ='DETALIERI 51, 61, 65, 66'!F32 -> 0 | F18: ='DETALIERI 51, 61, 65, 66'!G32 -> 0 | J18: =SUM(C18:F18) -> 0
A19: 10 03 07 | B19: ='DETALIERI 51, 61, 65, 66'!C33+'DETALIERI 51, 61, 65, 66'!C120+'detalieri 67'!C11+'DETALIERI 68'!C26 -> 162 | C19: ='DETALIERI 51, 61, 65, 66'!D33+'DETALIERI 51, 61, 65, 66'!D120+'detalieri 67'!D11+'DETALIERI 68'!D26 -> 33.5 | D19: ='DETALIERI 51, 61, 65, 66'!E33+'DETALIERI 51, 61, 65, 66'!E120+'detalieri 67'!E11+'DETALIERI 68'!E26 -> 43.5 | E19: ='DETALIERI 51, 61, 65, 66'!F33+'DETALIERI 51, 61, 65, 66'!F120+'detalieri 67'!F11+'DETALIERI 68'!F26 -> 41.5 | F19: ='DETALIERI 51, 61, 65, 66'!G33+'DETALIERI 51, 61, 65, 66'!G120+'detalieri 67'!G11+'DETALIERI 68'!G26 -> 43.5 | J19: =SUM(C19:F19) -> 162
A20: 20 | B20: =B21+B32+B33+B35+B37+B39+B40+B41 -> 2614 | C20: =C21+C32+C33+C35+C37+C39+C40+C41 -> 1325.5 | D20: =D21+D32+D33+D35+D37+D39+D40+D41 -> 867.5 | E20: =E21+E32+E33+E35+E37+E39+E40+E41 -> 234 | F20: =F21+F32+F33+F35+F37+F39+F40+F41 -> 187 | G20: ='DETALIERI 51, 61, 65, 66'!H34+'DETALIERI 51, 61, 65, 66'!H65+'DETALIERI 51, 61, 65, 66'!H71+'DETALIERI 51, 61, 65, 66'!H81+'detalieri 67'!H12+'detalieri 70'!H2+'detalieri 74'!H4+'detalieri 84'!H2 -> 2816 | H20: ='DETALIERI 51, 61, 65, 66'!I34+'DETALIERI 51, 61, 65, 66'!I65+'DETALIERI 51, 61, 65, 66'!I71+'DETALIERI 51, 61, 65, 66'!I81+'detalieri 67'!I12+'detalieri 70'!I2+'detalieri 74'!I4+'detalieri 84'!I2 -> 2881 | I20: ='DETALIERI 51, 61, 65, 66'!J34+'DETALIERI 51, 61, 65, 66'!J65+'DETALIERI 51, 61, 65, 66'!J71+'DETALIERI 51, 61, 65, 66'!J81+'detalieri 67'!J12+'detalieri 70'!J2+'detalieri 74'!J4+'detalieri 84'!J2 -> 2827 | J20: =SUM(C20:F20) -> 2614
A21: 2001 | B21: =SUM(B22:B31) -> 1500 | C21: =SUM(C22:C31) -> 688 | D21: =SUM(D22:D31) -> 476 | E21: =SUM(E22:E31) -> 171 | F21: =SUM(F22:F31) -> 165 | G21: =SUM(G22:G31) -> 0 | H21: =SUM(H22:H31) -> 0 | I21: =SUM(I22:I31) -> 0 | J21: =SUM(C21:F21) -> 1500
A22: 200101 | B22: ='DETALIERI 51, 61, 65, 66'!C36+'DETALIERI 51, 61, 65, 66'!C83+'detalieri 67'!C14 -> 81 | C22: ='DETALIERI 51, 61, 65, 66'!D36+'DETALIERI 51, 61, 65, 66'!D83+'detalieri 67'!D14 -> 41 | D22: ='DETALIERI 51, 61, 65, 66'!E36+'DETALIERI 51, 61, 65, 66'!E83+'detalieri 67'!E14 -> 20 | E22: ='DETALIERI 51, 61, 65, 66'!F36+'DETALIERI 51, 61, 65, 66'!F83+'detalieri 67'!F14 -> 10 | F22: ='DETALIERI 51, 61, 65, 66'!G36+'DETALIERI 51, 61, 65, 66'!G83+'detalieri 67'!G14 -> 10 | J22: =SUM(C22:F22) -> 81
A23: 200102 | B23: ='DETALIERI 51, 61, 65, 66'!C37+'DETALIERI 51, 61, 65, 66'!C84+'detalieri 67'!C15 -> 54 | C23: ='DETALIERI 51, 61, 65, 66'!D37+'DETALIERI 51, 61, 65, 66'!D84+'detalieri 67'!D15 -> 26 | D23: ='DETALIERI 51, 61, 65, 66'!E37+'DETALIERI 51, 61, 65, 66'!E84+'detalieri 67'!E15 -> 15 | E23: ='DETALIERI 51, 61, 65, 66'!F37+'DETALIERI 51, 61, 65, 66'!F84+'detalieri 67'!F15 -> 5 | F23: ='DETALIERI 51, 61, 65, 66'!G37+'DETALIERI 51, 61, 65, 66'!G84+'detalieri 67'!G15 -> 8 | J23: =SUM(C23:F23) -> 54
A24: 200103 | B24: ='DETALIERI 51, 61, 65, 66'!C38+'DETALIERI 51, 61, 65, 66'!C85+'detalieri 67'!C16+'detalieri 70'!C5 -> 405 | C24: ='DETALIERI 51, 61, 65, 66'!D38+'DETALIERI 51, 61, 65, 66'!D85+'detalieri 67'!D16+'detalieri 70'!D5 -> 232 | D24: ='DETALIERI 51, 61, 65, 66'!E38+'DETALIERI 51, 61, 65, 66'!E85+'detalieri 67'!E16+'detalieri 70'!E5 -> 120 | E24: ='DETALIERI 51, 61, 65, 66'!F38+'DETALIERI 51, 61, 65, 66'!F85+'detalieri 67'!F16+'detalieri 70'!F5 -> 17 | F24: ='DETALIERI 51, 61, 65, 66'!G38+'DETALIERI 51, 61, 65, 66'!G85+'detalieri 67'!G16+'detalieri 70'!G5 -> 36 | J24: =SUM(C24:F24) -> 405
A25: 200104 | B25: ='DETALIERI 51, 61, 65, 66'!C39+'DETALIERI 51, 61, 65, 66'!C86 -> 13 | C25: ='DETALIERI 51, 61, 65, 66'!D39+'DETALIERI 51, 61, 65, 66'!D86 -> 4 | D25: ='DETALIERI 51, 61, 65, 66'!E39+'DETALIERI 51, 61, 65, 66'!E86 -> 4 | E25: ='DETALIERI 51, 61, 65, 66'!F39+'DETALIERI 51, 61, 65, 66'!F86 -> 3 | F25: ='DETALIERI 51, 61, 65, 66'!G39+'DETALIERI 51, 61, 65, 66'!G86 -> 2 | J25: =C25+D25+E25+F25 -> 13
A26: 200105 | B26: ='DETALIERI 51, 61, 65, 66'!C40+'DETALIERI 51, 61, 65, 66'!C73+'detalieri 70'!C14 -> 74 | C26: ='DETALIERI 51, 61, 65, 66'!D40+'DETALIERI 51, 61, 65, 66'!D73+'detalieri 70'!D14 -> 31 | D26: ='DETALIERI 51, 61, 65, 66'!E40+'DETALIERI 51, 61, 65, 66'!E73+'detalieri 70'!E14 -> 31 | E26: ='DETALIERI 51, 61, 65, 66'!F40+'DETALIERI 51, 61, 65, 66'!F73+'detalieri 70'!F14 -> 11 | F26: ='DETALIERI 51, 61, 65, 66'!G40+'DETALIERI 51, 61, 65, 66'!G73+'detalieri 70'!G14 -> 1 | J26: =SUM(C26:F26) -> 74
A27: 200106 | B27: ='DETALIERI 51, 61, 65, 66'!C41+'DETALIERI 51, 61, 65, 66'!C74+'DETALIERI 51, 61, 65, 66'!C87+'detalieri 70'!C15 -> 48 | C27: ='DETALIERI 51, 61, 65, 66'!D41+'DETALIERI 51, 61, 65, 66'!D74+'DETALIERI 51, 61, 65, 66'!D87+'detalieri 70'!D15 -> 18 | D27: ='DETALIERI 51, 61, 65, 66'!E41+'DETALIERI 51, 61, 65, 66'!E74+'DETALIERI 51, 61, 65, 66'!E87+'detalieri 70'!E15 -> 18 | E27: ='DETALIERI 51, 61, 65, 66'!F41+'DETALIERI 51, 61, 65, 66'!F74+'DETALIERI 51, 61, 65, 66'!F87+'detalieri 70'!F15 -> 8 | F27: ='DETALIERI 51, 61, 65, 66'!G41+'DETALIERI 51, 61, 65, 66'!G74+'DETALIERI 51, 61, 65, 66'!G87+'detalieri 70'!G15 -> 4 | J27: =SUM(C27:F27) -> 48
A28: 200107 | B28: ='DETALIERI 51, 61, 65, 66'!C88+'DETALIERI 51, 61, 65, 66'!C42 -> 137 | C28: ='DETALIERI 51, 61, 65, 66'!D88+'DETALIERI 51, 61, 65, 66'!D42 -> 53 | D28: ='DETALIERI 51, 61, 65, 66'!E88+'DETALIERI 51, 61, 65, 66'!E42 -> 53 | E28: ='DETALIERI 51, 61, 65, 66'!F88+'DETALIERI 51, 61, 65, 66'!F42 -> 8 | F28: ='DETALIERI 51, 61, 65, 66'!G88+'DETALIERI 51, 61, 65, 66'!G42 -> 23 | J28: =SUM(C28:F28) -> 137
A29: 200108 | B29: ='DETALIERI 51, 61, 65, 66'!C43+'DETALIERI 51, 61, 65, 66'!C89 -> 64 | C29: ='DETALIERI 51, 61, 65, 66'!D43+'DETALIERI 51, 61, 65, 66'!D89 -> 23 | D29: ='DETALIERI 51, 61, 65, 66'!E43+'DETALIERI 51, 61, 65, 66'!E89 -> 18 | E29: ='DETALIERI 51, 61, 65, 66'!F43+'DETALIERI 51, 61, 65, 66'!F89 -> 23 | F29: ='DETALIERI 51, 61, 65, 66'!G43+'DETALIERI 51, 61, 65, 66'!G89 -> 0 | J29: =SUM(C29:F29) -> 64
A30: 200109 | B30: ='DETALIERI 51, 61, 65, 66'!C44+'DETALIERI 51, 61, 65, 66'!C75+'DETALIERI 51, 61, 65, 66'!C90+'detalieri 67'!C20+'detalieri 70'!C16+'detalieri 74'!C6+'DETALIERI 68'!C13 -> 384 | C30: ='DETALIERI 51, 61, 65, 66'!D44+'DETALIERI 51, 61, 65, 66'!D75+'DETALIERI 51, 61, 65, 66'!D90+'detalieri 67'!D20+'detalieri 70'!D16+'detalieri 74'!D6+'DETALIERI 68'!D13 -> 180 | D30: ='DETALIERI 51, 61, 65, 66'!E44+'DETALIERI 51, 61, 65, 66'!E75+'DETALIERI 51, 61, 65, 66'!E90+'detalieri 67'!E20+'detalieri 70'!E16+'detalieri 74'!E6+'DETALIERI 68'!E13 -> 102 | E30: ='DETALIERI 51, 61, 65, 66'!F44+'DETALIERI 51, 61, 65, 66'!F75+'DETALIERI 51, 61, 65, 66'!F90+'detalieri 67'!F20+'detalieri 70'!F16+'detalieri 74'!F6+'DETALIERI 68'!F13 -> 56 | F30: ='DETALIERI 51, 61, 65, 66'!G44+'DETALIERI 51, 61, 65, 66'!G75+'DETALIERI 51, 61, 65, 66'!G90+'detalieri 67'!G20+'detalieri 70'!G16+'detalieri 74'!G6+'DETALIERI 68'!G13 -> 46 | J30: =SUM(C30:F30) -> 384
A31: 200130 | B31: ='DETALIERI 51, 61, 65, 66'!C45+'DETALIERI 51, 61, 65, 66'!C91+'detalieri 67'!C21 -> 240 | C31: ='DETALIERI 51, 61, 65, 66'!D45+'DETALIERI 51, 61, 65, 66'!D91+'detalieri 67'!D21 -> 80 | D31: ='DETALIERI 51, 61, 65, 66'!E45+'DETALIERI 51, 61, 65, 66'!E91+'detalieri 67'!E21 -> 95 | E31: ='DETALIERI 51, 61, 65, 66'!F45+'DETALIERI 51, 61, 65, 66'!F91+'detalieri 67'!F21 -> 30 | F31: ='DETALIERI 51, 61, 65, 66'!G45+'DETALIERI 51, 61, 65, 66'!G91+'detalieri 67'!G21 -> 35 | J31: =SUM(C31:F31) -> 240
A32: 2002 | B32: ='DETALIERI 51, 61, 65, 66'!C46+'DETALIERI 51, 61, 65, 66'!C92+'detalieri 67'!C22+'detalieri 70'!C6+'detalieri 70'!C17+'detalieri 84'!C4 -> 338 | C32: ='DETALIERI 51, 61, 65, 66'!D46+'DETALIERI 51, 61, 65, 66'!D92+'detalieri 67'!D22+'detalieri 70'!D6+'detalieri 70'!D17+'detalieri 84'!D4 -> 183 | D32: ='DETALIERI 51, 61, 65, 66'!E46+'DETALIERI 51, 61, 65, 66'!E92+'detalieri 67'!E22+'detalieri 70'!E6+'detalieri 70'!E17+'detalieri 84'!E4 -> 135 | E32: ='DETALIERI 51, 61, 65, 66'!F46+'DETALIERI 51, 61, 65, 66'!F92+'detalieri 67'!F22+'detalieri 70'!F6+'detalieri 70'!F17+'detalieri 84'!F4 -> 20 | F32: ='DETALIERI 51, 61, 65, 66'!G46+'DETALIERI 51, 61, 65, 66'!G92+'detalieri 67'!G22+'detalieri 70'!G6+'detalieri 70'!G17+'detalieri 84'!G4 -> 0 | J32: =SUM(C32:F32) -> 338
A33: 20 04 | B33: ='DETALIERI 51, 61, 65, 66'!C123 -> 1 | C33: ='DETALIERI 51, 61, 65, 66'!D123 -> 0.5 | D33: ='DETALIERI 51, 61, 65, 66'!E123 -> 0.5 | E33: ='DETALIERI 51, 61, 65, 66'!F123 -> 0 | F33: ='DETALIERI 51, 61, 65, 66'!G123 -> 0
A34: 20 04 02 | B34: ='DETALIERI 51, 61, 65, 66'!C123 -> 1 | C34: ='DETALIERI 51, 61, 65, 66'!D123 -> 0.5 | D34: ='DETALIERI 51, 61, 65, 66'!E123 -> 0.5
A35: 2005 | B35: =B36 -> 125 | C35: =C36 -> 75 | D35: =D36 -> 50 | E35: =E36 -> 0 | F35: =F36 -> 0 | G35: =G36 -> 0 | H35: =H36 -> 0 | I35: =I36 -> 0 | J35: =SUM(C35:F35) -> 125
A36: 200530 | B36: ='DETALIERI 51, 61, 65, 66'!C48+'DETALIERI 51, 61, 65, 66'!C94+'detalieri 67'!C24+'detalieri 70'!C19 -> 125 | C36: ='DETALIERI 51, 61, 65, 66'!D48+'DETALIERI 51, 61, 65, 66'!D94+'detalieri 67'!D24+'detalieri 70'!D19 -> 75 | D36: ='DETALIERI 51, 61, 65, 66'!E48+'DETALIERI 51, 61, 65, 66'!E94+'detalieri 67'!E24+'detalieri 70'!E19 -> 50 | E36: ='DETALIERI 51, 61, 65, 66'!F48+'DETALIERI 51, 61, 65, 66'!F94+'detalieri 67'!F24+'detalieri 70'!F19 -> 0 | F36: ='DETALIERI 51, 61, 65, 66'!G48+'DETALIERI 51, 61, 65, 66'!G94+'detalieri 67'!G24+'detalieri 70'!G19 -> 0 | J36: =SUM(C36:F36) -> 125
A37: 2006 | B37: =B38 -> 12 | C37: =C38 -> 3 | D37: =D38 -> 2 | E37: =E38 -> 2 | F37: =F38 -> 5 | G37: =G38 -> 0 | H37: =H38 -> 0 | I37: =I38 -> 0 | J37: =SUM(C37:F37) -> 12
A38: 200601 | B38: ='DETALIERI 51, 61, 65, 66'!C50+'DETALIERI 51, 61, 65, 66'!C95+'detalieri 67'!C26 -> 12 | C38: ='DETALIERI 51, 61, 65, 66'!D50+'DETALIERI 51, 61, 65, 66'!D95+'detalieri 67'!D26 -> 3 | D38: ='DETALIERI 51, 61, 65, 66'!E50+'DETALIERI 51, 61, 65, 66'!E95+'detalieri 67'!E26 -> 2 | E38: ='DETALIERI 51, 61, 65, 66'!F50+'DETALIERI 51, 61, 65, 66'!F95+'detalieri 67'!F26 -> 2 | F38: ='DETALIERI 51, 61, 65, 66'!G50+'DETALIERI 51, 61, 65, 66'!G95+'detalieri 67'!G26 -> 5 | G38: ='DETALIERI 51, 61, 65, 66'!H50+'DETALIERI 51, 61, 65, 66'!H95+'detalieri 67'!H26 -> 0 | H38: ='DETALIERI 51, 61, 65, 66'!I50+'DETALIERI 51, 61, 65, 66'!I95+'detalieri 67'!I26 -> 0 | I38: ='DETALIERI 51, 61, 65, 66'!J50+'DETALIERI 51, 61, 65, 66'!J95+'detalieri 67'!J26 -> 0 | J38: =SUM(C38:F38) -> 12
A39: 2011 | B39: ='DETALIERI 51, 61, 65, 66'!C97+'detalieri 67'!C27 -> 3 | C39: ='DETALIERI 51, 61, 65, 66'!D97+'detalieri 67'!D27 -> 0 | D39: ='DETALIERI 51, 61, 65, 66'!E97+'detalieri 67'!E27 -> 0 | E39: ='DETALIERI 51, 61, 65, 66'!F97+'detalieri 67'!F27 -> 3 | F39: ='DETALIERI 51, 61, 65, 66'!G97+'detalieri 67'!G27 -> 0 | J39: =SUM(C39:F39) -> 3
A40: 2013 | B40: ='DETALIERI 51, 61, 65, 66'!C51+'DETALIERI 51, 61, 65, 66'!C98+'detalieri 67'!C28 -> 46 | C40: ='DETALIERI 51, 61, 65, 66'!D51+'DETALIERI 51, 61, 65, 66'!D98+'detalieri 67'!D28 -> 21 | D40: ='DETALIERI 51, 61, 65, 66'!E51+'DETALIERI 51, 61, 65, 66'!E98+'detalieri 67'!E28 -> 25 | E40: ='DETALIERI 51, 61, 65, 66'!F51+'DETALIERI 51, 61, 65, 66'!F98+'detalieri 67'!F28 -> 0 | F40: ='DETALIERI 51, 61, 65, 66'!G51+'DETALIERI 51, 61, 65, 66'!G98+'detalieri 67'!G28 -> 0 | J40: =SUM(C40:F40) -> 46
A41: 2030 | B41: =B42+B43+B44 -> 589 | C41: =C42+C43+C44 -> 355 | D41: =D42+D43+D44 -> 179 | E41: =E42+E43+E44 -> 38 | F41: =F42+F43+F44 -> 17 | G41: =G42+G43+G44 -> 0 | H41: =H42+H43+H44 -> 0 | I41: =I42+I43+I44 -> 0 | J41: =SUM(C41:F41) -> 589
A42: 203001 | B42: ='DETALIERI 51, 61, 65, 66'!C53 -> 30 | C42: ='DETALIERI 51, 61, 65, 66'!D53 -> 15 | D42: ='DETALIERI 51, 61, 65, 66'!E53 -> 15 | E42: ='DETALIERI 51, 61, 65, 66'!F53 -> 0 | F42: ='DETALIERI 51, 61, 65, 66'!G53 -> 0 | J42: =SUM(C42:F42) -> 30
A43: 203002 | B43: ='DETALIERI 51, 61, 65, 66'!C54 -> 30 | C43: ='DETALIERI 51, 61, 65, 66'!D54 -> 10 | D43: ='DETALIERI 51, 61, 65, 66'!E54 -> 10 | E43: ='DETALIERI 51, 61, 65, 66'!F54 -> 10 | F43: ='DETALIERI 51, 61, 65, 66'!G54 -> 0 | J43: =SUM(C43:F43) -> 30
A44: 203030 | B44: ='DETALIERI 51, 61, 65, 66'!C55+'DETALIERI 51, 61, 65, 66'!C77+'detalieri 67'!C32+'detalieri 70'!C7+'detalieri 70'!C21+'detalieri 74'!C7+'detalieri 84'!C5+'DETALIERI 51, 61, 65, 66'!C67 -> 529 | C44: ='DETALIERI 51, 61, 65, 66'!D55+'DETALIERI 51, 61, 65, 66'!D77+'detalieri 67'!D32+'detalieri 70'!D7+'detalieri 70'!D21+'detalieri 74'!D7+'detalieri 84'!D5+'DETALIERI 51, 61, 65, 66'!D67 -> 330 | D44: ='DETALIERI 51, 61, 65, 66'!E55+'DETALIERI 51, 61, 65, 66'!E77+'detalieri 67'!E32+'detalieri 70'!E7+'detalieri 70'!E21+'detalieri 74'!E7+'detalieri 84'!E5+'DETALIERI 51, 61, 65, 66'!E67 -> 154 | E44: ='DETALIERI 51, 61, 65, 66'!F55+'DETALIERI 51, 61, 65, 66'!F77+'detalieri 67'!F32+'detalieri 70'!F7+'detalieri 70'!F21+'detalieri 74'!F7+'detalieri 84'!F5+'DETALIERI 51, 61, 65, 66'!F67 -> 28 | F44: ='DETALIERI 51, 61, 65, 66'!G55+'DETALIERI 51, 61, 65, 66'!G77+'detalieri 67'!G32+'detalieri 70'!G7+'detalieri 70'!G21+'detalieri 74'!G7+'detalieri 84'!G5+'DETALIERI 51, 61, 65, 66'!G67 -> 17 | J44: =SUM(C44:F44) -> 529
J45: =SUM(C45:F45) -> 0
J46: =SUM(C46:F46) -> 0
A47: 57 | B47: =B48+B49 -> 2127 | C47: =C48+C49 -> 704 | D47: =D48+D49 -> 705 | E47: =E48+E49 -> 286 | F47: =F48+F49 -> 432 | G47: =G48+G49 -> 2198 | H47: =H48+H49 -> 2302 | I47: =I48+I49 -> 2506 | J47: =SUM(C47:F47) -> 2127
A48: 57 02 01 | B48: ='DETALIERI 51, 61, 65, 66'!C101+'DETALIERI 68'!C31+'DETALIERI 68'!C35+'DETALIERI 68'!C39 -> 2073 | C48: ='DETALIERI 51, 61, 65, 66'!D101+'DETALIERI 68'!D31+'DETALIERI 68'!D35+'DETALIERI 68'!D39 -> 689 | D48: ='DETALIERI 51, 61, 65, 66'!E101+'DETALIERI 68'!E31+'DETALIERI 68'!E35+'DETALIERI 68'!E39 -> 690 | E48: ='DETALIERI 51, 61, 65, 66'!F101+'DETALIERI 68'!F31+'DETALIERI 68'!F35+'DETALIERI 68'!F39 -> 274 | F48: ='DETALIERI 51, 61, 65, 66'!G101+'DETALIERI 68'!G31+'DETALIERI 68'!G35+'DETALIERI 68'!G39 -> 420 | G48: ='DETALIERI 51, 61, 65, 66'!H102+'DETALIERI 68'!H31+'DETALIERI 68'!H35+'DETALIERI 68'!H39 -> 2139 | H48: ='DETALIERI 51, 61, 65, 66'!I102+'DETALIERI 68'!I31+'DETALIERI 68'!I35+'DETALIERI 68'!I39 -> 2241 | I48: ='DETALIERI 51, 61, 65, 66'!J102+'DETALIERI 68'!J31+'DETALIERI 68'!J35+'DETALIERI 68'!J39 -> 2443 | J48: =SUM(C48:F48) -> 2073
A49: 57 02 03 | B49: ='DETALIERI 51, 61, 65, 66'!C102 -> 54 | C49: ='DETALIERI 51, 61, 65, 66'!D102 -> 15 | D49: ='DETALIERI 51, 61, 65, 66'!E102 -> 15 | E49: ='DETALIERI 51, 61, 65, 66'!F102 -> 12 | F49: ='DETALIERI 51, 61, 65, 66'!G102 -> 12 | G49: ='detalieri scoala'!H92 -> 59 | H49: ='detalieri scoala'!I92 -> 61 | I49: ='detalieri scoala'!J92 -> 63 | J49: =SUM(C49:F49) -> 54
J50: =SUM(C50:F50) -> 0
A51: 59 | B51: =B52+B53 -> 310 | C51: =C52+C53 -> 215 | D51: =D52+D53 -> 65 | E51: =E52+E53 -> 15 | F51: =F52+F53 -> 15 | G51: =G52+G53 -> 260 | H51: =H52+H53 -> 260 | I51: =I52+I53 -> 260 | J51: =SUM(C51:F51) -> 310
A52: 59 11 | B52: ='DETALIERI 51, 61, 65, 66'!C56+'detalieri 74'!C8 -> 110 | C52: ='detalieri 74'!D8+'DETALIERI 51, 61, 65, 66'!C56 -> 65 | D52: ='detalieri 74'!E8 -> 15 | E52: ='detalieri 74'!F8+'DETALIERI 51, 61, 65, 66'!E56 -> 15 | F52: ='detalieri 74'!G8+'DETALIERI 51, 61, 65, 66'!F56 -> 15 | G52: ='detalieri 74'!H8 -> 60 | H52: ='detalieri 74'!I8 -> 60 | I52: ='detalieri 74'!J8 -> 60 | J52: =SUM(C52:F52) -> 110
A53: 59 12 | B53: ='detalieri 67'!C34 -> 200 | C53: ='detalieri 67'!D34 -> 150 | D53: ='detalieri 67'!E34 -> 50 | E53: ='detalieri 67'!F34 -> 0 | F53: ='detalieri 67'!G34 -> 0 | G53: ='detalieri 67'!H105 -> 200 | H53: ='detalieri 67'!I105 -> 200 | I53: ='detalieri 67'!J105 -> 200 | J53: =SUM(C53:F53) -> 200
J54: =SUM(C54:F54) -> 0
A55: TOTAL FUNCTIONARE | B55: =B3+B20+B47+B51 -> 11451 | C55: =C3+C20+C47+C51 -> 3694 | D55: =D3+D20+D47+D51 -> 3422 | E55: =E3+E20+E47+E51 -> 2131 | F55: =F3+F20+F47+F51 -> 2204 | G55: =G3+G20+G47+G51 -> 11929 | H55: =H3+H20+H47+H51 -> 12305 | I55: =I3+I20+I47+I51 -> 12662 | J55: =SUM(C55:F55) -> 11451
A56: 10 | B56: =B3 -> 6400 | C56: =C3 -> 1449.5 | D56: =D3 -> 1784.5 | E56: =E3 -> 1596 | F56: =F3 -> 1570 | G56: =G3 -> 6655 | H56: =H3 -> 6862 | I56: =I3 -> 7069 | J56: =SUM(C56:F56) -> 6400
A57: 20 | B57: =B20 -> 2614 | C57: =C20 -> 1325.5 | D57: =D20 -> 867.5 | E57: =E20 -> 234 | F57: =F20 -> 187 | G57: =G20 -> 2816 | H57: =H20 -> 2881 | I57: =I20 -> 2827 | J57: =SUM(C57:F57) -> 2614
A58: 57 | B58: =B47 -> 2127 | C58: =C47 -> 704 | D58: =D47 -> 705 | E58: =E47 -> 286 | F58: =F47 -> 432 | G58: =G47 -> 2198 | H58: =H47 -> 2302 | I58: =I47 -> 2506 | J58: =SUM(C58:F58) -> 2127
A59: 59 | B59: =B51 -> 310 | C59: =C51 -> 215 | D59: =D51 -> 65 | E59: =E51 -> 15 | F59: =F51 -> 15 | G59: =G51 -> 260 | H59: =H51 -> 260 | I59: =I51 -> 260 | J59: =SUM(C59:F59) -> 310

Sheet Sheet1
A2: 5610 | B2: 5615 | C2: 5619
A3: 5500 | B3: 5444 | C3: 5371
A5: =A3-A2 -> -110 | B5: =B3-B2 -> -171 | C5: =C3-C2 -> -248
A6: 10 | B6: 20 | C6: 31
A7: 1 | B7: 1 | C7: 1
A8: 10 | B8: 13 | C8: 18
A9: 4 | B9: 6 | C9: 9
A10: 3 | B10: 4 | C10: 9
A11: 2 | B11: 2 | C11: 2
A12: 2 | B12: 2 | C12: 2
A13: 50 | B13: 50 | C13: 50
A14: 10 | B14: 20 | C14: 46
A15: 5 | B15: 10 | C15: 15
A16: 1 | B16: 2 | C16: 3
A17: 1 | B17: 2 | C17: 3
... A22: 1 | B22: 1 | C22: 10
A25: =SUM(A5:A22) -> 0 | B25: =SUM(B5:B22) -> -10 | C25: =SUM(C5:C22) -> -8
