Workbook

Sheet venituri functionare
F1: ANEXA 3
C2: VENITURI ALE SECTIUNII DE FUNCTIONARE
A4: NR. CRT. | B4: DENUMIRE CONT | C4: COD INDICATOR | D4: Prevazut | E4: Realizat | F4: %
D5: la 30.09.2024 | E5: La 30.09.2024
A6: TOTAL VENITURI SECTIUNEA DE FUNCTIONARE | C6: 0.01 | D6: =D7+D61 -> 9633300 | E6: =E7+E61+E60 -> 9486865.3 | F6: =E6/D6 -> 0.98479912
A7: I. | B7: VENITURI CURENTE | C7: 0.02 | D7: =D8+D39 -> 9511400 | E7: =E8+E39 -> 9159491.3 | F7: =E7/D7 -> 0.96300138
A8: A. | B8: VENITURI FISCALE | C8: 0.03 | D8: =D9+D17+D27+D37 -> 9679000 | E8: =E9+E17+E27+E37 -> 8787095.2 | F8: =E8/D8 -> 0.90785156
A9: A.1. | B9: IMPOZIT PE VENIT, PROFIT SI CASTIGURI DIN CAPITAL | C9: 0.04 | D9: =D10 -> 5404000 | E9: =E10 -> 4884386.5 | F9: =E9/D9 -> 0.90384651
A10: A.1.2 | B10: IMPOZIT PE VENIT, PROFIT SI CASTIGURI DIN CAPITAL DE LA PERSOANE FIZICE | C10: 03.00.02 | D10: =D11+D13 -> 5404000 | E10: =E11+E13 -> 4884386.5 | F10: =E10/D10 -> 0.90384651
B11: IMPOZIT PE VENIT | C11: 03,02 | D11: =D12 -> 10000 | E11: =E12 -> 18726 | F11: =E11/D11 -> 1.8726
B12: Impozitul pe veniturile din transferul proprietatilor imobiliare din patrimoniul personal | C12: 03.02.18 | D12: 10000 | E12: 18726 | F12: =E12/D12 -> 1.8726
B13: COTE SI SUME DEFALCATE DIN IMPOZITUL PE VENIT | C13: 04,02 | D13: =D14+D15+D16 -> 5394000 | E13: =E14+E15+E16 -> 4865660.5 | F13: =E13/D13 -> 0.90205052
B14: Cote si sume defalcate din impozitul pe venit | C14: 04.02.01 | D14: 4924000 | E14: 4501747.5 | F14: =E14/D14 -> 0.91424605
B15: Sume alocate din cotele defalcate din impozitul pe venit pentru echilibrarea bugetelor locale | C15: 04.02.04 | D15: 0 | E15: 0 | F15: =E15/D15 -> #DIV/0!
B16: Sume repartizate din Fondul la dispozitia Consiliului Judetean | C16: 04 02 05 | D16: 470000 | E16: 363913 | F16: =E16/D16 -> 0.77428298
A17: A.3. | B17: IMPOZITE SI TAXE PE PROPRIETATE | C17: 07.2A | D17: =D18+D21+D25+D26 -> 610000 | E17: =E18+E21+E25+E26 -> 714094.31 | F17: =E17/D17 -> 1.1706464
B18: Impozit si taxa pe cladiri | C18: 07.02.01 | D18: =D19+D20 -> 308000 | E18: =E19+E20 -> 335787.79 | F18: =E18/D18 -> 1.0902201
B19: Impozit pe cladiri de la persoane fizice | C19: 07.02.01.01 | D19: 132000 | E19: 160390.79 | F19: =E19/D19 -> 1.2150817
B20: Impozit si taxa pe cladiri de la persoane juridice | C20: 07.02.01.02 | D20: 176000 | E20: 175397 | F20: =E20/D20 -> 0.99657386
B21: Impozit si taxa pe teren | C21: 07.02.02 | D21: =D22+D23+D24 -> 252000 | E21: =E22+E23+E24 -> 285377.43 | F21: =E21/D21 -> 1.1324501
B22: Impozit pe terenuri de la persoane fizice | C22: 07.02.02.01 | D22: 105000 | E22: 121391.43 | F22: =E22/D22 -> 1.1561089
B23: Impozit si taxa pe teren de la persoane juridice | C23: 07.02.02.02 | D23: 65000 | E23: 73165 | F23: =E23/D23 -> 1.1256154
B24: Impozitul pe terenul extravilan | C24: 07.02.02.03 | D24: 82000 | E24: 90821 | F24: =E24/D24 -> 1.1075732
B25: Taxe judiciare de timbru si alte taxe de timbru | C25: 07.02.03.00 | D25: 30000 | E25: 10417.84 | F25: =E25/D25 -> 0.34726133
B26: Alte impozite si taxe pe proprietate | C26: 07.02.50.00 | D26: 20000 | E26: 82511.25 | F26: =E26/D26 -> 4.1255625
A27: A.4. | B27: IMPOZITE SI TAXE PE BUNURI SI SERVICII | C27: 10.02 | D27: =D28+D31 -> 3663000 | E27: =E28+E31 -> 3185799.4 | F27: =E27/D27 -> 0.8697241
B28: SUME DEFALCATE DIN TVA | C28: 11.02 | D28: =D29+D30 -> 3340000 | E28: =E29+E30 -> 2753254 | F28: =E28/D28 -> 0.82432754
B29: Sume defalcate din TVA pt. finantarea cheltuielilor descentralizate la nivelul comunelor | C29: 11.02.02 | D29: 3340000 | E29: 2753254 | F29: =E29/D29 -> 0.82432754
B30: Sume defalcate din TVA pt. echilibrarea bugetelor locale | C30: 11.02.06 | D30: 0 | E30: 0 | F30: =E30/D30 -> #DIV/0!
B31: TAXE PE UTILIZ. BUNURILOR, AUTORIZ.UTILIZ.BUNURILOR SAU PE DESF.DE ACTIV. | C31: 16.02 | D31: =D32+D35+D36 -> 323000 | E31: =E32+E35+E36 -> 432545.39 | F31: =E31/D31 -> 1.3391498
B32: Impozit pe mijloacele de transport | C32: 16.02.02 | D32: =D33+D34 -> 319000 | E32: =E33+E34 -> 430710.39 | F32: =E32/D32 -> 1.3501893
B33: Impozit pe mijloacele de transport detinute de persoane fizice | C33: 16.02.02.01 | D33: 279000 | E33: 347596.39 | F33: =E33/D33 -> 1.2458652
B34: Impozit pe mijloacele de transport detinute de persoane juridice | C34: 16.02.02.02 | D34: 40000 | E34: 83114 | F34: =E34/D34 -> 2.07785
B35: Taxe si tarife pentru eliberarea de licente si autorizatii de functionare | C35: 16.02.03.00 | D35: 1000 | E35: 160 | F35: =E35/D35 -> 0.16
B36: Alte taxe pe utiliz.bunurilor, autorizarea utiliz.bunurilor sau pe desfasurare de activitati | C36: 16.02.50.00 | D36: 3000 | E36: 1675 | F36: =E36/D36 -> 0.55833333
A37: A.6. | B37: ALTE IMPOZITE SI TAXE FISCALE | C37: 18.02 | D37: =D38 -> 2000 | E37: =E38 -> 2815 | F37: =E37/D37 -> 1.4075
B38: Alte impozite si taxe | C38: 18.02.50 | D38: 2000 | E38: 2815 | F38: =E38/D38 -> 1.4075
A39: C. | B39: VENITURI NEFISCALE | C39: 29.00.02 | D39: =D40+D43 -> -167600 | E39: =E40+E43 -> 372396.12 | F39: =E39/D39 -> -2.2219339
A40: C.1. | B40: VENITURI DIN PROPRIETATE | C40: 30.2A | D40: =D41 -> 43000 | E40: =E41 -> 46366.64 | F40: =E40/D40 -> 1.078294
B41: Venituri din concesiuni si inchirieri | C41: 30.02.05 | D41: =D42 -> 43000 | E41: =E42 -> 46366.64 | F41: =E41/D41 -> 1.078294
B42: Alte venituri din concesiuni si inchirieri | C42: 30.02.05.30 | D42: 43000 | E42: 46366.64 | F42: =E42/D42 -> 1.078294
A43: C.2. | B43: VANZARI DE BUNURI SI SERVICII | C43: 33.00.02 | D43: =D44+D47+D50+D54+D57 -> -210600 | E43: =E44+E47+E50+E54+E57 -> 326029.48 | F43: =E43/D43 -> -1.5480982
B44: Venituri din prestari de servicii | C44: 33.02 | D44: =D45+D46 -> 2000 | E44: =E45+E46 -> 44424 | F44: =E44/D44 -> 22.212
B45: Venituri din prestari de servicii | C45: 33.02.08.00 | D45: 0 | E45: 44000 | F45: =E45/D45 -> #DIV/0!
B46: Venituri din recuperarea chelt.de judecata, imputatii si despagubiri | C46: 33.02.28.00 | D46: 2000 | E46: 424 | F46: =E46/D46 -> 0.212
B47: VENITURI DIN TAXE ADMINISTRATIVE, ELIBERARI PERMISE | C47: 34.02 | D47: =D48+D49 -> 9000 | E47: =E48+E49 -> 11602.56 | F47: =E47/D47 -> 1.2891733
B48: Taxe extrajudiciare de timbru | C48: 34.02.02 | D48: 0 | E48: 0 | F48: =E48/D48 -> #DIV/0!
B49: Alte venituri din taxe administrative, eliberare de permise | C49: 34.2A.50.00 | D49: 9000 | E49: 11602.56 | F49: =E49/D49 -> 1.2891733
B50: AMENZI, PENALITATI SI CONFISCARI | C50: 35.02 | D50: =D51+D53 -> 150000 | E50: =E51+E53 -> 178499.27 | F50: =E50/D50 -> 1.1899951
B51: Venituri din amenzi si alte sanctiuni | C51: 35.02.01 | D51: =D52 -> 124000 | E51: =E52 -> 151456.62 | F51: =E51/D51 -> 1.2214244
B52: Venituri din amenzi si alte sanctiuni aplicate de catre institutii de specialitate | C52: 35.02.01.02 | D52: 124000 | E52: 151456.62 | F52: =E52/D52 -> 1.2214244
B53: Alte amenzi, penalitati si confiscari | C53: 35.02.50.00 | D53: 26000 | E53: 27042.65 | F53: =E53/D53 -> 1.0401019
B54: DIVERSE VENITURI | C54: 36.02 | D54: =D55+D56 -> 91000 | E54: =E55+E56 -> 93628.65 | F54: =E54/D54 -> 1.0288863
B55: Taxe speciale | C55: 36.02.06 | D55: 66000 | E55: 73872.65 | F55: =E55/D55 -> 1.1192826
B56: Alte venituri | C56: 36.02.50 | D56: 25000 | E56: 19756 | F56: =E56/D56 -> 0.79024
B57: TRANSFERURI VOLUNTARE, ALTELE DECAT SUBVENTIILE | C57: 37.02 | D57: =D58+D59 -> -462600 | E57: =E58+E59 -> -2125 | F57: =E57/D57 -> 0.0045936014
B58: Donatii si sponsorizari | C58: 37.02.01 | D58: 7400 | E58: 7395 | F58: =E58/D58 -> 0.99932432
B59: Varsaminte din sectiunea de functionare pentru finantarea sectiunii de dezvoltare a bugetului local | C59: 37.02.03 | D59: -470000 | E59: -9520 | F59: =E59/D59 -> 0.020255319
B60: Sume din excedentul anilor precedenti pentru acoperirea golurilor temporare de casa | C60: 40.11 | D60: 0 | E60: 200000 | F60: -
A61: IV | B61: SUBVENTII | C61: 42 | D61: =D62+D63 -> 121900 | E61: =E62+E63 -> 127374 | F61: =E61/D61 -> 1.0449057
B62: Subventii pentru acordarea ajutorului pentru incalzirea locuintei cu lemne, carbuni, combustibili petrolieri | C62: 42.02.34 | D62: 62500 | E62: 67996 | F62: =E62/D62 -> 1.087936
B63: Subventii de la bugetul de stat pentru finantarea sanatatii | C63: 42.02.41 | D63: 59400 | E63: 59378 | F63: =E63/D63 -> 0.99962963
B67: PRIMAR, | E67: CONSILIER SUPERIOR
E68: COMP.BUGET CONTABILITATE,
B69: NASTASE ADRIAN | E69: TITA ANNE MARIE

Sheet cheltuieli functionare
F1: ANEXA 4
C2: CHELTUIELI ALE SECTIUNII DE FUNCTIONARE
A4: NR. CRT. | B4: DENUMIRE CONT | C4: COD INDICATOR | D4: PREVAZUT LA | E4: REALIZAT LA | F4: %
D5: 45565 | E5: 45565
A6: TOTAL | C6: 50.02 | D6: =D7+D14+D17+D21+D24+D29+D34+D37+D40+D12 -> 9633300 | E6: =E7+E14+E17+E21+E24+E29+E34+E37+E40+E12 -> 8145100.2 | F6: =E6/D6 -> 0.84551506
A7: 1 | B7: AUTORITATI PUBLICE SI ACTIUNI EXTERNE | C7: 51.02 | D7: =D8+D9+D11+D10 -> 3986000 | E7: =E8+E9+E11+E10 -> 3278013.5 | F7: =E7/D7 -> 0.82238171
B8: Cheltuieli de personal | C8: 51.02.10 | D8: 3082000 | E8: 2684194 | F8: =E8/D8 -> 0.87092602
B9: Bunuri si servicii | C9: 51.02.20 | D9: 854000 | E9: 614538.48 | F9: =E9/D9 -> 0.71960009
B10: Alte cheltuieli | C10: 51.02.59 | D10: 50000 | E10: 0 | F10: =E10/D10 -> 0
B11: Plati efectuate in anii precedenti si recuperate in anul curent | C11: 51.02.85 | D11: 0 | E11: -20719 | F11: =E11/D11 -> #DIV/0!
A12: 2 | B12: ALTE SERVICII PUBLICE GENERALE | C12: 54.02 | D12: =D13 -> 40000 | E12: =E13 -> 38957.86 | F12: =E12/D12 -> 0.9739465
B13: Bunuri si servicii | C13: 54.02.20 | D13: 40000 | E13: 38957.86 | F13: =E13/D13 -> 0.9739465
A14: 3 | B14: ORDINE PUBLICA SI SIGURANTA NATIONALA | C14: 61.02 | D14: =D15 -> 26000 | E14: =E15+E16 -> 6276.97 | F14: =E14/D14 -> 0.24142192
B15: Bunuri si servicii | C15: 61.02.20 | D15: 26000 | E15: 6276.97 | F15: =E15/D15 -> 0.24142192
B16: Plati efectuate in anii precedenti si recuperate in anul curent | C16: 61.02.85 | D16: 0 | E16: 0 | F16: =E16/D16 -> #DIV/0!
A17: 4 | B17: INVATAMANT | C17: 65.02 | D17: =D18+D19+D20 -> 996400 | E17: =E18+E19+E20 -> 673776.97 | F17: =E17/D17 -> 0.67621133
B18: Bunuri si servicii | C18: 65.02.20 | D18: 850400 | E18: 544656.97 | F18: =E18/D18 -> 0.64047151
B19: Asistenta sociala | C19: 65.02.57 | D19: 146000 | E19: 129120 | F19: =E19/D19 -> 0.88438356
B20: Burse scolare | C20: 65.02.59 | D20: 0 | E20: 0 | F20: =E20/D20 -> #DIV/0!
A21: 5 | B21: SANATATE | C21: 66.02 | D21: =D22+D23 -> 95400 | E21: =E22+E23 -> 60978 | F21: =E21/D21 -> 0.63918239
B22: Cheltuieli de personal | C22: 66.02.10 | D22: 94400 | E22: 60978 | F22: =E22/D22 -> 0.64595339
B23: Bunuri si servicii | C23: 66.02.20 | D23: 1000 | E23: 0 | F23: =E23/D23 -> 0
A24: 6 | B24: CULTURA, RECREERE SI RELIGIE | C24: 67.02 | D24: =D25+D26+D28+D27 -> 256000 | E24: =E25+E26+E27+E28 -> 124661.63 | F24: =E24/D24 -> 0.48695949
B25: Cheltuieli de personal | C25: 67.02.10 | D25: 4000 | E25: 0 | F25: =E25/D25 -> 0
B26: Bunuri si servicii | C26: 67.02.20 | D26: 202000 | E26: 111973.41 | F26: =E26/D26 -> 0.55432381
B27: Alte cheltuieli | C27: 67.02.59 | D27: 50000 | E27: 12688.22 | F27: =E27/D27 -> 0.2537644
B28: Plati efectuate in anii precedenti si recuperate in anul curent | C28: 67.02.85 | D28: 0 | E28: 0 | F28: =E28/D28 -> #DIV/0!
A29: 7 | B29: ASIGURARI SI ASISTENTA SOCIALA | C29: 68.02 | D29: =D30+D32+D31 -> 3560500 | E29: =E30+E32+E33+E31 -> 3478827.9 | F29: =E29/D29 -> 0.97706162
B30: Cheltuieli de personal | C30: 68.02.10 | D30: 1583000 | E30: 1557826 | F30: =E30/D30 -> 0.98409728
B31: Bunuri si servicii | C31: 68.02.20 | D31: 45000 | E31: 22599.9 | F31: =E31/D31 -> 0.50222
B32: Ajutoare sociale in numerar | C32: 68.02.57 | D32: 1932500 | E32: 1898617 | F32: =E32/D32 -> 0.98246675
B33: Plati efectuate in anii precedenti si recuperate in anul curent | C33: 68.02.85 | D33: 0 | E33: -215 | F33: =E33/D33 -> #DIV/0!
A34: 8 | B34: LOCUINTE, SERVICII SI DEZVOLTARE PUBLICA | C34: 70.02 | D34: =D35 -> 455000 | E34: =E35+E36 -> 306960 | F34: =E34/D34 -> 0.67463736
B35: Bunuri si servicii | C35: 70.02.20 | D35: 455000 | E35: 306960 | F35: =E35/D35 -> 0.67463736
B36: Plati efectuate in anii precedenti si recuperate in anul curent | C36: 70.02.85 | D36: 0 | E36: 0 | F36: =E36/D36 -> #DIV/0!
A37: 9 | B37: PROTECTIA MEDIULUI | C37: 74.02 | D37: =D38+D39 -> 135000 | E37: =E38+E39 -> 119089 | F37: =E37/D37 -> 0.88214074
B38: Bunuri si servicii | C38: 74.02.20 | D38: 90000 | E38: 77599 | F38: =E38/D38 -> 0.86221111
B39: Asociatii si fundatii | C39: 74.02.59 | D39: 45000 | E39: 41490 | F39: =E39/D39 -> 0.922
A40: 10 | B40: TRANSPORTURI | C40: 84.02 | D40: =D41 -> 83000 | E40: =E41 -> 57558.4 | F40: =E40/D40 -> 0.6934747
B41: Bunuri si servicii | C41: 84.02.20 | D41: 83000 | E41: 57558.4 | F41: =E41/D41 -> 0.6934747
B42: EXCEDENT / DEFICIT | C42: - | E42: ='venituri functionare'!E6-'cheltuieli functionare'!E6 -> 1341765.1
B44: PRIMAR, | D44: CONSILIER SUPERIOR
B45: NASTASE ADRIAN | D45: COMP.BUGET CONTABILITATE,
D46: TITA ANNE MARIE

Sheet venituri dezvoltare
F1: ANEXA 5
C2: VENITURI ALE SECTIUNII DE DEZVOLTARE
A4: NR. CRT. | B4: DENUMIRE CONT | C4: COD INDICATOR | D4: Prevazut la | E4: Realizat la 30.09.2024 | F4: %
D5: 45565
A6: TOTAL | D6: =D7+D10+D12+D14+D19+D23 -> 7110900 | E6: =E9+E12+E14+E19+E7+E23 -> 8075394.7 | F6: =E6/D6 -> 1.1356361
A7: I | B7: TRANSFERURI VOLUNTARE, ALTELE DECAT SUBVENTIILE | C7: 37.02 | D7: =D8 -> 470000 | E7: =E8 -> 9520 | F7: =E7/D7 -> 0.020255319
B8: Varsaminte din sectiunea de functionare | C8: 37.02.04 | D8: 470000 | E8: 9520 | F8: =E8/D8 -> 0.020255319
A9: II | B9: VENITURI DIN CAPITAL | D9: =D10 -> 0 | E9: =E10 -> 1970 | F9: =E9/D9 -> #DIV/0!
B10: VENITURI DIN VALORIFICAREA UNOR BUNURI | C10: 39.02 | D10: =D11 -> 0 | E10: =E11 -> 1970 | F10: =E10/D10 -> #DIV/0!
B11: Venituri din vanzarea locuintelor construite din fondurile statului | C11: 39.02.03 | D11: 0 | E11: 1970 | F11: =E11/D11 -> #DIV/0!
A12: III | B12: OPERATIUNI FINANCIARE | C12: 40.02 | D12: =D13 -> 0 | E12: =E13 -> 1423345.8 | F12: =E12/D12 -> #DIV/0!
B13: Sume din excedentul bugetului local utilizate pentru finantarea cheltuielilor sectiunii de dezvoltare | C13: 40.14.00 | D13: 0 | E13: 1423345.8 | F13: =E13/D13 -> #DIV/0!
B14: SUBVENTII DE LA BUGETUL DE STAT | C14: 42.2A | D14: =D16+D15 -> 4407900 | E14: =E16+E15 -> 4407732.5 | F14: =E14/D14 -> 0.99996201
B15: Subventii de la bugetul de stat catre bugetele locale pentru Programul national de investitii "Anghel saligny" | C15: 42.2A.87 | D15: 4341900 | E15: 4341822.5 | F15: =E15/D15 -> 0.99998216
B16: Alocari de sume din PNRR aferente componentei imprumutui | C16: 42.2A.89 | D16: =D17+D18 -> 66000 | E16: =E17+E18 -> 65910 | F16: =E16/D16 -> 0.99863636
B17: Fonduri din imprumut rambursabil | C17: 42.2A.89.01 | D17: 58500 | E17: 58500 | F17: =E17/D17 -> 1
B18: Sume aferente TVA | C18: 42.2A.89.03 | D18: 7500 | E18: 7410 | F18: =E18/D18 -> 0.988
B19: SUBVENTII DE LA ALTE ADMINISTRATII | C19: 43.2A | D19: =D21+D20 -> 1248400 | E19: =E21+E20 -> 1248270.5 | F19: =E19/D19 -> 0.99989631
B20: Sume alocate din bugetul AFIR, pentru sustinerea proiectelor din PNDR 2014-2020 | C20: 43.2A.31 | D20: 838400 | E20: 838338.94 | F20: =E20/D20 -> 0.99992717
B21: Subventii acordate in baza contractelor de parteneriat sau asociere | C21: 43.2A.39 | D21: =D22 -> 410000 | E21: =E22 -> 409931.61 | F21: =E21/D21 -> 0.9998332
B22: Subventii acordate in baza contractelor de parteneriat sau asocier, pentru sectiunea de dezvoltare | C22: 43.2A.39.02 | D22: 410000 | E22: 409931.61 | F22: =E22/D22 -> 0.9998332
B23: Sume primite de la UE/alti donatori in contul platilor efectuate si prefinantari aferente cadrului financiar 2014-2020 | C23: 48.2A | D23: =D24 -> 984600 | E23: =E24 -> 984555.89 | F23: =E23/D23 -> 0.9999552
B24: Fondul European Agricol de Dezvoltare (FEADR) | C24: 48.2A.04 | D24: =D25 -> 984600 | E24: =E25 -> 984555.89 | F24: =E24/D24 -> 0.9999552
B25: Sume primite in contul platilor efectuate in anul curent (FEADR) | C25: 48.2A.04.01 | D25: 984600 | E25: 984555.89 | F25: =E25/D25 -> 0.9999552
B27: PRIMAR, | E27: CONSILIER SUPERIOR
E28: COMP.BUGET CONTABILITATE,
B29: NASTASE ADRIAN | E29: TITA ANNE MARIE
A35: ='venituri functionare'!E6+'venituri dezvoltare'!E6 -> 17562260

Sheet cheltuieli dezvoltare
F1: ANEXA 6
C2: CHELTUIELI ALE SECTIUNII DE DEZVOLTARE
A4: NR. CRT. | B4: DENUMIRE CONT | C4: COD INDICATOR | D4: Prevazut la | E4: Realizat la | F4: %
D5: 45565 | E5: 45565
A6: TOTAL | D6: =D7+D13+D21+D26+D31+D40 -> 10497900 | E6: =E7+E13+E21+E26+E31+E40+E25+E39 -> 6125831 | F6: =E6/D6 -> 0.58352918
A7: 1 | B7: AUTORITATI PUBLICE SI ACTIUNI EXTERNE | C7: 51.02 | D7: =D8 -> 250000 | E7: =E8 -> 102975 | F7: =E7/D7 -> 0.4119
B8: ACTIVE FIXE | C8: 51.02.71.01 | D8: =D9+D12+D10+D11 -> 250000 | E8: =E9+E12 -> 102975 | F8: =E8/D8 -> 0.4119
B9: Constructii | C9: 51.02.71.01.01 | D9: 200000 | E9: 100000 | F9: =E9/D9 -> 0.5
B10: Masini, echipamente si mijloace de transport | C10: 51.02.71.01.02 | D10: 0 | E10: 0 | F10: =E10/D10 -> #DIV/0!
B11: Mobilier, aparatura birotica si alte active corporale | C11: 51.02.71.01.03 | D11: 0 | E11: 0 | F11: =E11/D11 -> #DIV/0!
B12: Alte active fixe | C12: 51.02.71.01.30 | D12: 50000 | E12: 2975 | F12: =E12/D12 -> 0.0595
A13: 2 | B13: INVATAMANT | C13: 65.02 | D13: =D14+D17 -> 387000 | E13: =E14+E17 -> 168406.36 | F13: =E13/D13 -> 0.43515855
B14: PROIECTE CU FINANTARE DIN SUMELE AFERENTE COMPONENTEI DE IMPRUMUT PNRR | C14: 65.02.61 | D14: =D15+D16 -> 66000 | E14: =E15+E16 -> 65910 | F14: =E14/D14 -> 0.99863636
B15: Fonduri din imprumut rambursabil | C15: 65.02.61.01.00 | D15: 58500 | E15: 58500 | F15: =E15/D15 -> 1
B16: Sume aferente TVA | C16: 65.02.61.03.00 | D16: 7500 | E16: 7410 | F16: =E16/D16 -> 0.988
B17: ACTIVE FIXE | C17: 65.02.71 | D17: =D18+D20+D19 -> 321000 | E17: =E18+E20 -> 102496.36 | F17: =E17/D17 -> 0.3193033
B18: Constructii | C18: 65.02.71.01.01 | D18: 231000 | E18: 50000 | F18: =E18/D18 -> 0.21645022
B19: Mobilier, aparatura birotica si alte active corporale | C19: 65.02.71.01.03 | D19: 0 | E19: 0 | F19: =E19/D19 -> #DIV/0!
B20: Alte active fixe | C20: 65.02.71.01.30 | D20: 90000 | E20: 52496.36 | F20: =E20/D20 -> 0.58329289
A21: 3 | B21: CULTURA, RECREERE, RELIGIE | C21: 67.02 | D21: =D22 -> 700000 | E21: =E22 -> 262606.61 | F21: =E21/D21 -> 0.3751523
B22: ACTIVE FIXE | C22: 67.02.71 | D22: =D24+D23 -> 700000 | E22: =E23+E24 -> 262606.61 | F22: =E22/D22 -> 0.3751523
B23: Constructii | C23: 67.02.71.01.01 | D23: 660000 | E23: 241855.61 | F23: =E23/D23 -> 0.36644789
B24: Alte active fixe | C24: 67.02.71.01.30 | D24: 40000 | E24: 20751 | F24: =E24/D24 -> 0.518775
B25: Plati efectuate in anul precedent si recuperate in anul curent | C25: 67.02.85.01.02 | D25: 0 | E25: -2380 | F25: =E25/D25 -> #DIV/0!
A26: 4 | B26: LOCUINTE, SERVICII SI DEZVOLTARE | C26: 70.02 | D26: =D27 -> 630000 | E26: =E27 -> 182386.1 | F26: =E26/D26 -> 0.28950175
B27: ACTIVE FIXE | C27: 70.02.71 | D27: =D30+D28+D29 -> 630000 | E27: =E30+E28+E29 -> 182386.1 | F27: =E27/D27 -> 0.28950175
B28: Constructii | C28: 70.02 71.01.01 | D28: 518000 | E28: 119386.1 | F28: =E28/D28 -> 0.2304751
B29: Masini, echipamente si mijloace de transport | C29: 70.02 71.01.02 | D29: 0 | E29: 0 | F29: =E29/D29 -> #DIV/0!
B30: Alte active fixe | C30: 70.02.71.01.30 | D30: 112000 | E30: 63000 | F30: =E30/D30 -> 0.5625
A31: 5 | B31: PROTECTIA MEDIULUI | C31: 74.02 | D31: =D32+D35 -> 3703100 | E31: =E32+E35 -> 1389052.5 | F31: =E31/D31 -> 0.37510531
B32: PROIECTE CU FINANTARE DIN FONDURI EXTERNE NERAMBURSABILE CADRULUI FINANCIAR 2014-2020 | C32: 74.02.58 | D32: =D33 -> 0 | E32: =E33 -> 0 | F32: =E32/D32 -> #DIV/0!
B33: Programe din Fondul European Agricol de Dezvoltare Rurala (FEADR) | C33: 74.02.58.04 | D33: =D34 -> 0 | E33: =E34 -> 0 | F33: =E33/D33 -> #DIV/0!
B34: Finantarea externa nerambursabila | C34: 74.05.58.04.02 | D34: 0 | E34: 0 | F34: =E34/D34 -> #DIV/0!
B35: ACTIVE FIXE | C35: 74.02.71.01 | D35: =D36+D38+D37+D39 -> 3703100 | E35: =E36+E38+E37 -> 1389052.5 | F35: =E35/D35 -> 0.37510531
B36: Constructii | C36: 74.02.71.01.01 | D36: 3374900 | E36: 1273233.6 | F36: =E36/D36 -> 0.37726557
B37: Mobilier, aparatura birotica si alte active corporale | C37: 74.02.71.01.03 | D37: 0 | E37: 0
B38: Alte active fixe | C38: 74.02.71.01.30 | D38: 328200 | E38: 115818.9 | F38: =E38/D38 -> 0.35289122
B39: Plati efectuate in anul precedent si recuperate in anul curent | C39: 74.02.85.01.02 | D39: 0 | E39: -4796.88 | F39: =E39/D39 -> #DIV/0!
A40: 6 | B40: TRANSPORTURI | C40: 84.02 | D40: =D41 -> 4827800 | E40: =E41 -> 4027581.3 | F40: =E40/D40 -> 0.83424775
B41: ACTIVE FIXE | C41: 84.02.71.01 | D41: =D42+D43 -> 4827800 | E41: =E42+E43 -> 4027581.3 | F41: =E41/D41 -> 0.83424775
B42: Constructii | C42: 84.02.71.01.01 | D42: 4379300 | E42: 3819975.9 | F42: =E42/D42 -> 0.87228002
B43: Alte active fixe | C43: 84.02.71.01.30 | D43: 448500 | E43: 207605.37 | F43: =E43/D43 -> 0.46288823
B44: EXCEDENT / DEFICIT | E44: ='venituri dezvoltare'!E6-'cheltuieli dezvoltare'!E6 -> 1949563.8
B47: PRIMAR, | D47: CONSILIER SUPERIOR
D48: COMP.BUGET CONTABILITATE,
B49: NASTASE ADRIAN | D49: TITA ANNE MARIE
A50: =E6+'cheltuieli functionare'!E6 -> 14270931 | B50: total plati
A51: =E44+'cheltuieli functionare'!E42 -> 3291328.9 | B51: excedent/deficit

Sheet VENITURI TOTALE
F1: ANEXA 1
C2: VENITURI TOTALE LA 30.09.2024
A4: NR. CRT. | B4: CLASIFICATIE BUGETARA | C4: DENUMIRE | D4: PREVEDERE BUGETARA | E4: EXECUTIE | F4: %
A5: 1 | B5: 031800 | C5: Impozitul pe veniturile din transferul proprietatilor imobiliare din patrimoniul personal | D5: ='venituri functionare'!D12 -> 10000 | E5: ='venituri functionare'!E12 -> 18726 | F5: =E5/D5 -> 1.8726
A6: 2 | B6: 040100 | C6: Cote defalcate din impozitul pe venit(se scad) | D6: ='venituri functionare'!D14 -> 4924000 | E6: ='venituri functionare'!E14 -> 4501747.5 | F6: =E6/D6 -> 0.91424605
A7: 3 | B7: 040400 | C7: Sume alocate din cotele defalcate din impozitul pe venit pentru echilibrarea bugetelor locale | D7: ='venituri functionare'!D15 -> 0 | E7: ='venituri functionare'!E15 -> 0 | F7: =E7/D7 -> #DIV/0!
A8: 4 | B8: 04 05 00 | C8: Sume repartizate din Fondul la dispozitia Consiliului Judetean | D8: ='venituri functionare'!D16 -> 470000 | E8: ='venituri functionare'!E16 -> 363913 | F8: =E8/D8 -> 0.77428298
A9: 5 | B9: 070101 | C9: Impozit pe cladiri de la persoane fizice | D9: ='venituri functionare'!D19 -> 132000 | E9: ='venituri functionare'!E19 -> 160390.79 | F9: =E9/D9 -> 1.2150817
A10: 6 | B10: 070102 | C10: Impozit si taxa pe cladiri de la persoane juridice | D10: ='venituri functionare'!D20 -> 176000 | E10: ='venituri functionare'!E20 -> 175397 | F10: =E10/D10 -> 0.99657386
A11: 7 | B11: 070201 | C11: Impozit pe terenuri de la persoane fizice | D11: ='venituri functionare'!D22 -> 105000 | E11: ='venituri functionare'!E22 -> 121391.43 | F11: =E11/D11 -> 1.1561089
A12: 8 | B12: 070202 | C12: Impozit si taxa pe teren de la persoane juridice | D12: ='venituri functionare'!D23 -> 65000 | E12: ='venituri functionare'!E23 -> 73165 | F12: =E12/D12 -> 1.1256154
A13: 9 | B13: 070203 | C13: Impozit pe terenul din extravilan | D13: ='venituri functionare'!D24 -> 82000 | E13: ='venituri functionare'!E24 -> 90821 | F13: =E13/D13 -> 1.1075732
A14: 10 | B14: 070300 | C14: Taxe judiciare de timbru si alte taxe de timbru | D14: ='venituri functionare'!D25 -> 30000 | E14: ='venituri functionare'!E25 -> 10417.84 | F14: =E14/D14 -> 0.34726133
A15: 11 | B15: 075000 | C15: Alte impozite si taxe pe proprietate | D15: ='venituri functionare'!D26 -> 20000 | E15: ='venituri functionare'!E26 -> 82511.25 | F15: =E15/D15 -> 4.1255625
A16: 12 | B16: 110200 | C16: Sume defalcate din taxa pe valoarea adaugata pentru finantarea cheltuielilor descentralizate la nivelul comunelor, oraselor, municipiilor, sectoarelor si Municipiului Bucuresti | D16: ='venituri functionare'!D29 -> 3340000 | E16: ='venituri functionare'!E29 -> 2753254 | F16: =E16/D16 -> 0.82432754
A17: 13 | B17: 110600 | C17: Sume defalcate din taxa pe valoarea adaugata pentru echilibrarea bugetelor locale | D17: ='venituri functionare'!D30 -> 0 | E17: ='venituri functionare'!E30 -> 0 | F17: =E17/D17 -> #DIV/0!
A18: 14 | B18: 160201 | C18: Impozit pe mijloacele de transport detinute de persoane fizice | D18: ='venituri functionare'!D33 -> 279000 | E18: ='venituri functionare'!E33 -> 347596.39 | F18: =E18/D18 -> 1.2458652
A19: 15 | B19: 160202 | C19: Impozit pe mijloacele de transport detinute de persoane juridice | D19: ='venituri functionare'!D34 -> 40000 | E19: ='venituri functionare'!E34 -> 83114 | F19: =E19/D19 -> 2.07785
A20: 16 | B20: 160300 | C20: Taxe si tarife pentru eliberarea de licente si autorizatii de functionare | D20: ='venituri functionare'!D35 -> 1000 | E20: ='venituri functionare'!E35 -> 160 | F20: =E20/D20 -> 0.16
A21: 17 | B21: 165000 | C21: Alte taxe pe utilizarea bunurilor, autorizarea utilizarii bunurilor sau pe desfasurare de activitati | D21: ='venituri functionare'!D36 -> 3000 | E21: ='venituri functionare'!E36 -> 1675 | F21: =E21/D21 -> 0.55833333
A22: 18 | B22: 185000 | C22: Alte impozite si taxe | D22: ='venituri functionare'!D38 -> 2000 | E22: ='venituri functionare'!E38 -> 2815 | F22: =E22/D22 -> 1.4075
A23: 19 | B23: 300530 | C23: Alte venituri din concesiuni si inchirieri de catre institutiile publice | D23: ='venituri functionare'!D42 -> 43000 | E23: ='venituri functionare'!E42 -> 46366.64 | F23: =E23/D23 -> 1.078294
A24: 20 | B24: 330800 | C24: Venituri din prestari de servicii | D24: ='venituri functionare'!D45 -> 0 | E24: ='venituri functionare'!E45 -> 44000 | F24: =E24/D24 -> #DIV/0!
A25: 21 | B25: 332800 | C25: Venituri din recuperarea cheltuielilor de judecata, imputatii si despagubiri | D25: ='venituri functionare'!D46 -> 2000 | E25: ='venituri functionare'!E46 -> 424 | F25: =E25/D25 -> 0.212
A26: 22 | B26: 340200 | C26: Taxe extrajudiciare de timbru | D26: ='venituri functionare'!D48 -> 0 | E26: ='venituri functionare'!E48 -> 0 | F26: =E26/D26 -> #DIV/0!
A27: 23 | B27: 345000 | C27: Alte venituri din taxe administrative, eliberare de permise | D27: ='venituri functionare'!D49 -> 9000 | E27: ='venituri functionare'!E49 -> 11602.56 | F27: =E27/D27 -> 1.2891733
A28: 24 | B28: 350102 | C28: Venituri din amenzi si alte sanctiuni aplicate de catre alte institutii de specialitate | D28: ='venituri functionare'!D52 -> 124000 | E28: ='venituri functionare'!E52 -> 151456.62 | F28: =E28/D28 -> 1.2214244
A29: 25 | B29: 355000 | C29: Alte amenzi, penalitati si confiscari | D29: ='venituri functionare'!D53 -> 26000 | E29: ='venituri functionare'!E53 -> 27042.65 | F29: =E29/D29 -> 1.0401019
A30: 26 | B30: 360600 | C30: Taxe speciale | D30: ='venituri functionare'!D55 -> 66000 | E30: ='venituri functionare'!E55 -> 73872.65 | F30: =E30/D30 -> 1.1192826
A31: 27 | B31: 365000 | C31: Alte venituri | D31: ='venituri functionare'!D56 -> 25000 | E31: ='venituri functionare'!E56 -> 19756 | F31: =E31/D31 -> 0.79024
A32: 28 | B32: 370100 | C32: Donatii si sponsorizari | D32: ='venituri functionare'!D58 -> 7400 | E32: ='venituri functionare'!E58 -> 7395
A33: 29 | B33: 370203 | C33: Varsaminte din sectiunea de functionare pentru finantarea sectiunii de dezvoltare a bugetului local | D33: ='venituri functionare'!D59 -> -470000 | E33: ='venituri functionare'!E59 -> -9520 | F33: =E33/D33 -> 0.020255319
A34: 30 | B34: 370204 | C34: Varsaminte din sectiunea de functionare | D34: ='venituri dezvoltare'!D8 -> 470000 | E34: ='venituri dezvoltare'!E8 -> 9520 | F34: =E34/D34 -> 0.020255319
A35: 31 | B35: 390300 | C35: Venituri din vanzarea locuintelor construite din fondurile statului | D35: ='venituri dezvoltare'!D11 -> 0 | E35: ='venituri dezvoltare'!E11 -> 1970 | F35: =E35/D35 -> #DIV/0!
A36: 32 | B36: 401100 | C36: Sume din excedentul anului precedent pentru acoperirea golurilor temporare de casa ale sectiunii de functionare | D36: ='venituri functionare'!D60 -> 0 | E36: ='venituri functionare'!E60 -> 200000 | F36: =E36/D36 -> #DIV/0!
A37: 33 | B37: 401400 | C37: Sume din excedentul bugetului local utilizate pentru finantarea cheltuielilor sectiunii de dezvoltare | D37: ='venituri dezvoltare'!D13 -> 0 | E37: ='venituri dezvoltare'!E13 -> 1423345.8 | F37: =E37/D37 -> #DIV/0!
A38: 34 | B38: 423400 | C38: Subventii pentru acordarea ajutorului pentru incalzirea locuintei cu lemne, carbuni, combustibili petrolieri | D38: ='venituri functionare'!D62 -> 62500 | E38: ='venituri functionare'!E62 -> 67996 | F38: =E38/D38 -> 1.087936
A39: 35 | B39: 424100 | C39: Subventii din bugetul de stat pentru finantarea sanatatii | D39: ='venituri functionare'!D63 -> 59400 | E39: ='venituri functionare'!E63 -> 59378 | F39: =E39/D39 -> 0.99962963
A40: 36 | B40: 428700 | C40: Subventii de la bugetul de stat catre bugetele locale pentru Programul national de investitii "Anghel saligny" | D40: ='venituri dezvoltare'!D15 -> 4341900 | E40: ='venituri dezvoltare'!E15 -> 4341822.5 | F40: =E40/D40 -> 0.99998216
A41: 37 | B41: 428901 | C41: Fonduri din imprumut rambursabil | D41: ='venituri dezvoltare'!D17 -> 58500 | E41: ='venituri dezvoltare'!E17 -> 58500 | F41: =E41/D41 -> 1
A42: 38 | B42: 428903 | C42: Sume aferente TVA | D42: ='venituri dezvoltare'!D18 -> 7500 | E42: ='venituri dezvoltare'!E18 -> 7410 | F42: =E42/D42 -> 0.988
A43: 39 | B43: 433100 | C43: Sume alocate din bugetul AFIR, pentru sustinerea proiectelor din PNDR 2014-2020 | D43: ='venituri dezvoltare'!D20 -> 838400 | E43: ='venituri dezvoltare'!E20 -> 838338.94 | F43: =E43/D43 -> 0.99992717
A44: 40 | B44: 433902 | C44: Subventii acordate in baza contractelor de parteneriat sau asocier, pentru sectiunea de dezvoltare | D44: ='venituri dezvoltare'!D22 -> 410000 | E44: ='venituri dezvoltare'!E22 -> 409931.61 | F44: =E44/D44 -> 0.9998332
A45: 41 | B45: 480401 | C45: Sume primite in contul platilor efectuate in anul curent (FEADR) | D45: ='venituri dezvoltare'!D25 -> 984600 | E45: ='venituri dezvoltare'!E25 -> 984555.89 | F45: =E45/D45 -> 0.9999552
B46: TOTAL | D46: =SUM(D5:D45) -> 16744200 | E46: =SUM(E5:E45) -> 17562260 | F46: =E46/D46 -> 1.0488563
B49: PRIMAR, | E49: CONSILIER SUPERIOR
E50: COMP.BUGET CONTABILITATE,
B51: NASTASE ADRIAN | E51: TITA ANNE MARIE

Sheet CHELTUIELI TOTALE
G1: ANEXA 2
D2: CHELTUIELI TOTALE LA 30.09.2024
A4: NR. CRT. | B4: CLASIFICATIE BUGETARA | D4: DENUMIRE | E4: PREVEDERE BUGETARA | F4: EXECUTIE | G4: %
A5: 1 | B5: 510103 | C5: 100101 | D5: Salarii de baza | E5: 2640000 | F5: 2395653 | G5: =F5/E5 -> 0.90744432
A6: 2 | B6: 510103 | C6: 100112 | D6: Indemnizatii platite unor persoane din afara unitatii | E6: 169000 | F6: 151396 | G6: =F6/E6 -> 0.89583432
A7: 3 | B7: 510103 | C7: 100117 | D7: Indemnizatii de hrana | E7: 90000 | F7: 35974 | G7: =F7/E7 -> 0.39971111
A8: 4 | B8: 510103 | C8: 100130 | D8: Alte drepturi salariale in bani | E8: 50000 | F8: 0 | G8: =F8/E8 -> 0
A9: 5 | B9: 510103 | C9: 100206 | D9: Vouchere de vacanta | E9: 55000 | F9: 43050 | G9: =F9/E9 -> 0.78272727
A10: 6 | B10: 510103 | C10: 100307 | D10: Contributia asiguratorie pentru munca | E10: 78000 | F10: 58121 | G10: =F10/E10 -> 0.74514103
A11: 7 | B11: 510103 | C11: 200101 | D11: Furnituri de birou | E11: 40000 | F11: 22940.41 | G11: =F11/E11 -> 0.57351025
A12: 8 | B12: 510103 | C12: 200102 | D12: Materiale pentru curatenie | E12: 15000 | F12: 6631.6 | G12: =F12/E12 -> 0.44210667
A13: 9 | B13: 510103 | C13: 200103 | D13: Incalzit, Iluminat si forta motrica | E13: 80000 | F13: 63097.08 | G13: =F13/E13 -> 0.7887135
A14: 10 | B14: 510103 | C14: 200104 | D14: Apa, canal si salubritate | E14: 6000 | F14: 2524.57 | G14: =F14/E14 -> 0.42076167
A15: 11 | B15: 510103 | C15: 200105 | D15: Carburanti si lubrifianti | E15: 40000 | F15: 24706.46 | G15: =F15/E15 -> 0.6176615
A16: 12 | B16: 510103 | C16: 200106 | D16: Piese de schimb | E16: 8000 | F16: 5785.07 | G16: =F16/E16 -> 0.72313375
A17: 13 | B17: 510103 | C17: 200107 | D17: Transport | E17: 24000 | F17: 7900 | G17: =F17/E17 -> 0.32916667
A18: 14 | B18: 510103 | C18: 200108 | D18: Posta, telecomunicatii, radio, tv, internet | E18: 55000 | F18: 40987.38 | G18: =F18/E18 -> 0.74522509
A19: 15 | B19: 510103 | C19: 200109 | D19: Materiale si prestari de servicii cu caracter functional | E19: 260400 | F19: 187901.9 | G19: =F19/E19 -> 0.72158948
A20: 16 | B20: 510103 | C20: 200130 | D20: Alte bunuri si servicii pentru intretinere si functionare | E20: 100000 | F20: 95139.75 | G20: =F20/E20 -> 0.9513975
A21: 17 | B21: 510103 | C21: 200200 | D21: Reparatii curente | E21: 60000 | F21: 21387.41 | G21: =F21/E21 -> 0.35645683
A22: 18 | B22: 510103 | C22: 200530 | D22: Alte obiecte de inventar | E22: 12000 | F22: 11845.5 | G22: =F22/E22 -> 0.987125
A23: 19 | B23: 510103 | C23: 200601 | D23: Deplasari interne,detasari,transferari | E23: 6000 | F23: 118 | G23: =F23/E23 -> 0.019666667
A24: 20 | B24: 510103 | C24: 2013 | D24: Prgatire profesionala | E24: 25000 | F24: 1082 | G24: =F24/E24 -> 0.04328
A25: 21 | B25: 510103 | C25: 203001 | D25: Reclama si publicitate | E25: 12000 | F25: 11925 | G25: =F25/E25 -> 0.99375
A26: 22 | B26: 510103 | C26: 203002 | D26: Protocol si reprezentare | E26: 5500 | F26: 5466.5 | G26: =F26/E26 -> 0.99390909
A27: 23 | B27: 510103 | C27: 203030 | D27: Alte cheltuieli cu bunuri si servicii | E27: 105100 | F27: 105099.85 | G27: =F27/E27 -> 0.99999857
A28: 24 | B28: 510103 | C28: 591100 | D28: Asociatii si fundatii | E28: 50000 | F28: 0 | G28: =F28/E28 -> 0
A29: 25 | B29: 510103 | C29: 710101 | D29: Constructii | E29: 200000 | F29: 100000 | G29: =F29/E29 -> 0.5
A30: 26 | B30: 510103 | C30: 710102 | D30: Masini, echipamente si mijloace de transport | E30: 0 | F30: 0 | G30: =F30/E30 -> #DIV/0!
A31: 27 | B31: 510103 | C31: 710103 | D31: Mobilier aparatura birotica si alte active corporale | E31: 0 | F31: 0 | G31: =F31/E31 -> #DIV/0!
A32: 28 | B32: 510103 | C32: 710130 | D32: Alte active fixe | E32: 50000 | F32: 2975 | G32: =F32/E32 -> 0.0595
A33: 29 | B33: 510103 | C33: 850101 | D33: Plati efectuate in anii precedenti si recuperate in anul curent | E33: 0 | F33: -20719 | G33: =F33/E33 -> #DIV/0!
A34: 30 | B34: 545000 | C34: 203030 | D34: Alte cheltuieli cu bunuri si servicii | E34: 40000 | F34: 38957.86 | G34: =F34/E34 -> 0.9739465
A35: 31 | B35: 615000 | C35: 200105 | D35: Carburanti si lubrifianti | E35: 3000 | F35: 2526.97 | G35: =F35/E35 -> 0.84232333
A36: 32 | B36: 615000 | C36: 200106 | D36: Piese de schimb | E36: 6000 | F36: 0 | G36: =F36/E36 -> 0
A37: 33 | B37: 615000 | C37: 200109 | D37: Materiale si prestari de servicii cu caracter functional | E37: 17000 | F37: 3750 | G37: =F37/E37 -> 0.22058824
A38: 34 | B38: 615000 | C38: 203030 | D38: Alte cheltuieli cu bunuri si servicii | E38: 0 | F38: 0 | G38: =F38/E38 -> #DIV/0!
A39: 35 | B39: 615000 | C39: 850101 | D39: Plati efectuate in anii precedenti si recuperate in anul curent | E39: 0 | F39: 0 | G39: =F39/E39 -> #DIV/0!
A40: 36 | B40: 650301 | C40: 710101 | D40: Constructii | E40: 50000 | F40: 50000 | G40: =F40/E40 -> 1
A41: 37 | B41: 650301 | C41: 710130 | D41: Alte active fixe | E41: 70000 | F41: 52496.36 | G41: =F41/E41 -> 0.749948
A42: 38 | B42: 650302 | C42: 610100 | D42: Fonduri din imprumut rambursabil | E42: 58500 | F42: 58500 | G42: =F42/E42 -> 1
A43: 39 | B43: 650302 | C43: 610300 | D43: Sume aferente TVA | E43: 7500 | F43: 7410 | G43: =F43/E43 -> 0.988
A44: 40 | B44: 650302 | C44: 710101 | D44: Constructii | E44: 181000 | F44: 0 | G44: =F44/E44 -> 0
A45: 41 | B45: 650302 | C45: 710103 | D45: Mobilier aparatura birotica si alte active corporale | E45: 0 | F45: 0 | G45: =F45/E45 -> #DIV/0!
A46: 42 | B46: 650302 | C46: 710130 | D46: Alte active fixe | E46: 10000 | F46: 0 | G46: =F46/E46 -> 0
A47: 43 | B47: 650401 | C47: 200101 | D47: Furnituri de birou | E47: 37000 | F47: 36440.33 | G47: =F47/E47 -> 0.98487378
A48: 44 | B48: 650401 | C48: 200102 | D48: Materiale pentru curatenie | E48: 38000 | F48: 34537.27 | G48: =F48/E48 -> 0.90887553
A49: 45 | B49: 650401 | C49: 200103 | D49: Incalzit, Iluminat si forta motrica | E49: 195000 | F49: 150656.81 | G49: =F49/E49 -> 0.77259903
A50: 46 | B50: 650401 | C50: 200104 | D50: Apa, canal si salubritate | E50: 5000 | F50: 4475.31 | G50: =F50/E50 -> 0.895062
A51: 47 | B51: 650402 | C51: 200106 | D51: Piese de schimb | E51: 20000 | F51: 7863.5 | G51: =F51/E51 -> 0.393175
A52: 48 | B52: 650401 | C52: 200107 | D52: Transport | E52: 90000 | F52: 43696 | G52: =F52/E52 -> 0.48551111
A53: 49 | B53: 650401 | C53: 200108 | D53: Posta, telecomunicatii, radio, tv, internet | E53: 16000 | F53: 13121.83 | G53: =F53/E53 -> 0.82011437
A54: 50 | B54: 650401 | C54: 200109 | D54: Materiale si prestari de servicii cu caracter functional | E54: 64400 | F54: 39948.54 | G54: =F54/E54 -> 0.62031894
A55: 51 | B55: 650401 | C55: 200130 | D55: Alte bunuri si servicii pentru intretinere si functionare | E55: 90000 | F55: 85595.39 | G55: =F55/E55 -> 0.95105989
A56: 52 | B56: 650401 | C56: 200200 | D56: Reparatii curente | E56: 230000 | F56: 79765 | G56: =F56/E56 -> 0.34680435
A57: 53 | B57: 650401 | C57: 200530 | D57: Alte obiecte de inventar | E57: 57000 | F57: 41227.99 | G57: =F57/E57 -> 0.72329807
A58: 54 | B58: 650401 | C58: 200601 | D58: Deplasari, detasari, transferari | E58: 0 | F58: 0 | G58: =F58/E58 -> #DIV/0!
A59: 55 | B59: 650401 | C59: 201300 | D59: Pregatire profesionala | E59: 8000 | F59: 7329 | G59: =F59/E59 -> 0.916125
A60: 56 | B60: 650401 | C60: 570201 | D60: Ajutoare sociale in numerar | E60: 104000 | F60: 101880 | G60: =F60/E60 -> 0.97961538
A61: 57 | B61: 650401 | C61: 5901 | D61: Burse | E61: 0 | F61: 0 | G61: =F61/E61 -> #DIV/0!
A62: 58 | B62: 651300 | C62: 710130 | D62: Alte active fixe | E62: 10000 | F62: 0 | G62: =F62/E62 -> 0
A63: 59 | B63: 655000 | C63: 570203 | D63: Tichete de cresa si tichete sociale pentru gradinita | E63: 42000 | F63: 27240 | G63: =F63/E63 -> 0.64857143
A64: 60 | B64: 660800 | C64: 100101 | D64: Salarii de baza | E64: 69000 | F64: 48421 | G64: =F64/E64 -> 0.70175362
A65: 61 | B65: 660800 | C65: 100105 | D65: Sporuri pentru conditiide munca | E65: 5400 | F65: 2719 | G65: =F65/E65 -> 0.50351852
A66: 62 | B66: 660800 | C66: 100106 | D66: Alte sporuri | E66: 8000 | F66: 4093 | G66: =F66/E66 -> 0.511625
A67: 63 | B67: 660800 | C67: 100117 | D67: Indemnizatii de hrana | E67: 7000 | F67: 2839 | G67: =F67/E67 -> 0.40557143
A68: 64 | B68: 660800 | C68: 100206 | D68: Vouchere de vacanta | E68: 2000 | F68: 1600 | G68: =F68/E68 -> 0.8
A69: 65 | B69: 660800 | C69: 100307 | D69: Contributia asiguratorie pentru munca | E69: 3000 | F69: 1306 | G69: =F69/E69 -> 0.43533333
A70: 66 | B70: 660800 | C70: 200402 | D70: Materiale sanitare | E70: 1000 | F70: 0 | G70: =F70/E70 -> 0
A71: 67 | B71: 670302 | C71: 100101 | D71: Salarii de baza | E71: 500 | F71: 0 | G71: =F71/E71 -> 0
A72: 68 | B72: 670302 | C72: 100117 | D72: Indemnizatii de hrana | E72: 500 | F72: 0 | G72: =F72/E72 -> 0
A73: 69 | B73: 670302 | C73: 100206 | D73: Vouchere de vacanta | E73: 2000 | F73: 0 | G73: =F73/E73 -> 0
A74: 70 | B74: 670302 | C74: 100307 | D74: Contributia asiguratorie pentru munca | E74: 1000 | F74: 0 | G74: =F74/E74 -> 0
A75: 71 | B75: 670302 | C75: 200101 | D75: Furnituri de birou | E75: 1000 | F75: 0 | G75: =F75/E75 -> 0
A76: 72 | B76: 670302 | C76: 200102 | D76: Materiale pentru curatenie | E76: 1000 | F76: 0 | G76: =F76/E76 -> 0
A77: 73 | B77: 670302 | C77: 200601 | D77: Deplasari interne,detasari,transferari | E77: 1000 | F77: 0 | G77: =F77/E77 -> 0
A78: 74 | B78: 670302 | C78: 201100 | D78: Carti, publicatii si materiale documntare | E78: 3000 | F78: 0 | G78: =F78/E78 -> 0
A79: 75 | B79: 670302 | C79: 201300 | D79: Pregatire profesionala | E79: 1000 | F79: 0 | G79: =F79/E79 -> 0
A80: 76 | B80: 670303 | C80: 200103 | D80: Incalzit, Iluminat si forta motrica | E80: 14000 | F80: 6466.46 | G80: =F80/E80 -> 0.46189
A81: 77 | B81: 670303 | C81: 200109 | D81: Materiale si prestari de servicii cu caracter functional | E81: 18000 | F81: 4713 | G81: =F81/E81 -> 0.26183333
A82: 78 | B82: 670303 | C82: 2002 | D82: Reparatii curente | E82: 5000 | F82: 0 | G82: =F82/E82 -> 0
A83: 79 | B83: 670307 | C83: 200103 | D83: Incalzit, Iluminat si forta motrica | E83: 57000 | F83: 33004.23 | G83: =F83/E83 -> 0.57902158
A84: 80 | B84: 670307 | C84: 200109 | D84: Materiale si prestari de servicii cu caracter functional | E84: 0 | F84: 0 | G84: =F84/E84 -> #DIV/0!
A85: 81 | B85: 670307 | C85: 200200 | D85: Reparatii curente | E85: 10000 | F85: 2481.5 | G85: =F85/E85 -> 0.24815
A86: 82 | B86: 670307 | C86: 200530 | D86: Alte obiecte de inventar | E86: 0 | F86: 0 | G86: =F86/E86 -> #DIV/0!
A87: 83 | B87: 670307 | C87: 203030 | D87: Alte cheltuieli cu bunuri si servicii | E87: 1000 | F87: 1000 | G87: =F87/E87 -> 1
A88: 84 | B88: 670307 | C88: 710101 | D88: Constructii | E88: 20000 | F88: 0 | G88: =F88/E88 -> 0
A89: 85 | B89: 670307 | C89: 710130 | D89: Alte active fixe | E89: 0 | F89: 0 | G89: =F89/E89 -> #DIV/0!
A90: 86 | B90: 670501 | C90: 200109 | D90: Materiale si prestari de servicii cu caracter functional | E90: 15000 | F90: 12900 | G90: =F90/E90 -> 0.86
A91: 87 | B91: 670501 | C91: 200130 | D91: Alte bunuri si servicii pentru intretinere si functionare | E91: 30000 | F91: 14942.22 | G91: =F91/E91 -> 0.498074
A92: 88 | B92: 670501 | C92: 200200 | D92: Reparatii curente | E92: 15000 | F92: 7384 | G92: =F92/E92 -> 0.49226667
A93: 89 | B93: 670501 | C93: 200530 | D93: Alte obiecte de inventar | E93: 20000 | F93: 19567 | G93: =F93/E93 -> 0.97835
A94: 90 | B94: 670501 | C94: 203030 | D94: Alte cheltuieli cu bunuri si servicii | E94: 10000 | F94: 9515 | G94: =F94/E94 -> 0.9515
A95: 91 | B95: 670501 | C95: 710101 | D95: Constructii | E95: 230000 | F95: 216800.61 | G95: =F95/E95 -> 0.94261135
A96: 92 | B96: 670501 | C96: 710130 | D96: Alte active fixe | E96: 30000 | F96: 13611 | G96: =F96/E96 -> 0.4537
B97: 670501 | C97: 850102 | D97: Sport-Plati efectuate in anii precedenti si recuperate in anul curent in SD | E97: 0 | F97: -2380 | G97: =F97/E97 -> #DIV/0!
A98: 93 | B98: 670600 | C98: 591200 | D98: Sustinerea cultelor | E98: 50000 | F98: 12688.22 | G98: =F98/E98 -> 0.2537644
A99: 94 | B99: 670600 | C99: 710101 | D99: Constructii | E99: 410000 | F99: 25055 | G99: =F99/E99 -> 0.061109756
A100: 95 | B100: 670600 | C100: 710130 | D100: Alte active fixe | E100: 10000 | F100: 7140 | G100: =F100/E100 -> 0.714
A101: 96 | B101: 670600 | C101: 850101 | D101: Plati efectuate in anii precedenti si recuperate in anul curent | E101: 0 | F101: 0 | G101: =F101/E101 -> #DIV/0!
...

Sheet indicatori
B1: PRIMARIA COMUNEI I.L.CARAGIALE | F1: ANEXA 7
C3: Indicatorii executiei bugetului local pe trim.III 2024
A4: VENITURI
A5: Nr. | B5: Indicatori sinteza | C5: Formula de calcul | D5: Sume | E5: Procent | F5: Perioada
A6: crt.
A7: 1 | B7: Gradul de realizare a veniturilor | C7: Venituri total incasate (t21) | D7: ='VENITURI TOTALE'!E46-5539000.24 -> 12023260 | E7: =D7/D8*100 -> 101.77215 | F7: Trimestrial
C8: Venituri totale programate | D8: ='VENITURI TOTALE'!D46-4930300 -> 11813900
A9: 2 | B9: Gradul de realizare a veniturilor proprii | C9: Venituri proprii incasate (Vp= t21-alte venituri (TVA, subventii) | D9: ='VENITURI TOTALE'!E46-'venituri functionare'!E28-'venituri functionare'!E61-'venituri dezvoltare'!E14-'venituri dezvoltare'!E19-'venituri functionare'!E58-2079194.52 -> 6939039.5 | E9: =D9/D10*100 -> 134.50358 | F9: Trimestrial
C10: Venituri proprii programate | D10: ='VENITURI TOTALE'!D46-'venituri functionare'!D28-'venituri functionare'!D61-'venituri dezvoltare'!D14-'venituri dezvoltare'!D19-'venituri dezvoltare'!D23-'venituri functionare'!D58-1475000 -> 5159000
A11: 3 | B11: Gradul de finantare din venituri proprii | C11: Venituri proprii incasate (Vp= t21-alte venituri (TVA, subventii) | D11: ='VENITURI TOTALE'!E46-'venituri functionare'!E28-'venituri functionare'!E61-'venituri dezvoltare'!E14-'venituri dezvoltare'!E19-'venituri functionare'!E58-2079194.52 -> 6939039.5 | E11: =D11/D12*100 -> 57.713462 | F11: Trimestrial
C12: Venituri total incasate (t21) | D12: ='VENITURI TOTALE'!E46-5539000.24 -> 12023260
A13: 4 | B13: Gradul de autofinantare | C13: Venituri proprii incasate (exclusiv cote) (Vpec=Vp-cote defalcate) | D13: ='VENITURI TOTALE'!E46-'venituri functionare'!E13-'venituri functionare'!E28-'venituri functionare'!E61-'venituri dezvoltare'!E14-'venituri dezvoltare'!E19-'venituri functionare'!E58-379212.72 -> 3773360.7 | E13: =D13/D14*100 -> 31.383841 | F13: Trimestrial
C14: Venituri totale incasate (t21) | D14: ='VENITURI TOTALE'!E46-5539000.24 -> 12023260
A15: 5 | B15: Venituri proprii incasate per capita | C15: Venituri proprii incasate(Vp= t21-alte venituri (TVA, subventii) | E15: =#DIV/0! -> #DIV/0! | F15: Anual
C16: Numar de locuitori
A17: 6 | B17: Gradul de realizare a impozitelor pe proprietate | C17: Venituri din impozite pe proprietate incasate | E17: =#DIV/0! -> #DIV/0! | F17: Anual
C18: (Vip = 070201+070202+160202)
C19: Venituri din impozite pe proprietate programate
A20: 7 | B20: Gradul de dependenta al bugetului local fata de bugetul de stat | C20: Incasari din surse primite de la bugetul de stat | E20: =#DIV/0! -> #DIV/0! | F20: Anual
C21: (Sbs = 0402+1102+4202+4302)
C22: Venituri totale incasate(t21)
A23: 8 | B23: Gradul de autonomie decizionala | C23: Venituri depersonalizate incasate (Vp+110206) | D23: ='VENITURI TOTALE'!E46-'venituri functionare'!E61-'venituri functionare'!E28-'venituri dezvoltare'!E14-'venituri dezvoltare'!E19-'venituri functionare'!E58-2079194.52 -> 6939039.5 | E23: =D23/D24*100 -> 57.713462 | F23: Trimestrial
C24: Venituri totale incasate(t21) | D24: ='VENITURI TOTALE'!E46-5539000.24 -> 12023260
A25: 9 | B25: Estimatul anual din venituri fiscale
A26: a) | B26: Coeficient de realizare a veniturilor fiscale in anul anterior (se calculeaza trimestrial) | C26: Venituri fiscale cumulate an anterior (trim.I,II,III) | D26: 825396.08 | E26: =D26/D27 -> 0.70516335 | F26: An anterior 2010
C27: Total venituri fiscale an anterior | D27: 1170503.4
A28: b) | B28: Estimatul anual din venituri fiscale | C28: Venituri fiscale cumulate an de calcul (trim.I,II,III) | D28: 1014238 | E28: 1428504.2 | F28: An curent (2011)
C29: Coeficient | D29: =D28/E28 -> 0.71
A32: CHELTUIELI
A33: Nr.crt. | B33: Indicatori sinteza | C33: Formula de calcul | D33: Sume | E33: Procent | F33: Perioada
A34: 1 | B34: Rigiditatea cheltuielilor | C34: Plati aferente cheltuielilor de personal | E34: =#DIV/0! -> #DIV/0! | F34: Anual
C35: (total titlul 10)
C36: Total plati (t24)
A37: 2 | B37: Ponderea sectiunii de functionare | C37: Plati aferente sectiunii de functionare (t24f) | D37: ='cheltuieli functionare'!E6-2931525.6 -> 5213574.6 | E37: =D37/D38*100 -> 52.265223 | F37: Trimestrial
C38: Total plati (t24) | D38: ='CHELTUIELI TOTALE'!F141-4295704.18 -> 9975227
A39: 3 | B39: Ponderea sectiunii de dezvoltare | C39: Plati aferente sectiunii de dezvoltare (t24d) | D39: ='cheltuieli dezvoltare'!E6-1364178.58 -> 4761652.4 | E39: =D39/D40*100 -> 47.734777 | F39: Trimestrial
C40: Total plati (t24) | D40: ='CHELTUIELI TOTALE'!F141-4295704.18 -> 9975227
A41: 4 | B41: Ponderea serviciului datoriei publice | C41: Serviciul datoriei publice locale | D41: 0 | E41: =#DIV/0! -> #DIV/0! | F41: Anual
C42: Total plati (t24)
A43: 5 | B43: Excedent /Deficit –sectiune functionare | C43: Venituri incasate-(plati efectuate+plati restante) | D43: ='venituri functionare'!E6-'cheltuieli functionare'!E6+60728.89 -> 1402494 | F43: Trimestrial
A44: 6 | B44: Excedent /Deficit –sectiune dezvoltare | C44: Venituri incasate-(plati efectuate+plati restante) | D44: ='venituri dezvoltare'!E6-'cheltuieli dezvoltare'!E6-1304024.95 -> 645538.84 | F44: Trimestrial
B47: PRIMAR, | E47: CONSILIER SUPERIOR
E48: COMP.BUGET CONTABILITATE,
B49: NASTASE ADRIAN | E49: TITA ANNE-MARIE
