Workbook

Sheet venituri functionare
F1: ANEXA 3
C2: VENITURI ALE SECTIUNII DE FUNCTIONARE
A4: NR. CRT. | B4: DENUMIRE CONT | C4: COD INDICATOR | D4: Prevazut | E4: Realizat | F4: %
D5: la 31.12.2024 | E5: La 31.12.2024
A6: TOTAL VENITURI SECTIUNEA DE FUNCTIONARE | C6: 0.01 | D6: =D7+D61 -> 13829500 | E6: =E7+E61+E60 -> 14648001 | F6: =E6/D6 -> 1.0591851
A7: I. | B7: VENITURI CURENTE | C7: 0.02 | D7: =D8+D39 -> 13257800 | E7: =E8+E39 -> 14078164 | F7: =E7/D7 -> 1.0618778
A8: A. | B8: VENITURI FISCALE | C8: 0.03 | D8: =D9+D17+D27+D37 -> 13346400 | E8: =E9+E17+E27+E37 -> 13511581 | F8: =E8/D8 -> 1.0123764
A9: A.1. | B9: IMPOZIT PE VENIT, PROFIT SI CASTIGURI DIN CAPITAL | C9: 0.04 | D9: =D10 -> 6699400 | E9: =E10 -> 6704400.4 | F9: =E9/D9 -> 1.0007464
A10: A.1.2 | B10: IMPOZIT PE VENIT, PROFIT SI CASTIGURI DIN CAPITAL DE LA PERSOANE FIZICE | C10: 03.00.02 | D10: =D11+D13 -> 6699400 | E10: =E11+E13 -> 6704400.4 | F10: =E10/D10 -> 1.0007464
B11: IMPOZIT PE VENIT | C11: 03,02 | D11: =D12 -> 26000 | E11: =E12 -> 31057 | F11: =E11/D11 -> 1.1945
B12: Impozitul pe veniturile din transferul proprietatilor imobiliare din patrimoniul personal | C12: 03.02.18 | D12: 26000 | E12: 31057 | F12: =E12/D12 -> 1.1945
B13: COTE SI SUME DEFALCATE DIN IMPOZITUL PE VENIT | C13: 04,02 | D13: =D14+D15+D16 -> 6673400 | E13: =E14+E15+E16 -> 6673343.4 | F13: =E13/D13 -> 0.99999152
B14: Cote si sume defalcate din impozitul pe venit | C14: 04.02.01 | D14: 6197400 | E14: 6197343.4 | F14: =E14/D14 -> 0.99999087
B15: Sume alocate din cotele defalcate din impozitul pe venit pentru echilibrarea bugetelor locale | C15: 04.02.04 | D15: 0 | E15: 0 | F15: =E15/D15 -> #DIV/0!
B16: Sume repartizate din Fondul la dispozitia Consiliului Judetean | C16: 04 02 05 | D16: 476000 | E16: 476000 | F16: =E16/D16 -> 1
A17: A.3. | B17: IMPOZITE SI TAXE PE PROPRIETATE | C17: 07.2A | D17: =D18+D21+D25+D26 -> 729000 | E17: =E18+E21+E25+E26 -> 782068.22 | F17: =E17/D17 -> 1.0727959
B18: Impozit si taxa pe cladiri | C18: 07.02.01 | D18: =D19+D20 -> 366000 | E18: =E19+E20 -> 361454.73 | F18: =E18/D18 -> 0.98758123
B19: Impozit pe cladiri de la persoane fizice | C19: 07.02.01.01 | D19: 149000 | E19: 185853.73 | F19: =E19/D19 -> 1.2473405
B20: Impozit si taxa pe cladiri de la persoane juridice | C20: 07.02.01.02 | D20: 217000 | E20: 175601 | F20: =E20/D20 -> 0.8092212
B21: Impozit si taxa pe teren | C21: 07.02.02 | D21: =D22+D23+D24 -> 279000 | E21: =E22+E23+E24 -> 323238.45 | F21: =E21/D21 -> 1.1585608
B22: Impozit pe terenuri de la persoane fizice | C22: 07.02.02.01 | D22: 124000 | E22: 143747.45 | F22: =E22/D22 -> 1.1592536
B23: Impozit si taxa pe teren de la persoane juridice | C23: 07.02.02.02 | D23: 65000 | E23: 73240 | F23: =E23/D23 -> 1.1267692
B24: Impozitul pe terenul extravilan | C24: 07.02.02.03 | D24: 90000 | E24: 106251 | F24: =E24/D24 -> 1.1805667
B25: Taxe judiciare de timbru si alte taxe de timbru | C25: 07.02.03.00 | D25: 60000 | E25: 13250.84 | F25: =E25/D25 -> 0.22084733
B26: Alte impozite si taxe pe proprietate | C26: 07.02.50.00 | D26: 24000 | E26: 84124.2 | F26: =E26/D26 -> 3.505175
A27: A.4. | B27: IMPOZITE SI TAXE PE BUNURI SI SERVICII | C27: 10.02 | D27: =D28+D31 -> 5915000 | E27: =E28+E31 -> 6020544.4 | F27: =E27/D27 -> 1.0178435
B28: SUME DEFALCATE DIN TVA | C28: 11.02 | D28: =D29+D30 -> 5507000 | E28: =E29+E30 -> 5506652 | F28: =E28/D28 -> 0.99993681
B29: Sume defalcate din TVA pt. finantarea cheltuielilor descentralizate la nivelul comunelor | C29: 11.02.02 | D29: 4757000 | E29: 4756652 | F29: =E29/D29 -> 0.99992684
B30: Sume defalcate din TVA pt. echilibrarea bugetelor locale | C30: 11.02.06 | D30: 750000 | E30: 750000 | F30: =E30/D30 -> 1
B31: TAXE PE UTILIZ. BUNURILOR, AUTORIZ.UTILIZ.BUNURILOR SAU PE DESF.DE ACTIV. | C31: 16.02 | D31: =D32+D35+D36 -> 408000 | E31: =E32+E35+E36 -> 513892.41 | F31: =E31/D31 -> 1.2595402
B32: Impozit pe mijloacele de transport | C32: 16.02.02 | D32: =D33+D34 -> 403000 | E32: =E33+E34 -> 512057.41 | F32: =E32/D32 -> 1.2706139
B33: Impozit pe mijloacele de transport detinute de persoane fizice | C33: 16.02.02.01 | D33: 342000 | E33: 428459.41 | F33: =E33/D33 -> 1.2528053
B34: Impozit pe mijloacele de transport detinute de persoane juridice | C34: 16.02.02.02 | D34: 61000 | E34: 83598 | F34: =E34/D34 -> 1.370459
B35: Taxe si tarife pentru eliberarea de licente si autorizatii de functionare | C35: 16.02.03.00 | D35: 1000 | E35: 160 | F35: =E35/D35 -> 0.16
B36: Alte taxe pe utiliz.bunurilor, autorizarea utiliz.bunurilor sau pe desfasurare de activitati | C36: 16.02.50.00 | D36: 4000 | E36: 1675 | F36: =E36/D36 -> 0.41875
A37: A.6. | B37: ALTE IMPOZITE SI TAXE FISCALE | C37: 18.02 | D37: =D38 -> 3000 | E37: =E38 -> 4568 | F37: =E37/D37 -> 1.5226667
B38: Alte impozite si taxe | C38: 18.02.50 | D38: 3000 | E38: 4568 | F38: =E38/D38 -> 1.5226667
A39: C. | B39: VENITURI NEFISCALE | C39: 29.00.02 | D39: =D40+D43 -> -88600 | E39: =E40+E43 -> 566582.53 | F39: =E39/D39 -> -6.3948367
A40: C.1. | B40: VENITURI DIN PROPRIETATE | C40: 30.2A | D40: =D41 -> 51000 | E40: =E41 -> 78962.93 | F40: =E40/D40 -> 1.5482927
B41: Venituri din concesiuni si inchirieri | C41: 30.02.05 | D41: =D42 -> 51000 | E41: =E42 -> 78962.93 | F41: =E41/D41 -> 1.5482927
B42: Alte venituri din concesiuni si inchirieri | C42: 30.02.05.30 | D42: 51000 | E42: 78962.93 | F42: =E42/D42 -> 1.5482927
A43: C.2. | B43: VANZARI DE BUNURI SI SERVICII | C43: 33.00.02 | D43: =D44+D47+D50+D54+D57 -> -139600 | E43: =E44+E47+E50+E54+E57 -> 487619.6 | F43: =E43/D43 -> -3.4929771
B44: Venituri din prestari de servicii | C44: 33.02 | D44: =D45+D46 -> 7000 | E44: =E45+E46 -> 77738.67 | F44: =E44/D44 -> 11.105524
B45: Venituri din prestari de servicii | C45: 33.02.08.00 | D45: 5000 | E45: 76924.77 | F45: =E45/D45 -> 15.384954
B46: Venituri din recuperarea chelt.de judecata, imputatii si despagubiri | C46: 33.02.28.00 | D46: 2000 | E46: 813.9 | F46: =E46/D46 -> 0.40695
B47: VENITURI DIN TAXE ADMINISTRATIVE, ELIBERARI PERMISE | C47: 34.02 | D47: =D48+D49 -> 12000 | E47: =E48+E49 -> 15140.56 | F47: =E47/D47 -> 1.2617133
B48: Taxe extrajudiciare de timbru | C48: 34.02.02 | D48: 0 | E48: 0 | F48: =E48/D48 -> #DIV/0!
B49: Alte venituri din taxe administrative, eliberare de permise | C49: 34.2A.50.00 | D49: 12000 | E49: 15140.56 | F49: =E49/D49 -> 1.2617133
B50: AMENZI, PENALITATI SI CONFISCARI | C50: 35.02 | D50: =D51+D53 -> 194000 | E50: =E51+E53 -> 258582.38 | F50: =E50/D50 -> 1.3328989
B51: Venituri din amenzi si alte sanctiuni | C51: 35.02.01 | D51: =D52 -> 163000 | E51: =E52 -> 207547.26 | F51: =E51/D51 -> 1.2732961
B52: Venituri din amenzi si alte sanctiuni aplicate de catre institutii de specialitate | C52: 35.02.01.02 | D52: 163000 | E52: 207547.26 | F52: =E52/D52 -> 1.2732961
B53: Alte amenzi, penalitati si confiscari | C53: 35.02.50.00 | D53: 31000 | E53: 51035.12 | F53: =E53/D53 -> 1.6462942
B54: DIVERSE VENITURI | C54: 36.02 | D54: =D55+D56 -> 110000 | E54: =E55+E56 -> 138282.99 | F54: =E54/D54 -> 1.2571181
B55: Taxe speciale | C55: 36.02.06 | D55: 80000 | E55: 113887.99 | F55: =E55/D55 -> 1.4235999
B56: Alte venituri | C56: 36.02.50 | D56: 30000 | E56: 24395 | F56: =E56/D56 -> 0.81316667
B57: TRANSFERURI VOLUNTARE, ALTELE DECAT SUBVENTIILE | C57: 37.02 | D57: =D58+D59 -> -462600 | E57: =E58+E59 -> -2125 | F57: =E57/D57 -> 0.0045936014
B58: Donatii si sponsorizari | C58: 37.02.01 | D58: 7400 | E58: 7395 | F58: =E58/D58 -> 0.99932432
B59: Varsaminte din sectiunea de functionare pentru finantarea sectiunii de dezvoltare a bugetului local | C59: 37.02.03 | D59: -470000 | E59: -9520 | F59: =E59/D59 -> 0.020255319
B60: Sume din excedentul anilor precedenti pentru acoperirea golurilor temporare de casa | C60: 40.11 | D60: 0 | E60: 0 | F60: -
A61: IV | B61: SUBVENTII | C61: 42 | D61: =D62+D63 -> 571700 | E61: =E62+E63 -> 569837 | F61: =E61/D61 -> 0.9967413
B62: Subventii pentru acordarea ajutorului pentru incalzirea locuintei cu lemne, carbuni, combustibili petrolieri | C62: 42.02.34 | D62: 491300 | E62: 489516 | F62: =E62/D62 -> 0.99636882
B63: Subventii de la bugetul de stat pentru finantarea sanatatii | C63: 42.02.41 | D63: 80400 | E63: 80321 | F63: =E63/D63 -> 0.99901741
B67: PRIMAR, | E67: CONSILIER SUPERIOR
E68: COMP.BUGET CONTABILITATE,
B69: NASTASE ADRIAN | E69: TITA ANNE MARIE

Sheet cheltuieli functionare
F1: ANEXA 4
C2: CHELTUIELI ALE SECTIUNII DE FUNCTIONARE
A4: NR. CRT. | B4: DENUMIRE CONT | C4: COD INDICATOR | D4: PREVAZUT LA | E4: REALIZAT LA | F4: %
D5: 45657 | E5: 45657
A6: TOTAL | C6: 50.02 | D6: =D7+D14+D17+D21+D24+D29+D34+D37+D40+D12 -> 13829500 | E6: =E7+E14+E17+E21+E24+E29+E34+E37+E40+E12 -> 11631775 | F6: =E6/D6 -> 0.84108431
A7: 1 | B7: AUTORITATI PUBLICE SI ACTIUNI EXTERNE | C7: 51.02 | D7: =D8+D9+D11+D10 -> 5178000 | E7: =E8+E9+E11+E10 -> 4472914.8 | F7: =E7/D7 -> 0.86383058
B8: Cheltuieli de personal | C8: 51.02.10 | D8: 4076000 | E8: 3660149 | F8: =E8/D8 -> 0.89797571
B9: Bunuri si servicii | C9: 51.02.20 | D9: 1052000 | E9: 833484.76 | F9: =E9/D9 -> 0.79228589
B10: Alte cheltuieli | C10: 51.02.59 | D10: 50000 | E10: 0 | F10: =E10/D10 -> 0
B11: Plati efectuate in anii precedenti si recuperate in anul curent | C11: 51.02.85 | D11: 0 | E11: -20719 | F11: =E11/D11 -> #DIV/0!
A12: 2 | B12: ALTE SERVICII PUBLICE GENERALE | C12: 54.02 | D12: =D13 -> 70000 | E12: =E13 -> 41250.06 | F12: =E12/D12 -> 0.58928657
B13: Bunuri si servicii | C13: 54.02.20 | D13: 70000 | E13: 41250.06 | F13: =E13/D13 -> 0.58928657
A14: 3 | B14: ORDINE PUBLICA SI SIGURANTA NATIONALA | C14: 61.02 | D14: =D15 -> 33000 | E14: =E15+E16 -> 8012.72 | F14: =E14/D14 -> 0.2428097
B15: Bunuri si servicii | C15: 61.02.20 | D15: 33000 | E15: 8012.72 | F15: =E15/D15 -> 0.2428097
B16: Plati efectuate in anii precedenti si recuperate in anul curent | C16: 61.02.85 | D16: 0 | E16: 0 | F16: =E16/D16 -> #DIV/0!
A17: 4 | B17: INVATAMANT | C17: 65.02 | D17: =D18+D19+D20 -> 1111400 | E17: =E18+E19+E20 -> 1008314.5 | F17: =E17/D17 -> 0.90724714
B18: Bunuri si servicii | C18: 65.02.20 | D18: 915400 | E18: 823462.47 | F18: =E18/D18 -> 0.89956573
B19: Asistenta sociala | C19: 65.02.57 | D19: 196000 | E19: 184852 | F19: =E19/D19 -> 0.94312245
B20: Burse scolare | C20: 65.02.59 | D20: 0 | E20: 0 | F20: =E20/D20 -> #DIV/0!
A21: 5 | B21: SANATATE | C21: 66.02 | D21: =D22+D23 -> 135400 | E21: =E22+E23 -> 81921 | F21: =E21/D21 -> 0.60502954
B22: Cheltuieli de personal | C22: 66.02.10 | D22: 134400 | E22: 81921 | F22: =E22/D22 -> 0.60953125
B23: Bunuri si servicii | C23: 66.02.20 | D23: 1000 | E23: 0 | F23: =E23/D23 -> 0
A24: 6 | B24: CULTURA, RECREERE SI RELIGIE | C24: 67.02 | D24: =D25+D26+D28+D27 -> 323000 | E24: =E25+E26+E27+E28 -> 167286.55 | F24: =E24/D24 -> 0.51791502
B25: Cheltuieli de personal | C25: 67.02.10 | D25: 23000 | E25: 0 | F25: =E25/D25 -> 0
B26: Bunuri si servicii | C26: 67.02.20 | D26: 250000 | E26: 147598.33 | F26: =E26/D26 -> 0.59039332
B27: Alte cheltuieli | C27: 67.02.59 | D27: 50000 | E27: 19688.22 | F27: =E27/D27 -> 0.3937644
B28: Plati efectuate in anii precedenti si recuperate in anul curent | C28: 67.02.85 | D28: 0 | E28: 0 | F28: =E28/D28 -> #DIV/0!
A29: 7 | B29: ASIGURARI SI ASISTENTA SOCIALA | C29: 68.02 | D29: =D30+D32+D31 -> 5503300 | E29: =E30+E32+E33+E31 -> 5222524.9 | F29: =E29/D29 -> 0.94898059
B30: Cheltuieli de personal | C30: 68.02.10 | D30: 2163000 | E30: 2094006 | F30: =E30/D30 -> 0.96810264
B31: Bunuri si servicii | C31: 68.02.20 | D31: 60000 | E31: 28999.9 | F31: =E31/D31 -> 0.48333167
B32: Ajutoare sociale in numerar | C32: 68.02.57 | D32: 3280300 | E32: 3099734 | F32: =E32/D32 -> 0.94495442
B33: Plati efectuate in anii precedenti si recuperate in anul curent | C33: 68.02.85 | D33: 0 | E33: -215 | F33: =E33/D33 -> #DIV/0!
A34: 8 | B34: LOCUINTE, SERVICII SI DEZVOLTARE PUBLICA | C34: 70.02 | D34: =D35 -> 767400 | E34: =E35+E36 -> 431773.58 | F34: =E34/D34 -> 0.56264475
B35: Bunuri si servicii | C35: 70.02.20 | D35: 767400 | E35: 431773.58 | F35: =E35/D35 -> 0.56264475
B36: Plati efectuate in anii precedenti si recuperate in anul curent | C36: 70.02.85 | D36: 0 | E36: 0 | F36: =E36/D36 -> #DIV/0!
A37: 9 | B37: PROTECTIA MEDIULUI | C37: 74.02 | D37: =D38+D39 -> 550000 | E37: =E38+E39 -> 132919 | F37: =E37/D37 -> 0.24167091
B38: Bunuri si servicii | C38: 74.02.20 | D38: 490000 | E38: 77599 | F38: =E38/D38 -> 0.15836531
B39: Asociatii si fundatii | C39: 74.02.59 | D39: 60000 | E39: 55320 | F39: =E39/D39 -> 0.922
A40: 10 | B40: TRANSPORTURI | C40: 84.02 | D40: =D41 -> 158000 | E40: =E41 -> 64858.4 | F40: =E40/D40 -> 0.4104962
B41: Bunuri si servicii | C41: 84.02.20 | D41: 158000 | E41: 64858.4 | F41: =E41/D41 -> 0.4104962
B42: EXCEDENT / DEFICIT | C42: - | E42: ='venituri functionare'!E6-'cheltuieli functionare'!E6 -> 3016225.1
B44: PRIMAR, | D44: CONSILIER SUPERIOR
B45: NASTASE ADRIAN | D45: COMP.BUGET CONTABILITATE,
D46: TITA ANNE MARIE

Sheet venituri dezvoltare
F1: ANEXA 5
C2: VENITURI ALE SECTIUNII DE DEZVOLTARE
A4: NR. CRT. | B4: DENUMIRE CONT | C4: COD INDICATOR | D4: Prevazut la | E4: Realizat la 31.12.2024 | F4: %
D5: 45657
A6: TOTAL | D6: =D7+D10+D13+D15+D20+D24 -> 7290300 | E6: =E9+E13+E15+E20+E7+E24 -> 6832935.8 | F6: =E6/D6 -> 0.93726401
A7: I | B7: TRANSFERURI VOLUNTARE, ALTELE DECAT SUBVENTIILE | C7: 37.02 | D7: =D8 -> 470000 | E7: =E8 -> 9520 | F7: =E7/D7 -> 0.020255319
B8: Varsaminte din sectiunea de functionare | C8: 37.02.04 | D8: 470000 | E8: 9520 | F8: =E8/D8 -> 0.020255319
A9: II | B9: VENITURI DIN CAPITAL | D9: =D10 -> 0 | E9: =E10 -> 3462 | F9: =E9/D9 -> #DIV/0!
B10: VENITURI DIN VALORIFICAREA UNOR BUNURI | C10: 39.02 | D10: =D11 -> 0 | E10: =E11+E12 -> 3462 | F10: =E10/D10 -> #DIV/0!
B11: Venituri din vanzarea locuintelor construite din fondurile statului | C11: 39.02.03.00 | D11: 0 | E11: 2342 | F11: =E11/D11 -> #DIV/0!
B12: Venituri din vanzarea unor bunuri | C12: 39.02.07.00 | D12: 0 | E12: 1120
A13: III | B13: OPERATIUNI FINANCIARE | C13: 40.02 | D13: =D14 -> 0 | E13: =E14 -> 0 | F13: =E13/D13 -> #DIV/0!
B14: Sume din excedentul bugetului local utilizate pentru finantarea cheltuielilor sectiunii de dezvoltare | C14: 40.14.00 | D14: 0 | E14: 0 | F14: =E14/D14 -> #DIV/0!
B15: SUBVENTII DE LA BUGETUL DE STAT | C15: 42.2A | D15: =D17+D16 -> 4407900 | E15: =E17+E16 -> 4407732.5 | F15: =E15/D15 -> 0.99996201
B16: Subventii de la bugetul de stat catre bugetele locale pentru Programul national de investitii "Anghel saligny" | C16: 42.2A.87 | D16: 4341900 | E16: 4341822.5 | F16: =E16/D16 -> 0.99998216
B17: Alocari de sume din PNRR aferente componentei imprumutui | C17: 42.2A.89 | D17: =D18+D19 -> 66000 | E17: =E18+E19 -> 65910 | F17: =E17/D17 -> 0.99863636
B18: Fonduri din imprumut rambursabil | C18: 42.2A.89.01 | D18: 58500 | E18: 58500 | F18: =E18/D18 -> 1
B19: Sume aferente TVA | C19: 42.2A.89.03 | D19: 7500 | E19: 7410 | F19: =E19/D19 -> 0.988
B20: SUBVENTII DE LA ALTE ADMINISTRATII | C20: 43.2A | D20: =D22+D21 -> 1427800 | E20: =E22+E21 -> 1427665.4 | F20: =E20/D20 -> 0.9999057
B21: Sume alocate din bugetul AFIR, pentru sustinerea proiectelor din PNDR 2014-2020 | C21: 43.2A.31 | D21: 838400 | E21: 838338.94 | F21: =E21/D21 -> 0.99992717
B22: Subventii acordate in baza contractelor de parteneriat sau asociere | C22: 43.2A.39 | D22: =D23 -> 589400 | E22: =E23 -> 589326.42 | F22: =E22/D22 -> 0.99987516
B23: Subventii acordate in baza contractelor de parteneriat sau asocier, pentru sectiunea de dezvoltare | C23: 43.2A.39.02 | D23: 589400 | E23: 589326.42 | F23: =E23/D23 -> 0.99987516
B24: Sume primite de la UE/alti donatori in contul platilor efectuate si prefinantari aferente cadrului financiar 2014-2020 | C24: 48.2A | D24: =D25 -> 984600 | E24: =E25 -> 984555.89 | F24: =E24/D24 -> 0.9999552
B25: Fondul European Agricol de Dezvoltare (FEADR) | C25: 48.2A.04 | D25: =D26 -> 984600 | E25: =E26 -> 984555.89 | F25: =E25/D25 -> 0.9999552
B26: Sume primite in contul platilor efectuate in anul curent (FEADR) | C26: 48.2A.04.01 | D26: 984600 | E26: 984555.89 | F26: =E26/D26 -> 0.9999552
B28: PRIMAR, | E28: CONSILIER SUPERIOR
E29: COMP.BUGET CONTABILITATE,
B30: NASTASE ADRIAN | E30: TITA ANNE MARIE
A36: ='venituri functionare'!E6+'venituri dezvoltare'!E6 -> 21480936

Sheet cheltuieli dezvoltare
F1: ANEXA 6
C2: CHELTUIELI ALE SECTIUNII DE DEZVOLTARE
A4: NR. CRT. | B4: DENUMIRE CONT | C4: COD INDICATOR | D4: Prevazut la | E4: Realizat la | F4: %
D5: 45657 | E5: 45657
A6: TOTAL | D6: =D7+D13+D21+D26+D31+D40 -> 10677300 | E6: =E7+E13+E21+E26+E31+E40+E25+E39 -> 6602580.8 | F6: =E6/D6 -> 0.61837551
A7: 1 | B7: AUTORITATI PUBLICE SI ACTIUNI EXTERNE | C7: 51.02 | D7: =D8 -> 250000 | E7: =E8 -> 102975 | F7: =E7/D7 -> 0.4119
B8: ACTIVE FIXE | C8: 51.02.71.01 | D8: =D9+D12+D10+D11 -> 250000 | E8: =E9+E12 -> 102975 | F8: =E8/D8 -> 0.4119
B9: Constructii | C9: 51.02.71.01.01 | D9: 200000 | E9: 100000 | F9: =E9/D9 -> 0.5
B10: Masini, echipamente si mijloace de transport | C10: 51.02.71.01.02 | D10: 0 | E10: 0 | F10: =E10/D10 -> #DIV/0!
B11: Mobilier, aparatura birotica si alte active corporale | C11: 51.02.71.01.03 | D11: 0 | E11: 0 | F11: =E11/D11 -> #DIV/0!
B12: Alte active fixe | C12: 51.02.71.01.30 | D12: 50000 | E12: 2975 | F12: =E12/D12 -> 0.0595
A13: 2 | B13: INVATAMANT | C13: 65.02 | D13: =D14+D17 -> 387000 | E13: =E14+E17 -> 168406.36 | F13: =E13/D13 -> 0.43515855
B14: PROIECTE CU FINANTARE DIN SUMELE AFERENTE COMPONENTEI DE IMPRUMUT PNRR | C14: 65.02.61 | D14: =D15+D16 -> 66000 | E14: =E15+E16 -> 65910 | F14: =E14/D14 -> 0.99863636
B15: Fonduri din imprumut rambursabil | C15: 65.02.61.01.00 | D15: 58500 | E15: 58500 | F15: =E15/D15 -> 1
B16: Sume aferente TVA | C16: 65.02.61.03.00 | D16: 7500 | E16: 7410 | F16: =E16/D16 -> 0.988
B17: ACTIVE FIXE | C17: 65.02.71 | D17: =D18+D20+D19 -> 321000 | E17: =E18+E20 -> 102496.36 | F17: =E17/D17 -> 0.3193033
B18: Constructii | C18: 65.02.71.01.01 | D18: 231000 | E18: 50000 | F18: =E18/D18 -> 0.21645022
B19: Mobilier, aparatura birotica si alte active corporale | C19: 65.02.71.01.03 | D19: 0 | E19: 0 | F19: =E19/D19 -> #DIV/0!
B20: Alte active fixe | C20: 65.02.71.01.30 | D20: 90000 | E20: 52496.36 | F20: =E20/D20 -> 0.58329289
A21: 3 | B21: CULTURA, RECREERE, RELIGIE | C21: 67.02 | D21: =D22 -> 700000 | E21: =E22 -> 294420.34 | F21: =E21/D21 -> 0.42060049
B22: ACTIVE FIXE | C22: 67.02.71 | D22: =D24+D23 -> 700000 | E22: =E23+E24 -> 294420.34 | F22: =E22/D22 -> 0.42060049
B23: Constructii | C23: 67.02.71.01.01 | D23: 660000 | E23: 271298.53 | F23: =E23/D23 -> 0.41105838
B24: Alte active fixe | C24: 67.02.71.01.30 | D24: 40000 | E24: 23121.81 | F24: =E24/D24 -> 0.57804525
B25: Plati efectuate in anul precedent si recuperate in anul curent | C25: 67.02.85.01.02 | D25: 0 | E25: -2380 | F25: =E25/D25 -> #DIV/0!
A26: 4 | B26: LOCUINTE, SERVICII SI DEZVOLTARE | C26: 70.02 | D26: =D27 -> 630000 | E26: =E27 -> 202105.58 | F26: =E26/D26 -> 0.32080251
B27: ACTIVE FIXE | C27: 70.02.71 | D27: =D30+D28+D29 -> 630000 | E27: =E30+E28+E29 -> 202105.58 | F27: =E27/D27 -> 0.32080251
B28: Constructii | C28: 70.02 71.01.01 | D28: 518000 | E28: 119386.1 | F28: =E28/D28 -> 0.2304751
B29: Masini, echipamente si mijloace de transport | C29: 70.02 71.01.02 | D29: 0 | E29: 0 | F29: =E29/D29 -> #DIV/0!
B30: Alte active fixe | C30: 70.02.71.01.30 | D30: 112000 | E30: 82719.48 | F30: =E30/D30 -> 0.73856679
A31: 5 | B31: PROTECTIA MEDIULUI | C31: 74.02 | D31: =D32+D35 -> 3703100 | E31: =E32+E35 -> 1434561.7 | F31: =E31/D31 -> 0.38739479
B32: PROIECTE CU FINANTARE DIN FONDURI EXTERNE NERAMBURSABILE CADRULUI FINANCIAR 2014-2020 | C32: 74.02.58 | D32: =D33 -> 0 | E32: =E33 -> 0 | F32: =E32/D32 -> #DIV/0!
B33: Programe din Fondul European Agricol de Dezvoltare Rurala (FEADR) | C33: 74.02.58.04 | D33: =D34 -> 0 | E33: =E34 -> 0 | F33: =E33/D33 -> #DIV/0!
B34: Finantarea externa nerambursabila | C34: 74.05.58.04.02 | D34: 0 | E34: 0 | F34: =E34/D34 -> #DIV/0!
B35: ACTIVE FIXE | C35: 74.02.71.01 | D35: =D36+D38+D37+D39 -> 3703100 | E35: =E36+E38+E37 -> 1434561.7 | F35: =E35/D35 -> 0.38739479
B36: Constructii | C36: 74.02.71.01.01 | D36: 3374900 | E36: 1273233.6 | F36: =E36/D36 -> 0.37726557
B37: Mobilier, aparatura birotica si alte active corporale | C37: 74.02.71.01.03 | D37: 0 | E37: 0
B38: Alte active fixe | C38: 74.02.71.01.30 | D38: 328200 | E38: 161328.07 | F38: =E38/D38 -> 0.49155414
B39: Plati efectuate in anul precedent si recuperate in anul curent | C39: 74.02.85.01.02 | D39: 0 | E39: -4796.88 | F39: =E39/D39 -> #DIV/0!
A40: 6 | B40: TRANSPORTURI | C40: 84.02 | D40: =D41 -> 5007200 | E40: =E41 -> 4407288.8 | F40: =E40/D40 -> 0.88019028
B41: ACTIVE FIXE | C41: 84.02.71.01 | D41: =D42+D43 -> 5007200 | E41: =E42+E43 -> 4407288.8 | F41: =E41/D41 -> 0.88019028
B42: Constructii | C42: 84.02.71.01.01 | D42: 4558700 | E42: 4199683.4 | F42: =E42/D42 -> 0.92124584
B43: Alte active fixe | C43: 84.02.71.01.30 | D43: 448500 | E43: 207605.37 | F43: =E43/D43 -> 0.46288823
B44: EXCEDENT / DEFICIT | E44: ='venituri dezvoltare'!E6-'cheltuieli dezvoltare'!E6 -> 230354.95
B47: PRIMAR, | D47: CONSILIER SUPERIOR
D48: COMP.BUGET CONTABILITATE,
B49: NASTASE ADRIAN | D49: TITA ANNE MARIE
A50: =E6+'cheltuieli functionare'!E6 -> 18234356 | B50: total plati
A51: =E44+'cheltuieli functionare'!E42 -> 3246580.1 | B51: excedent/deficit

Sheet VENITURI TOTALE
F1: ANEXA 1
C2: VENITURI TOTALE LA 31.12.2024
A4: NR. CRT. | B4: CLASIFICATIE BUGETARA | C4: DENUMIRE | D4: PREVEDERE BUGETARA | E4: EXECUTIE | F4: %
A5: 1 | B5: 031800 | C5: Impozitul pe veniturile din transferul proprietatilor imobiliare din patrimoniul personal | D5: ='venituri functionare'!D12 -> 26000 | E5: ='venituri functionare'!E12 -> 31057 | F5: =E5/D5 -> 1.1945
A6: 2 | B6: 040100 | C6: Cote defalcate din impozitul pe venit(se scad) | D6: ='venituri functionare'!D14 -> 6197400 | E6: ='venituri functionare'!E14 -> 6197343.4 | F6: =E6/D6 -> 0.99999087
A7: 3 | B7: 040400 | C7: Sume alocate din cotele defalcate din impozitul pe venit pentru echilibrarea bugetelor locale | D7: ='venituri functionare'!D15 -> 0 | E7: ='venituri functionare'!E15 -> 0 | F7: =E7/D7 -> #DIV/0!
A8: 4 | B8: 04 05 00 | C8: Sume repartizate din Fondul la dispozitia Consiliului Judetean | D8: ='venituri functionare'!D16 -> 476000 | E8: ='venituri functionare'!E16 -> 476000 | F8: =E8/D8 -> 1
A9: 5 | B9: 070101 | C9: Impozit pe cladiri de la persoane fizice | D9: ='venituri functionare'!D19 -> 149000 | E9: ='venituri functionare'!E19 -> 185853.73 | F9: =E9/D9 -> 1.2473405
A10: 6 | B10: 070102 | C10: Impozit si taxa pe cladiri de la persoane juridice | D10: ='venituri functionare'!D20 -> 217000 | E10: ='venituri functionare'!E20 -> 175601 | F10: =E10/D10 -> 0.8092212
A11: 7 | B11: 070201 | C11: Impozit pe terenuri de la persoane fizice | D11: ='venituri functionare'!D22 -> 124000 | E11: ='venituri functionare'!E22 -> 143747.45 | F11: =E11/D11 -> 1.1592536
A12: 8 | B12: 070202 | C12: Impozit si taxa pe teren de la persoane juridice | D12: ='venituri functionare'!D23 -> 65000 | E12: ='venituri functionare'!E23 -> 73240 | F12: =E12/D12 -> 1.1267692
A13: 9 | B13: 070203 | C13: Impozit pe terenul din extravilan | D13: ='venituri functionare'!D24 -> 90000 | E13: ='venituri functionare'!E24 -> 106251 | F13: =E13/D13 -> 1.1805667
A14: 10 | B14: 070300 | C14: Taxe judiciare de timbru si alte taxe de timbru | D14: ='venituri functionare'!D25 -> 60000 | E14: ='venituri functionare'!E25 -> 13250.84 | F14: =E14/D14 -> 0.22084733
A15: 11 | B15: 075000 | C15: Alte impozite si taxe pe proprietate | D15: ='venituri functionare'!D26 -> 24000 | E15: ='venituri functionare'!E26 -> 84124.2 | F15: =E15/D15 -> 3.505175
A16: 12 | B16: 110200 | C16: Sume defalcate din taxa pe valoarea adaugata pentru finantarea cheltuielilor descentralizate la nivelul comunelor, oraselor, municipiilor, sectoarelor si Municipiului Bucuresti | D16: ='venituri functionare'!D29 -> 4757000 | E16: ='venituri functionare'!E29 -> 4756652 | F16: =E16/D16 -> 0.99992684
A17: 13 | B17: 110600 | C17: Sume defalcate din taxa pe valoarea adaugata pentru echilibrarea bugetelor locale | D17: ='venituri functionare'!D30 -> 750000 | E17: ='venituri functionare'!E30 -> 750000 | F17: =E17/D17 -> 1
A18: 14 | B18: 160201 | C18: Impozit pe mijloacele de transport detinute de persoane fizice | D18: ='venituri functionare'!D33 -> 342000 | E18: ='venituri functionare'!E33 -> 428459.41 | F18: =E18/D18 -> 1.2528053
A19: 15 | B19: 160202 | C19: Impozit pe mijloacele de transport detinute de persoane juridice | D19: ='venituri functionare'!D34 -> 61000 | E19: ='venituri functionare'!E34 -> 83598 | F19: =E19/D19 -> 1.370459
A20: 16 | B20: 160300 | C20: Taxe si tarife pentru eliberarea de licente si autorizatii de functionare | D20: ='venituri functionare'!D35 -> 1000 | E20: ='venituri functionare'!E35 -> 160 | F20: =E20/D20 -> 0.16
A21: 17 | B21: 165000 | C21: Alte taxe pe utilizarea bunurilor, autorizarea utilizarii bunurilor sau pe desfasurare de activitati | D21: ='venituri functionare'!D36 -> 4000 | E21: ='venituri functionare'!E36 -> 1675 | F21: =E21/D21 -> 0.41875
A22: 18 | B22: 185000 | C22: Alte impozite si taxe | D22: ='venituri functionare'!D38 -> 3000 | E22: ='venituri functionare'!E38 -> 4568 | F22: =E22/D22 -> 1.5226667
A23: 19 | B23: 300530 | C23: Alte venituri din concesiuni si inchirieri de catre institutiile publice | D23: ='venituri functionare'!D42 -> 51000 | E23: ='venituri functionare'!E42 -> 78962.93 | F23: =E23/D23 -> 1.5482927
A24: 20 | B24: 330800 | C24: Venituri din prestari de servicii | D24: ='venituri functionare'!D45 -> 5000 | E24: ='venituri functionare'!E45 -> 76924.77 | F24: =E24/D24 -> 15.384954
A25: 21 | B25: 332800 | C25: Venituri din recuperarea cheltuielilor de judecata, imputatii si despagubiri | D25: ='venituri functionare'!D46 -> 2000 | E25: ='venituri functionare'!E46 -> 813.9 | F25: =E25/D25 -> 0.40695
A26: 22 | B26: 340200 | C26: Taxe extrajudiciare de timbru | D26: ='venituri functionare'!D48 -> 0 | E26: ='venituri functionare'!E48 -> 0 | F26: =E26/D26 -> #DIV/0!
A27: 23 | B27: 345000 | C27: Alte venituri din taxe administrative, eliberare de permise | D27: ='venituri functionare'!D49 -> 12000 | E27: ='venituri functionare'!E49 -> 15140.56 | F27: =E27/D27 -> 1.2617133
A28: 24 | B28: 350102 | C28: Venituri din amenzi si alte sanctiuni aplicate de catre alte institutii de specialitate | D28: ='venituri functionare'!D52 -> 163000 | E28: ='venituri functionare'!E52 -> 207547.26 | F28: =E28/D28 -> 1.2732961
A29: 25 | B29: 355000 | C29: Alte amenzi, penalitati si confiscari | D29: ='venituri functionare'!D53 -> 31000 | E29: ='venituri functionare'!E53 -> 51035.12 | F29: =E29/D29 -> 1.6462942
A30: 26 | B30: 360600 | C30: Taxe speciale | D30: ='venituri functionare'!D55 -> 80000 | E30: ='venituri functionare'!E55 -> 113887.99 | F30: =E30/D30 -> 1.4235999
A31: 27 | B31: 365000 | C31: Alte venituri | D31: ='venituri functionare'!D56 -> 30000 | E31: ='venituri functionare'!E56 -> 24395 | F31: =E31/D31 -> 0.81316667
A32: 28 | B32: 370100 | C32: Donatii si sponsorizari | D32: ='venituri functionare'!D58 -> 7400 | E32: ='venituri functionare'!E58 -> 7395
A33: 29 | B33: 370203 | C33: Varsaminte din sectiunea de functionare pentru finantarea sectiunii de dezvoltare a bugetului local | D33: ='venituri functionare'!D59 -> -470000 | E33: ='venituri functionare'!E59 -> -9520 | F33: =E33/D33 -> 0.020255319
A34: 30 | B34: 370204 | C34: Varsaminte din sectiunea de functionare | D34: ='venituri dezvoltare'!D8 -> 470000 | E34: ='venituri dezvoltare'!E8 -> 9520 | F34: =E34/D34 -> 0.020255319
A35: 31 | B35: 390300 | C35: Venituri din vanzarea locuintelor construite din fondurile statului | D35: ='venituri dezvoltare'!D11 -> 0 | E35: ='venituri dezvoltare'!E11 -> 2342 | F35: =E35/D35 -> #DIV/0!
B36: 390700 | C36: Venituri din vanzarea unor bunuri | D36: 0 | E36: ='venituri dezvoltare'!E12 -> 1120
A37: 32 | B37: 401100 | C37: Sume din excedentul anului precedent pentru acoperirea golurilor temporare de casa ale sectiunii de functionare | D37: ='venituri functionare'!D60 -> 0 | E37: ='venituri functionare'!E60 -> 0 | F37: =E37/D37 -> #DIV/0!
A38: 33 | B38: 401400 | C38: Sume din excedentul bugetului local utilizate pentru finantarea cheltuielilor sectiunii de dezvoltare | D38: ='venituri dezvoltare'!D14 -> 0 | E38: ='venituri dezvoltare'!E14 -> 0 | F38: =E38/D38 -> #DIV/0!
A39: 34 | B39: 423400 | C39: Subventii pentru acordarea ajutorului pentru incalzirea locuintei cu lemne, carbuni, combustibili petrolieri | D39: ='venituri functionare'!D62 -> 491300 | E39: ='venituri functionare'!E62 -> 489516 | F39: =E39/D39 -> 0.99636882
A40: 35 | B40: 424100 | C40: Subventii din bugetul de stat pentru finantarea sanatatii | D40: ='venituri functionare'!D63 -> 80400 | E40: ='venituri functionare'!E63 -> 80321 | F40: =E40/D40 -> 0.99901741
A41: 36 | B41: 428700 | C41: Subventii de la bugetul de stat catre bugetele locale pentru Programul national de investitii "Anghel saligny" | D41: ='venituri dezvoltare'!D16 -> 4341900 | E41: ='venituri dezvoltare'!E16 -> 4341822.5 | F41: =E41/D41 -> 0.99998216
A42: 37 | B42: 428901 | C42: Fonduri din imprumut rambursabil | D42: ='venituri dezvoltare'!D18 -> 58500 | E42: ='venituri dezvoltare'!E18 -> 58500 | F42: =E42/D42 -> 1
A43: 38 | B43: 428903 | C43: Sume aferente TVA | D43: ='venituri dezvoltare'!D19 -> 7500 | E43: ='venituri dezvoltare'!E19 -> 7410 | F43: =E43/D43 -> 0.988
A44: 39 | B44: 433100 | C44: Sume alocate din bugetul AFIR, pentru sustinerea proiectelor din PNDR 2014-2020 | D44: ='venituri dezvoltare'!D21 -> 838400 | E44: ='venituri dezvoltare'!E21 -> 838338.94 | F44: =E44/D44 -> 0.99992717
A45: 40 | B45: 433902 | C45: Subventii acordate in baza contractelor de parteneriat sau asocier, pentru sectiunea de dezvoltare | D45: ='venituri dezvoltare'!D23 -> 589400 | E45: ='venituri dezvoltare'!E23 -> 589326.42 | F45: =E45/D45 -> 0.99987516
A46: 41 | B46: 480401 | C46: Sume primite in contul platilor efectuate in anul curent (FEADR) | D46: ='venituri dezvoltare'!D26 -> 984600 | E46: ='venituri dezvoltare'!E26 -> 984555.89 | F46: =E46/D46 -> 0.9999552
B47: TOTAL | D47: =SUM(D5:D46) -> 21119800 | E47: =SUM(E5:E46) -> 21480936 | F47: =E47/D47 -> 1.0170994
B50: PRIMAR, | E50: CONSILIER SUPERIOR
E51: COMP.BUGET CONTABILITATE,
B52: NASTASE ADRIAN | E52: TITA ANNE MARIE

Sheet CHELTUIELI TOTALE
G1: ANEXA 2
D2: CHELTUIELI TOTALE LA 31.12.2024
A4: NR. CRT. | B4: CLASIFICATIE BUGETARA | D4: DENUMIRE | E4: PREVEDERE BUGETARA | F4: EXECUTIE | G4: %
A5: 1 | B5: 510103 | C5: 100101 | D5: Salarii de baza | E5: 3510000 | F5: 3287378 | G5: =F5/E5 -> 0.93657493
A6: 2 | B6: 510103 | C6: 100112 | D6: Indemnizatii platite unor persoane din afara unitatii | E6: 226000 | F6: 202132 | G6: =F6/E6 -> 0.89438938
A7: 3 | B7: 510103 | C7: 100117 | D7: Indemnizatii de hrana | E7: 130000 | F7: 47992 | G7: =F7/E7 -> 0.36916923
A8: 4 | B8: 510103 | C8: 100130 | D8: Alte drepturi salariale in bani | E8: 50000 | F8: 0 | G8: =F8/E8 -> 0
A9: 5 | B9: 510103 | C9: 100206 | D9: Vouchere de vacanta | E9: 55000 | F9: 43050 | G9: =F9/E9 -> 0.78272727
A10: 6 | B10: 510103 | C10: 100307 | D10: Contributia asiguratorie pentru munca | E10: 105000 | F10: 79597 | G10: =F10/E10 -> 0.75806667
A11: 7 | B11: 510103 | C11: 200101 | D11: Furnituri de birou | E11: 50000 | F11: 22940.41 | G11: =F11/E11 -> 0.4588082
A12: 8 | B12: 510103 | C12: 200102 | D12: Materiale pentru curatenie | E12: 23000 | F12: 9223.8 | G12: =F12/E12 -> 0.40103478
A13: 9 | B13: 510103 | C13: 200103 | D13: Incalzit, Iluminat si forta motrica | E13: 119000 | F13: 87443.15 | G13: =F13/E13 -> 0.73481639
A14: 10 | B14: 510103 | C14: 200104 | D14: Apa, canal si salubritate | E14: 8000 | F14: 3687.1 | G14: =F14/E14 -> 0.4608875
A15: 11 | B15: 510103 | C15: 200105 | D15: Carburanti si lubrifianti | E15: 40000 | F15: 35852.44 | G15: =F15/E15 -> 0.896311
A16: 12 | B16: 510103 | C16: 200106 | D16: Piese de schimb | E16: 10000 | F16: 6147.36 | G16: =F16/E16 -> 0.614736
A17: 13 | B17: 510103 | C17: 200107 | D17: Transport | E17: 32000 | F17: 10985 | G17: =F17/E17 -> 0.34328125
A18: 14 | B18: 510103 | C18: 200108 | D18: Posta, telecomunicatii, radio, tv, internet | E18: 55000 | F18: 52668.65 | G18: =F18/E18 -> 0.95761182
A19: 15 | B19: 510103 | C19: 200109 | D19: Materiale si prestari de servicii cu caracter functional | E19: 287400 | F19: 284211.08 | G19: =F19/E19 -> 0.98890424
A20: 16 | B20: 510103 | C20: 200130 | D20: Alte bunuri si servicii pentru intretinere si functionare | E20: 223900 | F20: 135458.42 | G20: =F20/E20 -> 0.60499518
A21: 17 | B21: 510103 | C21: 200200 | D21: Reparatii curente | E21: 60000 | F21: 49330.48 | G21: =F21/E21 -> 0.82217467
A22: 18 | B22: 510103 | C22: 200530 | D22: Alte obiecte de inventar | E22: 12000 | F22: 11845.5 | G22: =F22/E22 -> 0.987125
A23: 19 | B23: 510103 | C23: 200601 | D23: Deplasari interne,detasari,transferari | E23: 8000 | F23: 118 | G23: =F23/E23 -> 0.01475
A24: 20 | B24: 510103 | C24: 2013 | D24: Prgatire profesionala | E24: 1100 | F24: 1082 | G24: =F24/E24 -> 0.98363636
A25: 21 | B25: 510103 | C25: 203001 | D25: Reclama si publicitate | E25: 12000 | F25: 11925 | G25: =F25/E25 -> 0.99375
A26: 22 | B26: 510103 | C26: 203002 | D26: Protocol si reprezentare | E26: 5500 | F26: 5466.5 | G26: =F26/E26 -> 0.99390909
A27: 23 | B27: 510103 | C27: 203030 | D27: Alte cheltuieli cu bunuri si servicii | E27: 105100 | F27: 105099.87 | G27: =F27/E27 -> 0.99999876
A28: 24 | B28: 510103 | C28: 591100 | D28: Asociatii si fundatii | E28: 50000 | F28: 0 | G28: =F28/E28 -> 0
A29: 25 | B29: 510103 | C29: 710101 | D29: Constructii | E29: 200000 | F29: 100000 | G29: =F29/E29 -> 0.5
A30: 26 | B30: 510103 | C30: 710102 | D30: Masini, echipamente si mijloace de transport | E30: 0 | F30: 0 | G30: =F30/E30 -> #DIV/0!
A31: 27 | B31: 510103 | C31: 710103 | D31: Mobilier aparatura birotica si alte active corporale | E31: 0 | F31: 0 | G31: =F31/E31 -> #DIV/0!
A32: 28 | B32: 510103 | C32: 710130 | D32: Alte active fixe | E32: 50000 | F32: 2975 | G32: =F32/E32 -> 0.0595
A33: 29 | B33: 510103 | C33: 850101 | D33: Plati efectuate in anii precedenti si recuperate in anul curent | E33: 0 | F33: -20719 | G33: =F33/E33 -> #DIV/0!
A34: 30 | B34: 545000 | C34: 200130 | D34: Alte bunuri si servicii pentru intretinere si functionare | E34: 31000 | F34: 2292.2 | G34: =F34/E34 -> 0.073941935
A35: 31 | B35: 545000 | C35: 203030 | D35: Alte cheltuieli cu bunuri si servicii | E35: 39000 | F35: 38957.86 | G35: =F35/E35 -> 0.99891949
A36: 32 | B36: 615000 | C36: 200105 | D36: Carburanti si lubrifianti | E36: 6000 | F36: 3512.72 | G36: =F36/E36 -> 0.58545333
A37: 33 | B37: 615000 | C37: 200106 | D37: Piese de schimb | E37: 8000 | F37: 0 | G37: =F37/E37 -> 0
A38: 34 | B38: 615000 | C38: 200109 | D38: Materiale si prestari de servicii cu caracter functional | E38: 19000 | F38: 4500 | G38: =F38/E38 -> 0.23684211
A39: 35 | B39: 615000 | C39: 203030 | D39: Alte cheltuieli cu bunuri si servicii | E39: 0 | F39: 0 | G39: =F39/E39 -> #DIV/0!
A40: 36 | B40: 615000 | C40: 850101 | D40: Plati efectuate in anii precedenti si recuperate in anul curent | E40: 0 | F40: 0 | G40: =F40/E40 -> #DIV/0!
A41: 37 | B41: 650301 | C41: 710101 | D41: Constructii | E41: 50000 | F41: 50000 | G41: =F41/E41 -> 1
A42: 38 | B42: 650301 | C42: 710130 | D42: Alte active fixe | E42: 70000 | F42: 49999.12 | G42: =F42/E42 -> 0.71427314
A43: 39 | B43: 650302 | C43: 610100 | D43: Fonduri din imprumut rambursabil | E43: 58500 | F43: 58500 | G43: =F43/E43 -> 1
A44: 40 | B44: 650302 | C44: 610300 | D44: Sume aferente TVA | E44: 7500 | F44: 7410 | G44: =F44/E44 -> 0.988
A45: 41 | B45: 650302 | C45: 710101 | D45: Constructii | E45: 181000 | F45: 0 | G45: =F45/E45 -> 0
A46: 42 | B46: 650302 | C46: 710103 | D46: Mobilier aparatura birotica si alte active corporale | E46: 0 | F46: 0 | G46: =F46/E46 -> #DIV/0!
A47: 43 | B47: 650302 | C47: 710130 | D47: Alte active fixe | E47: 10000 | F47: 2497.24 | G47: =F47/E47 -> 0.249724
A48: 44 | B48: 650401 | C48: 200101 | D48: Furnituri de birou | E48: 37000 | F48: 36440.33 | G48: =F48/E48 -> 0.98487378
A49: 45 | B49: 650401 | C49: 200102 | D49: Materiale pentru curatenie | E49: 38000 | F49: 34857.27 | G49: =F49/E49 -> 0.91729658
A50: 46 | B50: 650401 | C50: 200103 | D50: Incalzit, Iluminat si forta motrica | E50: 170000 | F50: 162452.97 | G50: =F50/E50 -> 0.95560571
A51: 47 | B51: 650401 | C51: 200104 | D51: Apa, canal si salubritate | E51: 5000 | F51: 4977.58 | G51: =F51/E51 -> 0.995516
A52: 48 | B52: 650402 | C52: 200106 | D52: Piese de schimb | E52: 20000 | F52: 18807.5 | G52: =F52/E52 -> 0.940375
A53: 49 | B53: 650401 | C53: 200107 | D53: Transport | E53: 105000 | F53: 80821 | G53: =F53/E53 -> 0.76972381
A54: 50 | B54: 650401 | C54: 200108 | D54: Posta, telecomunicatii, radio, tv, internet | E54: 16000 | F54: 15591.89 | G54: =F54/E54 -> 0.97449312
A55: 51 | B55: 650401 | C55: 200109 | D55: Materiale si prestari de servicii cu caracter functional | E55: 81400 | F55: 73025.91 | G55: =F55/E55 -> 0.8971242
A56: 52 | B56: 650401 | C56: 200130 | D56: Alte bunuri si servicii pentru intretinere si functionare | E56: 120000 | F56: 101899.09 | G56: =F56/E56 -> 0.84915908
A57: 53 | B57: 650401 | C57: 200200 | D57: Reparatii curente | E57: 255000 | F57: 231676.55 | G57: =F57/E57 -> 0.90853549
A58: 54 | B58: 650401 | C58: 200530 | D58: Alte obiecte de inventar | E58: 57000 | F58: 52583.38 | G58: =F58/E58 -> 0.92251544
A59: 55 | B59: 650401 | C59: 200601 | D59: Deplasari, detasari, transferari | E59: 3000 | F59: 3000 | G59: =F59/E59 -> 1
A60: 56 | B60: 650401 | C60: 201300 | D60: Pregatire profesionala | E60: 8000 | F60: 7329 | G60: =F60/E60 -> 0.916125
A61: 57 | B61: 650401 | C61: 570201 | D61: Ajutoare sociale in numerar | E61: 142000 | F61: 141652 | G61: =F61/E61 -> 0.9975493
A62: 58 | B62: 650401 | C62: 5901 | D62: Burse | E62: 0 | F62: 0 | G62: =F62/E62 -> #DIV/0!
A63: 59 | B63: 651300 | C63: 710130 | D63: Alte active fixe | E63: 10000 | F63: 0 | G63: =F63/E63 -> 0
A64: 60 | B64: 655000 | C64: 570203 | D64: Tichete de cresa si tichete sociale pentru gradinita | E64: 54000 | F64: 43200 | G64: =F64/E64 -> 0.8
A65: 61 | B65: 660800 | C65: 100101 | D65: Salarii de baza | E65: 101400 | F65: 65760 | G65: =F65/E65 -> 0.64852071
A66: 62 | B66: 660800 | C66: 100105 | D66: Sporuri pentru conditiide munca | E66: 7300 | F66: 3604 | G66: =F66/E66 -> 0.49369863
A67: 63 | B67: 660800 | C67: 100106 | D67: Alte sporuri | E67: 10800 | F67: 5426 | G67: =F67/E67 -> 0.50240741
A68: 64 | B68: 660800 | C68: 100117 | D68: Indemnizatii de hrana | E68: 8800 | F68: 3764 | G68: =F68/E68 -> 0.42772727
A69: 65 | B69: 660800 | C69: 100206 | D69: Vouchere de vacanta | E69: 2000 | F69: 1600 | G69: =F69/E69 -> 0.8
A70: 66 | B70: 660800 | C70: 100307 | D70: Contributia asiguratorie pentru munca | E70: 4100 | F70: 1767 | G70: =F70/E70 -> 0.43097561
A71: 67 | B71: 660800 | C71: 200402 | D71: Materiale sanitare | E71: 1000 | F71: 0 | G71: =F71/E71 -> 0
A72: 67 | B72: 670302 | C72: 100101 | D72: Salarii de baza | E72: 17000 | F72: 0 | G72: =F72/E72 -> 0
A73: 68 | B73: 670302 | C73: 100117 | D73: Indemnizatii de hrana | E73: 2000 | F73: 0 | G73: =F73/E73 -> 0
A74: 69 | B74: 670302 | C74: 100206 | D74: Vouchere de vacanta | E74: 2000 | F74: 0 | G74: =F74/E74 -> 0
A75: 70 | B75: 670302 | C75: 100307 | D75: Contributia asiguratorie pentru munca | E75: 2000 | F75: 0 | G75: =F75/E75 -> 0
A76: 71 | B76: 670302 | C76: 200101 | D76: Furnituri de birou | E76: 1000 | F76: 0 | G76: =F76/E76 -> 0
A77: 72 | B77: 670302 | C77: 200102 | D77: Materiale pentru curatenie | E77: 1000 | F77: 0 | G77: =F77/E77 -> 0
A78: 73 | B78: 670302 | C78: 200601 | D78: Deplasari interne,detasari,transferari | E78: 1000 | F78: 0 | G78: =F78/E78 -> 0
A79: 74 | B79: 670302 | C79: 201100 | D79: Carti, publicatii si materiale documntare | E79: 0 | F79: 0 | G79: =F79/E79 -> #DIV/0!
A80: 75 | B80: 670302 | C80: 201300 | D80: Pregatire profesionala | E80: 0 | F80: 0 | G80: =F80/E80 -> #DIV/0!
A81: 76 | B81: 670303 | C81: 200103 | D81: Incalzit, Iluminat si forta motrica | E81: 16000 | F81: 9519.63 | G81: =F81/E81 -> 0.59497687
A82: 77 | B82: 670303 | C82: 200109 | D82: Materiale si prestari de servicii cu caracter functional | E82: 20000 | F82: 5784 | G82: =F82/E82 -> 0.2892
A83: 78 | B83: 670303 | C83: 2002 | D83: Reparatii curente | E83: 5000 | F83: 0 | G83: =F83/E83 -> 0
A84: 79 | B84: 670307 | C84: 200103 | D84: Incalzit, Iluminat si forta motrica | E84: 80000 | F84: 42889.64 | G84: =F84/E84 -> 0.5361205
A85: 80 | B85: 670307 | C85: 200109 | D85: Materiale si prestari de servicii cu caracter functional | E85: 0 | F85: 0 | G85: =F85/E85 -> #DIV/0!
A86: 81 | B86: 670307 | C86: 200200 | D86: Reparatii curente | E86: 10000 | F86: 3694.4 | G86: =F86/E86 -> 0.36944
A87: 82 | B87: 670307 | C87: 200530 | D87: Alte obiecte de inventar | E87: 0 | F87: 0 | G87: =F87/E87 -> #DIV/0!
A88: 83 | B88: 670307 | C88: 203030 | D88: Alte cheltuieli cu bunuri si servicii | E88: 1000 | F88: 1000 | G88: =F88/E88 -> 1
A89: 84 | B89: 670307 | C89: 710101 | D89: Constructii | E89: 20000 | F89: 0 | G89: =F89/E89 -> 0
A90: 85 | B90: 670307 | C90: 710130 | D90: Alte active fixe | E90: 0 | F90: 0 | G90: =F90/E90 -> #DIV/0!
A91: 86 | B91: 670501 | C91: 200109 | D91: Materiale si prestari de servicii cu caracter functional | E91: 35400 | F91: 20420 | G91: =F91/E91 -> 0.57683616
A92: 87 | B92: 670501 | C92: 200130 | D92: Alte bunuri si servicii pentru intretinere si functionare | E92: 35000 | F92: 21415.44 | G92: =F92/E92 -> 0.61186971
A93: 88 | B93: 670501 | C93: 200200 | D93: Reparatii curente | E93: 15000 | F93: 13793.22 | G93: =F93/E93 -> 0.919548
A94: 89 | B94: 670501 | C94: 200530 | D94: Alte obiecte de inventar | E94: 20000 | F94: 19567 | G94: =F94/E94 -> 0.97835
A95: 90 | B95: 670501 | C95: 203030 | D95: Alte cheltuieli cu bunuri si servicii | E95: 9600 | F95: 9515 | G95: =F95/E95 -> 0.99114583
A96: 91 | B96: 670501 | C96: 710101 | D96: Constructii | E96: 230000 | F96: 216800.61 | G96: =F96/E96 -> 0.94261135
A97: 92 | B97: 670501 | C97: 710130 | D97: Alte active fixe | E97: 30000 | F97: 15981.81 | G97: =F97/E97 -> 0.532727
B98: 670501 | C98: 850102 | D98: Sport-Plati efectuate in anii precedenti si recuperate in anul curent in SD | E98: 0 | F98: -2380 | G98: =F98/E98 -> #DIV/0!
A99: 93 | B99: 670600 | C99: 591200 | D99: Sustinerea cultelor | E99: 50000 | F99: 19688.22 | G99: =F99/E99 -> 0.3937644
A100: 94 | B100: 670600 | C100: 710101 | D100: Constructii | E100: 410000 | F100: 54497.92 | G100: =F100/E100 -> 0.13292176
A101: 95 | B101: 670600 | C101: 710130 | D101: Alte active fixe | E101: 10000 | F101: 7140 | G101: =F101/E101 -> 0.714
...

Sheet indicatori
B1: PRIMARIA COMUNEI I.L.CARAGIALE | F1: ANEXA 7
C3: Indicatorii executiei bugetului local pe trim.IV 2024
A4: VENITURI
A5: Nr. | B5: Indicatori sinteza | C5: Formula de calcul | D5: Sume | E5: Procent | F5: Perioada
A6: crt.
A7: 1 | B7: Gradul de realizare a veniturilor | C7: Venituri total incasate (t21)(venituri totale -40.11-40.14) | D7: ='VENITURI TOTALE'!E47-'VENITURI TOTALE'!E37-'VENITURI TOTALE'!E38 -> 21480936 | E7: =D7/D8*100 -> 101.70994 | F7: Trimestrial
C8: Venituri totale programate(venituri totale buget/prevedere) | D8: ='VENITURI TOTALE'!D47 -> 21119800
A9: 2 | B9: Gradul de realizare a veniturilor proprii | C9: Venituri proprii incasate (Vp= t21-alte venituri (TVA, subventii) | D9: ='venituri functionare'!E11+'venituri functionare'!E13+'venituri functionare'!E17+'venituri functionare'!E31+'venituri functionare'!E37+'venituri functionare'!E40+'venituri functionare'!E44+'venituri functionare'!E47+'venituri functionare'!E50+'venituri functionare'!E54+'venituri dezvoltare'!E10+'venituri dezvoltare'!E24 -> 9561654.4 | E9: =D9/D10*100 -> 116.4153 | F9: Trimestrial
C10: Venituri proprii programate | D10: ='venituri functionare'!D11+'venituri functionare'!D13+'venituri functionare'!D17+'venituri functionare'!D31+'venituri functionare'!D37+'venituri functionare'!D40+'venituri functionare'!D44+'venituri functionare'!D47+'venituri functionare'!D50+'venituri functionare'!D54 -> 8213400
A11: 3 | B11: Gradul de finantare din venituri proprii | C11: Venituri proprii incasate (Vp= t21-alte venituri (TVA, subventii) | D11: ='venituri functionare'!E11+'venituri functionare'!E13+'venituri functionare'!E17+'venituri functionare'!E31+'venituri functionare'!E37+'venituri functionare'!E40+'venituri functionare'!E44+'venituri functionare'!E47+'venituri functionare'!E50+'venituri functionare'!E54+'venituri dezvoltare'!E10+'venituri dezvoltare'!E24 -> 9561654.4 | E11: =D11/D12*100 -> 44.51228 | F11: Trimestrial
C12: Venituri total incasate (t21) | D12: ='VENITURI TOTALE'!E47-'VENITURI TOTALE'!E37-'VENITURI TOTALE'!E38 -> 21480936
A13: 4 | B13: Gradul de autofinantare | C13: Venituri proprii incasate (exclusiv cote) (Vpec=Vp-cote defalcate) | D13: =D11-'venituri functionare'!E13 -> 2888311 | E13: =D13/D14*100 -> 13.445927 | F13: Trimestrial
C14: Venituri totale incasate (t21) | D14: ='VENITURI TOTALE'!E47-'VENITURI TOTALE'!E37-'VENITURI TOTALE'!E38 -> 21480936
A15: 5 | B15: Venituri proprii incasate per capita | C15: Venituri proprii incasate(Vp= t21-alte venituri (TVA, subventii) | D15: 9561654.4 | E15: =D16/D15*100 -> 0.069182588 | F15: Anual
C16: Numar de locuitori | D16: 6615
A17: 6 | B17: Gradul de realizare a impozitelor pe proprietate | C17: Venituri din impozite pe proprietate incasate | D17: 1196750.6 | E17: =D18/D17*100 -> 87.57046 | F17: Anual
C18: (Vip = 070201+070202+160202) | D18: 1048000
C19: Venituri din impozite pe proprietate programate
A20: 7 | B20: Gradul de dependenta al bugetului local fata de bugetul de stat | C20: Incasari din surse primite de la bugetul de stat | D20: ='venituri functionare'!E13+'venituri functionare'!E28+'venituri functionare'!E61+'venituri dezvoltare'!E20+'venituri dezvoltare'!E15 -> 18585230 | E20: =D20/D22*100 -> 86.519647 | F20: Anual
C21: (Sbs = 0402+1102+4202+4302)
C22: Venituri totale incasate(t21) | D22: ='VENITURI TOTALE'!E47-'VENITURI TOTALE'!E37-'VENITURI TOTALE'!E38 -> 21480936
A23: 8 | B23: Gradul de autonomie decizionala | C23: Venituri depersonalizate incasate (Vp+110206) | D23: =D9+'venituri functionare'!E30 -> 10311654 | E23: =D23/D24*100 -> 48.003747 | F23: Trimestrial
C24: Venituri totale incasate(t21)(venit totale -40.11-40.14) | D24: ='VENITURI TOTALE'!E47-'VENITURI TOTALE'!E37-'VENITURI TOTALE'!E38 -> 21480936
A25: 9 | B25: Estimatul anual din venituri fiscale
A26: a) | B26: Coeficient de realizare a veniturilor fiscale in anul anterior (se calculeaza trimestrial) | C26: Venituri fiscale cumulate an anterior (trim.I,II,III) | D26: 1170503.4 | E26: =D26/D27 -> 1 | F26: An anterior 2010
C27: Total venituri fiscale an anterior | D27: 1170503.4
A28: b) | B28: Estimatul anual din venituri fiscale | C28: Venituri fiscale cumulate an de calcul (trim.I,II,III) | D28: 1331585.6 | E28: =D28/D29 -> 1331585.6 | F28: An curent (2011)
C29: Coeficient | D29: 1
A32: CHELTUIELI
A33: Nr.crt. | B33: Indicatori sinteza | C33: Formula de calcul | D33: Sume | E33: Procent | F33: Perioada
A34: 1 | B34: Rigiditatea cheltuielilor | C34: Plati aferente cheltuielilor de personal | D34: ='cheltuieli functionare'!E8+'cheltuieli functionare'!E22+'cheltuieli functionare'!E25+'cheltuieli functionare'!E30 -> 5836076 | E34: =D34/D36*100 -> 32.005934 | F34: Anual
C35: (total titlul 10)
C36: Total plati (t24) | D36: ='CHELTUIELI TOTALE'!F142 -> 18234356
A37: 2 | B37: Ponderea sectiunii de functionare | C37: Plati aferente sectiunii de functionare (t24f) | D37: ='cheltuieli functionare'!E6 -> 11631775 | E37: =D37/D38*100 -> 63.790436 | F37: Trimestrial
C38: Total plati (t24) | D38: ='CHELTUIELI TOTALE'!F142 -> 18234356
A39: 3 | B39: Ponderea sectiunii de dezvoltare | C39: Plati aferente sectiunii de dezvoltare (t24d) | D39: ='cheltuieli dezvoltare'!E6 -> 6602580.8 | E39: =D39/D40*100 -> 36.209564 | F39: Trimestrial
C40: Total plati (t24) | D40: ='CHELTUIELI TOTALE'!F142 -> 18234356
A41: 4 | B41: Ponderea serviciului datoriei publice | C41: Serviciul datoriei publice locale | D41: 0 | E41: =D41/D42*100 -> 0 | F41: Anual
C42: Total plati (t24) | D42: ='CHELTUIELI TOTALE'!F142 -> 18234356
A43: 5 | B43: Excedent /Deficit –sectiune functionare | C43: Venituri incasate-(plati efectuate+plati restante) | D43: 2791332.1 | F43: Trimestrial
A44: 6 | B44: Excedent /Deficit –sectiune dezvoltare | C44: Venituri incasate-(plati efectuate+plati restante) | D44: 230354.95 | F44: Trimestrial
B47: PRIMAR, | E47: CONSILIER SUPERIOR
E48: COMP.BUGET CONTABILITATE,
B49: NASTASE ADRIAN | E49: TITA ANNE-MARIE
