Workbook

Sheet venituri functionare
F1: ANEXA 3
C2: VENITURI ALE SECTIUNII DE FUNCTIONARE
A4: NR. CRT. | B4: DENUMIRE CONT | C4: COD INDICATOR | D4: Prevazut | E4: Realizat | F4: %
D5: la 11.12.2025 | E5: La 11.12.2025
A6: TOTAL VENITURI SECTIUNEA DE FUNCTIONARE | C6: 0.01 | D6: =D7+D62 -> 14626200 | E6: =E7+E62+E61 -> 14393688 | F6: =E6/D6 -> 0.98410303
A7: I. | B7: VENITURI CURENTE | C7: 0.02 | D7: =D8+D39 -> 14476000 | E7: =E8+E39 -> 13438166 | F7: =E7/D7 -> 0.92830656
A8: A. | B8: VENITURI FISCALE | C8: 0.03 | D8: =D9+D17+D27+D37 -> 14428000 | E8: =E9+E17+E27+E37 -> 13237556 | F8: =E8/D8 -> 0.91749071
A9: A.1. | B9: IMPOZIT PE VENIT, PROFIT SI CASTIGURI DIN CAPITAL | C9: 0.04 | D9: =D10 -> 7802000 | E9: =E10 -> 7809734.8 | F9: =E9/D9 -> 1.0009914
A10: A.1.2 | B10: IMPOZIT PE VENIT, PROFIT SI CASTIGURI DIN CAPITAL DE LA PERSOANE FIZICE | C10: 03.00.02 | D10: =D11+D13 -> 7802000 | E10: =E11+E13 -> 7809734.8 | F10: =E10/D10 -> 1.0009914
B11: IMPOZIT PE VENIT | C11: 03,02 | D11: =D12 -> 31000 | E11: =E12 -> 33499.5 | F11: =E11/D11 -> 1.080629
B12: Impozitul pe veniturile din transferul proprietatilor imobiliare din patrimoniul personal | C12: 03.02.18 | D12: 31000 | E12: 33499.5 | F12: =E12/D12 -> 1.080629
B13: COTE SI SUME DEFALCATE DIN IMPOZITUL PE VENIT | C13: 04,02 | D13: =D14+D15+D16 -> 7771000 | E13: =E14+E15+E16 -> 7776235.3 | F13: =E13/D13 -> 1.0006737
B14: Cote si sume defalcate din impozitul pe venit | C14: 04.02.01 | D14: 7251000 | E14: 7263236.3 | F14: =E14/D14 -> 1.0016875
B15: Sume alocate din cotele defalcate din impozitul pe venit pentru echilibrarea bugetelor locale | C15: 04.02.04 | D15: 0 | E15: 0 | F15: =E15/D15 -> #DIV/0!
B16: Sume repartizate din Fondul la dispozitia Consiliului Judetean | C16: 04 02 05 | D16: 520000 | E16: 512999 | F16: =E16/D16 -> 0.98653654
A17: A.3. | B17: IMPOZITE SI TAXE PE PROPRIETATE | C17: 07.2A | D17: =D18+D21+D25+D26 -> 782000 | E17: =E18+E21+E25+E26 -> 866901.26 | F17: =E17/D17 -> 1.1085694
B18: Impozit si taxa pe cladiri | C18: 07.02.01 | D18: =D19+D20 -> 362000 | E18: =E19+E20 -> 406765.93 | F18: =E18/D18 -> 1.1236628
B19: Impozit pe cladiri de la persoane fizice | C19: 07.02.01.01 | D19: 186000 | E19: 210627.93 | F19: =E19/D19 -> 1.1324082
B20: Impozit si taxa pe cladiri de la persoane juridice | C20: 07.02.01.02 | D20: 176000 | E20: 196138 | F20: =E20/D20 -> 1.1144205
B21: Impozit si taxa pe teren | C21: 07.02.02 | D21: =D22+D23+D24 -> 323000 | E21: =E22+E23+E24 -> 345706.3 | F21: =E21/D21 -> 1.0702981
B22: Impozit pe terenuri de la persoane fizice | C22: 07.02.02.01 | D22: 144000 | E22: 155410.21 | F22: =E22/D22 -> 1.0792376
B23: Impozit si taxa pe teren de la persoane juridice | C23: 07.02.02.02 | D23: 73000 | E23: 81966 | F23: =E23/D23 -> 1.1228219
B24: Impozitul pe terenul extravilan | C24: 07.02.02.03 | D24: 106000 | E24: 108330.09 | F24: =E24/D24 -> 1.021982
B25: Taxe judiciare de timbru si alte taxe de timbru | C25: 07.02.03.00 | D25: 13000 | E25: 68200.43 | F25: =E25/D25 -> 5.2461869
B26: Alte impozite si taxe pe proprietate | C26: 07.02.50.00 | D26: 84000 | E26: 46228.6 | F26: =E26/D26 -> 0.55034048
A27: A.4. | B27: IMPOZITE SI TAXE PE BUNURI SI SERVICII | C27: 10.02 | D27: =D28+D31 -> 5839000 | E27: =E28+E31 -> 4558285.9 | F27: =E27/D27 -> 0.78066208
B28: SUME DEFALCATE DIN TVA | C28: 11.02 | D28: =D29+D30 -> 5324000 | E28: =E29+E30 -> 4000943 | F28: =E28/D28 -> 0.75149192
B29: Sume defalcate din TVA pt. finantarea cheltuielilor descentralizate la nivelul comunelor | C29: 11.02.02 | D29: 5324000 | E29: 4000943 | F29: =E29/D29 -> 0.75149192
B30: Sume defalcate din TVA pt. echilibrarea bugetelor locale | C30: 11.02.06 | D30: 0 | E30: 0 | F30: =E30/D30 -> #DIV/0!
B31: TAXE PE UTILIZ. BUNURILOR, AUTORIZ.UTILIZ.BUNURILOR SAU PE DESF.DE ACTIV. | C31: 16.02 | D31: =D32+D35+D36 -> 515000 | E31: =E32+E35+E36 -> 557342.9 | F31: =E31/D31 -> 1.0822192
B32: Impozit pe mijloacele de transport | C32: 16.02.02 | D32: =D33+D34 -> 512000 | E32: =E33+E34 -> 554809.23 | F32: =E32/D32 -> 1.0836118
B33: Impozit pe mijloacele de transport detinute de persoane fizice | C33: 16.02.02.01 | D33: 428000 | E33: 502188.23 | F33: =E33/D33 -> 1.173337
B34: Impozit pe mijloacele de transport detinute de persoane juridice | C34: 16.02.02.02 | D34: 84000 | E34: 52621 | F34: =E34/D34 -> 0.62644048
B35: Taxe si tarife pentru eliberarea de licente si autorizatii de functionare | C35: 16.02.03.00 | D35: 1000 | E35: 4.67 | F35: =E35/D35 -> 0.00467
B36: Alte taxe pe utiliz.bunurilor, autorizarea utiliz.bunurilor sau pe desfasurare de activitati | C36: 16.02.50.00 | D36: 2000 | E36: 2529 | F36: =E36/D36 -> 1.2645
A37: A.6. | B37: ALTE IMPOZITE SI TAXE FISCALE | C37: 18.02 | D37: =D38 -> 5000 | E37: =E38 -> 2634 | F37: =E37/D37 -> 0.5268
B38: Alte impozite si taxe | C38: 18.02.50 | D38: 5000 | E38: 2634 | F38: =E38/D38 -> 0.5268
A39: C. | B39: VENITURI NEFISCALE | C39: 29.00.02 | D39: =D40+D44 -> 48000 | E39: =E40+E44 -> 200609.84 | F39: =E39/D39 -> 4.1793717
A40: C.1. | B40: VENITURI DIN PROPRIETATE | C40: 30.2A | D40: =D41 -> 79000 | E40: =E41 -> 211055.02 | F40: =E40/D40 -> 2.6715825
B41: Venituri din concesiuni si inchirieri | C41: 30.02.05 | D41: =D43 -> 79000 | E41: =E43+E42 -> 211055.02 | F41: =E41/D41 -> 2.6715825
B42: Redevente miniere | C42: 30.2A.05.01 | D42: 0 | E42: 145285.75 | F42: =E42/D42 -> #DIV/0!
B43: Alte venituri din concesiuni si inchirieri | C43: 30.02.05.30 | D43: 79000 | E43: 65769.27 | F43: =E43/D43 -> 0.83252241
A44: C.2. | B44: VANZARI DE BUNURI SI SERVICII | C44: 33.00.02 | D44: =D45+D48+D51+D55+D58 -> -31000 | E44: =E45+E48+E51+E55+E58 -> -10445.18 | F44: =E44/D44 -> 0.33694129
B45: Venituri din prestari de servicii | C45: 33.02 | D45: =D46+D47 -> 78000 | E45: =E46+E47 -> 35036.19 | F45: =E45/D45 -> 0.44918192
B46: Venituri din prestari de servicii | C46: 33.02.08.00 | D46: 77000 | E46: 32945 | F46: =E46/D46 -> 0.42785714
B47: Venituri din recuperarea chelt.de judecata, imputatii si despagubiri | C47: 33.02.28.00 | D47: 1000 | E47: 2091.19 | F47: =E47/D47 -> 2.09119
B48: VENITURI DIN TAXE ADMINISTRATIVE, ELIBERARI PERMISE | C48: 34.02 | D48: =D49+D50 -> 15000 | E48: =E49+E50 -> 1035 | F48: =E48/D48 -> 0.069
B49: Taxe extrajudiciare de timbru | C49: 34.02.02 | D49: 0 | E49: 0 | F49: =E49/D49 -> #DIV/0!
B50: Alte venituri din taxe administrative, eliberare de permise | C50: 34.2A.50.00 | D50: 15000 | E50: 1035 | F50: =E50/D50 -> 0.069
B51: AMENZI, PENALITATI SI CONFISCARI | C51: 35.02 | D51: =D52+D54 -> 258000 | E51: =E52+E54 -> 314947.25 | F51: =E51/D51 -> 1.2207258
B52: Venituri din amenzi si alte sanctiuni | C52: 35.02.01 | D52: =D53 -> 207000 | E52: =E53 -> 264260.23 | F52: =E52/D52 -> 1.2766195
B53: Venituri din amenzi si alte sanctiuni aplicate de catre institutii de specialitate | C53: 35.02.01.02 | D53: 207000 | E53: 264260.23 | F53: =E53/D53 -> 1.2766195
B54: Alte amenzi, penalitati si confiscari | C54: 35.02.50.00 | D54: 51000 | E54: 50687.02 | F54: =E54/D54 -> 0.99386314
B55: DIVERSE VENITURI | C55: 36.02 | D55: =D56+D57 -> 138000 | E55: =E56+E57 -> 18536.38 | F55: =E55/D55 -> 0.13432159
B56: Taxe speciale | C56: 36.02.06 | D56: 114000 | E56: 0 | F56: =E56/D56 -> 0
B57: Alte venituri | C57: 36.02.50 | D57: 24000 | E57: 18536.38 | F57: =E57/D57 -> 0.77234917
B58: TRANSFERURI VOLUNTARE, ALTELE DECAT SUBVENTIILE | C58: 37.02 | D58: =D59+D60 -> -520000 | E58: =E59+E60 -> -380000 | F58: =E58/D58 -> 0.73076923
B59: Donatii si sponsorizari | C59: 37.02.01 | D59: 0 | E59: 0 | F59: =E59/D59 -> #DIV/0!
B60: Varsaminte din sectiunea de functionare pentru finantarea sectiunii de dezvoltare a bugetului local | C60: 37.02.03 | D60: -520000 | E60: -380000 | F60: =E60/D60 -> 0.73076923
B61: Sume din excedentul anilor precedenti pentru acoperirea golurilor temporare de casa | C61: 40.11 | D61: 0 | E61: 800000 | F61: -
A62: IV | B62: SUBVENTII | C62: 42 | D62: =D63+D64 -> 150200 | E62: =E63+E64 -> 155522 | F62: =E62/D62 -> 1.0354328
B63: Subventii pentru acordarea ajutorului pentru incalzirea locuintei cu lemne, carbuni, combustibili petrolieri | C63: 42.02.34 | D63: 73400 | E63: 78768 | F63: =E63/D63 -> 1.0731335
B64: Subventii de la bugetul de stat pentru finantarea sanatatii | C64: 42.02.41 | D64: 76800 | E64: 76754 | F64: =E64/D64 -> 0.99940104
B68: PRIMAR, | E68: CONSILIER SUPERIOR
E69: COMP.BUGET CONTABILITATE,
B70: NASTASE ADRIAN | E70: TITA ANNE MARIE

Sheet cheltuieli functionare
F1: ANEXA 4
C2: CHELTUIELI ALE SECTIUNII DE FUNCTIONARE
A4: NR. CRT. | B4: DENUMIRE CONT | C4: COD INDICATOR | D4: PREVAZUT LA | E4: REALIZAT LA | F4: %
D5: 46002 | E5: 46002
A6: TOTAL | C6: 50.02 | D6: =D7+D14+D17+D21+D24+D29+D34+D37+D41+D12 -> 14626200 | E6: =E7+E14+E17+E21+E24+E29+E34+E37+E41+E12 -> 11859588 | F6: =E6/D6 -> 0.81084547
A7: 1 | B7: AUTORITATI PUBLICE SI ACTIUNI EXTERNE | C7: 51.02 | D7: =D8+D9+D11+D10 -> 5541000 | E7: =E8+E9+E11+E10 -> 4670603.3 | F7: =E7/D7 -> 0.84291705
B8: Cheltuieli de personal | C8: 51.02.10 | D8: 4016000 | E8: 3598168 | F8: =E8/D8 -> 0.89595817
B9: Bunuri si servicii | C9: 51.02.20 | D9: 1515000 | E9: 1103948.5 | F9: =E9/D9 -> 0.72867886
B10: Alte cheltuieli | C10: 51.02.59 | D10: 10000 | E10: 10000 | F10: =E10/D10 -> 1
B11: Plati efectuate in anii precedenti si recuperate in anul curent | C11: 51.02.85 | D11: 0 | E11: -41513.12 | F11: =E11/D11 -> #DIV/0!
A12: 2 | B12: ALTE SERVICII PUBLICE GENERALE | C12: 54.02 | D12: =D13 -> 1000 | E12: =E13 -> 719.2 | F12: =E12/D12 -> 0.7192
B13: Bunuri si servicii | C13: 54.02.20 | D13: 1000 | E13: 719.2 | F13: =E13/D13 -> 0.7192
A14: 3 | B14: ORDINE PUBLICA SI SIGURANTA NATIONALA | C14: 61.02 | D14: =D15 -> 34000 | E14: =E15+E16 -> 10963.88 | F14: =E14/D14 -> 0.32246706
B15: Bunuri si servicii | C15: 61.02.20 | D15: 34000 | E15: 10963.88 | F15: =E15/D15 -> 0.32246706
B16: Plati efectuate in anii precedenti si recuperate in anul curent | C16: 61.02.85 | D16: 0 | E16: 0 | F16: =E16/D16 -> #DIV/0!
A17: 4 | B17: INVATAMANT | C17: 65.02 | D17: =D18+D19+D20 -> 982000 | E17: =E18+E19+E20 -> 806824.51 | F17: =E17/D17 -> 0.82161355
B18: Bunuri si servicii | C18: 65.02.20 | D18: 828000 | E18: 694469.51 | F18: =E18/D18 -> 0.83873129
B19: Asistenta sociala | C19: 65.02.57 | D19: 154000 | E19: 112355 | F19: =E19/D19 -> 0.72957792
B20: Burse scolare | C20: 65.02.59 | D20: 0 | E20: 0 | F20: =E20/D20 -> #DIV/0!
A21: 5 | B21: SANATATE | C21: 66.02 | D21: =D22+D23 -> 146800 | E21: =E22+E23 -> 84854 | F21: =E21/D21 -> 0.57802452
B22: Cheltuieli de personal | C22: 66.02.10 | D22: 145800 | E22: 84574 | F22: =E22/D22 -> 0.58006859
B23: Bunuri si servicii | C23: 66.02.20 | D23: 1000 | E23: 280 | F23: =E23/D23 -> 0.28
A24: 6 | B24: CULTURA, RECREERE SI RELIGIE | C24: 67.02 | D24: =D25+D26+D28+D27 -> 386000 | E24: =E25+E26+E27+E28 -> 138347.55 | F24: =E24/D24 -> 0.35841334
B25: Cheltuieli de personal | C25: 67.02.10 | D25: 45000 | E25: 0 | F25: =E25/D25 -> 0
B26: Bunuri si servicii | C26: 67.02.20 | D26: 241000 | E26: 113748.75 | F26: =E26/D26 -> 0.47198651
B27: Alte cheltuieli | C27: 67.02.59 | D27: 100000 | E27: 24598.8 | F27: =E27/D27 -> 0.245988
B28: Plati efectuate in anii precedenti si recuperate in anul curent | C28: 67.02.85 | D28: 0 | E28: 0 | F28: =E28/D28 -> #DIV/0!
A29: 7 | B29: ASIGURARI SI ASISTENTA SOCIALA | C29: 68.02 | D29: =D30+D32+D31 -> 6292400 | E29: =E30+E32+E33+E31 -> 5512429.8 | F29: =E29/D29 -> 0.87604568
B30: Cheltuieli de personal | C30: 68.02.10 | D30: 2780000 | E30: 2303026 | F30: =E30/D30 -> 0.82842662
B31: Bunuri si servicii | C31: 68.02.20 | D31: 130000 | E31: 103678.81 | F31: =E31/D31 -> 0.79752931
B32: Ajutoare sociale in numerar | C32: 68.02.57 | D32: 3382400 | E32: 3105725 | F32: =E32/D32 -> 0.91820157
B33: Plati efectuate in anii precedenti si recuperate in anul curent | C33: 68.02.85 | D33: 0 | E33: 0 | F33: =E33/D33 -> #DIV/0!
A34: 8 | B34: LOCUINTE, SERVICII SI DEZVOLTARE PUBLICA | C34: 70.02 | D34: =D35 -> 685000 | E34: =E35+E36 -> 437286.41 | F34: =E34/D34 -> 0.63837432
B35: Bunuri si servicii | C35: 70.02.20 | D35: 685000 | E35: 437286.41 | F35: =E35/D35 -> 0.63837432
B36: Plati efectuate in anii precedenti si recuperate in anul curent | C36: 70.02.85 | D36: 0 | E36: 0 | F36: =E36/D36 -> #DIV/0!
A37: 9 | B37: PROTECTIA MEDIULUI | C37: 74.02 | D37: =D38+D39 -> 298000 | E37: =E38+E39+E40 -> 148794.93 | F37: =E37/D37 -> 0.49931185
B38: Bunuri si servicii | C38: 74.02.20 | D38: 238000 | E38: 98084.93 | F38: =E38/D38 -> 0.41212155
B39: Asociatii si fundatii | C39: 74.02.59 | D39: 60000 | E39: 50710 | F39: =E39/D39 -> 0.84516667
B40: Plati efectuate in anii precedenti si recuperate in anul curent | C40: 74.02.85 | E40: 0 | F40: =E40/D40 -> #DIV/0!
A41: 10 | B41: TRANSPORTURI | C41: 84.02 | D41: =D42 -> 260000 | E41: =E42 -> 48764.4 | F41: =E41/D41 -> 0.18755538
B42: Bunuri si servicii | C42: 84.02.20 | D42: 260000 | E42: 48764.4 | F42: =E42/D42 -> 0.18755538
B43: EXCEDENT / DEFICIT | C43: - | E43: ='venituri functionare'!E6-'cheltuieli functionare'!E6 -> 2534099.7
B45: PRIMAR, | D45: CONSILIER SUPERIOR
B46: NASTASE ADRIAN | D46: COMP.BUGET CONTABILITATE,
D47: TITA ANNE MARIE

Sheet venituri dezvoltare
F1: ANEXA 5
C2: VENITURI ALE SECTIUNII DE DEZVOLTARE
A4: NR. CRT. | B4: DENUMIRE CONT | C4: COD INDICATOR | D4: Prevazut la | E4: Realizat la 11.12.2025 | F4: %
D5: 46002
A6: TOTAL | D6: =D7+D10+D13+D15+D20+D24 -> 520000 | E6: =E9+E13+E15+E20+E7+E24 -> 2522225.9 | F6: =E6/D6 -> 4.8504344
A7: I | B7: TRANSFERURI VOLUNTARE, ALTELE DECAT SUBVENTIILE | C7: 37.02 | D7: =D8 -> 520000 | E7: =E8 -> 380000 | F7: =E7/D7 -> 0.73076923
B8: Varsaminte din sectiunea de functionare | C8: 37.02.04 | D8: 520000 | E8: 380000 | F8: =E8/D8 -> 0.73076923
A9: II | B9: VENITURI DIN CAPITAL | D9: =D10 -> 0 | E9: =E10 -> 7172 | F9: =E9/D9 -> #DIV/0!
B10: VENITURI DIN VALORIFICAREA UNOR BUNURI | C10: 39.02 | D10: =D11 -> 0 | E10: =E11+E12 -> 7172 | F10: =E10/D10 -> #DIV/0!
B11: Venituri din vanzarea locuintelor construite din fondurile statului | C11: 39.02.03.00 | D11: 0 | E11: 7172 | F11: =E11/D11 -> #DIV/0!
B12: Venituri din vanzarea unor bunuri | C12: 39.02.07.00 | D12: 0 | E12: 0
A13: III | B13: OPERATIUNI FINANCIARE | C13: 40.02 | D13: =D14 -> 0 | E13: =E14 -> 2135053.9 | F13: =E13/D13 -> #DIV/0!
B14: Sume din excedentul bugetului local utilizate pentru finantarea cheltuielilor sectiunii de dezvoltare | C14: 40.14.00 | D14: 0 | E14: 2135053.9 | F14: =E14/D14 -> #DIV/0!
B15: SUBVENTII DE LA BUGETUL DE STAT | C15: 42.2A | D15: =D17+D16 -> 0 | E15: =E17+E16 -> 0 | F15: =E15/D15 -> #DIV/0!
B16: Subventii de la bugetul de stat catre bugetele locale pentru Programul national de investitii "Anghel saligny" | C16: 42.2A.87 | D16: 0 | E16: 0 | F16: =E16/D16 -> #DIV/0!
B17: Alocari de sume din PNRR aferente componentei imprumutui | C17: 42.2A.89 | D17: =D18+D19 -> 0 | E17: =E18+E19 -> 0 | F17: =E17/D17 -> #DIV/0!
B18: Fonduri din imprumut rambursabil | C18: 42.2A.89.01 | D18: 0 | E18: 0 | F18: =E18/D18 -> #DIV/0!
B19: Sume aferente TVA | C19: 42.2A.89.03 | D19: 0 | E19: 0 | F19: =E19/D19 -> #DIV/0!
B20: SUBVENTII DE LA ALTE ADMINISTRATII | C20: 43.2A | D20: =D22+D21 -> 0 | E20: =E22+E21 -> 0 | F20: =E20/D20 -> #DIV/0!
B21: Sume alocate din bugetul AFIR, pentru sustinerea proiectelor din PNDR 2014-2020 | C21: 43.2A.31 | D21: 0 | E21: 0 | F21: =E21/D21 -> #DIV/0!
B22: Subventii acordate in baza contractelor de parteneriat sau asociere | C22: 43.2A.39 | D22: =D23 -> 0 | E22: =E23 -> 0 | F22: =E22/D22 -> #DIV/0!
B23: Subventii acordate in baza contractelor de parteneriat sau asocier, pentru sectiunea de dezvoltare | C23: 43.2A.39.02 | D23: 0 | E23: 0 | F23: =E23/D23 -> #DIV/0!
B24: Sume primite de la UE/alti donatori in contul platilor efectuate si prefinantari aferente cadrului financiar 2014-2020 | C24: 48.2A | D24: =D25 -> 0 | E24: =E25 -> 0 | F24: =E24/D24 -> #DIV/0!
B25: Fondul European Agricol de Dezvoltare (FEADR) | C25: 48.2A.04 | D25: =D26 -> 0 | E25: =E26 -> 0 | F25: =E25/D25 -> #DIV/0!
B26: Sume primite in contul platilor efectuate in anul curent (FEADR) | C26: 48.2A.04.01 | D26: 0 | E26: 0 | F26: =E26/D26 -> #DIV/0!
B28: PRIMAR, | E28: CONSILIER SUPERIOR
E29: COMP.BUGET CONTABILITATE,
B30: NASTASE ADRIAN | E30: TITA ANNE MARIE
A36: ='venituri functionare'!E6+'venituri dezvoltare'!E6 -> 16915914

Sheet cheltuieli dezvoltare
F1: ANEXA 6
C2: CHELTUIELI ALE SECTIUNII DE DEZVOLTARE
A4: NR. CRT. | B4: DENUMIRE CONT | C4: COD INDICATOR | D4: Prevazut la | E4: Realizat la | F4: %
D5: 46002 | E5: 46002
A6: TOTAL | D6: =D7+D13+D21+D26+D31+D40 -> 6554000 | E6: =E7+E13+E21+E26+E31+E40+E25 -> 2510257 | F6: =E6/D6 -> 0.38301144
A7: 1 | B7: AUTORITATI PUBLICE SI ACTIUNI EXTERNE | C7: 51.02 | D7: =D8 -> 647000 | E7: =E8 -> 509752.64 | F7: =E7/D7 -> 0.78787116
B8: ACTIVE FIXE | C8: 51.02.71.01 | D8: =D9+D12+D10+D11 -> 647000 | E8: =E9+E12+E10+E11 -> 509752.64 | F8: =E8/D8 -> 0.78787116
B9: Constructii | C9: 51.02.71.01.01 | D9: 470000 | E9: 468930.72 | F9: =E9/D9 -> 0.99772494
B10: Masini, echipamente si mijloace de transport | C10: 51.02.71.01.02 | D10: 37000 | E10: 23634.44 | F10: =E10/D10 -> 0.63876865
B11: Mobilier, aparatura birotica si alte active corporale | C11: 51.02.71.01.03 | D11: 0 | E11: 0 | F11: =E11/D11 -> #DIV/0!
B12: Alte active fixe | C12: 51.02.71.01.30 | D12: 140000 | E12: 17187.48 | F12: =E12/D12 -> 0.12276771
A13: 2 | B13: INVATAMANT | C13: 65.02 | D13: =D14+D17 -> 908000 | E13: =E14+E17 -> 208580 | F13: =E13/D13 -> 0.22971366
B14: PROIECTE CU FINANTARE DIN SUMELE AFERENTE COMPONENTEI DE IMPRUMUT PNRR | C14: 65.02.61 | D14: =D15+D16 -> 0 | E14: =E15+E16 -> 0 | F14: =E14/D14 -> #DIV/0!
B15: Fonduri din imprumut rambursabil | C15: 65.02.61.01.00 | D15: 0 | E15: 0 | F15: =E15/D15 -> #DIV/0!
B16: Sume aferente TVA | C16: 65.02.61.03.00 | D16: 0 | E16: 0 | F16: =E16/D16 -> #DIV/0!
B17: ACTIVE FIXE | C17: 65.02.71 | D17: =D18+D20+D19 -> 908000 | E17: =E18+E20 -> 208580 | F17: =E17/D17 -> 0.22971366
B18: Constructii | C18: 65.02.71.01.01 | D18: 620000 | E18: 0 | F18: =E18/D18 -> 0
B19: Mobilier, aparatura birotica si alte active corporale | C19: 65.02.71.01.03 | D19: 0 | E19: 0 | F19: =E19/D19 -> #DIV/0!
B20: Alte active fixe | C20: 65.02.71.01.30 | D20: 288000 | E20: 208580 | F20: =E20/D20 -> 0.72423611
A21: 3 | B21: CULTURA, RECREERE, RELIGIE | C21: 67.02 | D21: =D22 -> 85000 | E21: =E22 -> 81039 | F21: =E21/D21 -> 0.9534
B22: ACTIVE FIXE | C22: 67.02.71 | D22: =D24+D23 -> 85000 | E22: =E23+E24 -> 81039 | F22: =E22/D22 -> 0.9534
B23: Constructii | C23: 67.02.71.01.01 | D23: 0 | E23: 0 | F23: =E23/D23 -> #DIV/0!
B24: Alte active fixe | C24: 67.02.71.01.30 | D24: 85000 | E24: 81039 | F24: =E24/D24 -> 0.9534
B25: Plati efectuate in anul precedent si recuperate in anul curent | C25: 67.02.85.01.02 | D25: 0 | E25: 0 | F25: =E25/D25 -> #DIV/0!
A26: 4 | B26: LOCUINTE, SERVICII SI DEZVOLTARE | C26: 70.02 | D26: =D27 -> 1130000 | E26: =E27 -> 320086.78 | F26: =E26/D26 -> 0.28326264
B27: ACTIVE FIXE | C27: 70.02.71 | D27: =D30+D28+D29 -> 1130000 | E27: =E30+E28+E29 -> 320086.78 | F27: =E27/D27 -> 0.28326264
B28: Constructii | C28: 70.02 71.01.01 | D28: 689000 | E28: 317854.86 | F28: =E28/D28 -> 0.46132781
B29: Masini, echipamente si mijloace de transport | C29: 70.02 71.01.02 | D29: 350000 | E29: 0 | F29: =E29/D29 -> 0
B30: Alte active fixe | C30: 70.02.71.01.30 | D30: 91000 | E30: 2231.92 | F30: =E30/D30 -> 0.024526593
A31: 5 | B31: PROTECTIA MEDIULUI | C31: 74.02 | D31: =D32+D35 -> 1846000 | E31: =E32+E35+E39 -> 1264727.8 | F31: =E31/D31 -> 0.68511797
B32: PROIECTE CU FINANTARE DIN FONDURI EXTERNE NERAMBURSABILE CADRULUI FINANCIAR 2014-2020 | C32: 74.02.58 | D32: =D33 -> 0 | E32: =E33 -> 0 | F32: =E32/D32 -> #DIV/0!
B33: Programe din Fondul European Agricol de Dezvoltare Rurala (FEADR) | C33: 74.02.58.04 | D33: =D34 -> 0 | E33: =E34 -> 0 | F33: =E33/D33 -> #DIV/0!
B34: Finantarea externa nerambursabila | C34: 74.05.58.04.02 | D34: 0 | E34: 0 | F34: =E34/D34 -> #DIV/0!
B35: ACTIVE FIXE | C35: 74.02.71.01 | D35: =D36+D38+D37+D39 -> 1846000 | E35: =E36+E38+E37 -> 1269524.7 | F35: =E35/D35 -> 0.6877165
B36: Constructii | C36: 74.02.71.01.01 | D36: 1576000 | E36: 1196247.3 | F36: =E36/D36 -> 0.75904014
B37: Masini, echipamente si mijloace de transport | C37: 74.02.71.01.02 | D37: 15000 | E37: 11959.5 | F37: =E37/D37 -> 0.7973
B38: Alte active fixe | C38: 74.02.71.01.30 | D38: 255000 | E38: 61317.9 | F38: =E38/D38 -> 0.24046235
B39: Plati efectuate in anul precedent si recuperate in anul curent | C39: 74.02.85.01.02 | D39: 0 | E39: -4796.88 | F39: =E39/D39 -> #DIV/0!
A40: 6 | B40: TRANSPORTURI | C40: 84.02 | D40: =D41 -> 1938000 | E40: =E41 -> 126070.79 | F40: =E40/D40 -> 0.065052007
B41: ACTIVE FIXE | C41: 84.02.71.01 | D41: =D42+D43 -> 1938000 | E41: =E42+E43 -> 126070.79 | F41: =E41/D41 -> 0.065052007
B42: Constructii | C42: 84.02.71.01.01 | D42: 1707000 | E42: 0 | F42: =E42/D42 -> 0
B43: Alte active fixe | C43: 84.02.71.01.30 | D43: 231000 | E43: 126070.79 | F43: =E43/D43 -> 0.545761
B44: EXCEDENT / DEFICIT | E44: ='venituri dezvoltare'!E6-'cheltuieli dezvoltare'!E6 -> 11968.88
B47: PRIMAR, | D47: CONSILIER SUPERIOR
D48: COMP.BUGET CONTABILITATE,
B49: NASTASE ADRIAN | D49: TITA ANNE MARIE
A50: =E6+'cheltuieli functionare'!E6 -> 14369845 | B50: total plati
A51: =E44+'cheltuieli functionare'!E43 -> 2546068.6 | B51: excedent/deficit

Sheet VENITURI TOTALE
F1: ANEXA 1
C2: VENITURI TOTALE LA 11.12.2025
A4: NR. CRT. | B4: CLASIFICATIE BUGETARA | C4: DENUMIRE | D4: PREVEDERE BUGETARA | E4: EXECUTIE | F4: %
A5: 1 | B5: 031800 | C5: Impozitul pe veniturile din transferul proprietatilor imobiliare din patrimoniul personal | D5: ='venituri functionare'!D12 -> 31000 | E5: ='venituri functionare'!E12 -> 33499.5 | F5: =E5/D5 -> 1.080629
A6: 2 | B6: 040100 | C6: Cote defalcate din impozitul pe venit(se scad) | D6: ='venituri functionare'!D14 -> 7251000 | E6: ='venituri functionare'!E14 -> 7263236.3 | F6: =E6/D6 -> 1.0016875
A7: 3 | B7: 040400 | C7: Sume alocate din cotele defalcate din impozitul pe venit pentru echilibrarea bugetelor locale | D7: ='venituri functionare'!D15 -> 0 | E7: ='venituri functionare'!E15 -> 0 | F7: =E7/D7 -> #DIV/0!
A8: 4 | B8: 04 05 00 | C8: Sume repartizate din Fondul la dispozitia Consiliului Judetean | D8: ='venituri functionare'!D16 -> 520000 | E8: ='venituri functionare'!E16 -> 512999 | F8: =E8/D8 -> 0.98653654
A9: 5 | B9: 070101 | C9: Impozit pe cladiri de la persoane fizice | D9: ='venituri functionare'!D19 -> 186000 | E9: ='venituri functionare'!E19 -> 210627.93 | F9: =E9/D9 -> 1.1324082
A10: 6 | B10: 070102 | C10: Impozit si taxa pe cladiri de la persoane juridice | D10: ='venituri functionare'!D20 -> 176000 | E10: ='venituri functionare'!E20 -> 196138 | F10: =E10/D10 -> 1.1144205
A11: 7 | B11: 070201 | C11: Impozit pe terenuri de la persoane fizice | D11: ='venituri functionare'!D22 -> 144000 | E11: ='venituri functionare'!E22 -> 155410.21 | F11: =E11/D11 -> 1.0792376
A12: 8 | B12: 070202 | C12: Impozit si taxa pe teren de la persoane juridice | D12: ='venituri functionare'!D23 -> 73000 | E12: ='venituri functionare'!E23 -> 81966 | F12: =E12/D12 -> 1.1228219
A13: 9 | B13: 070203 | C13: Impozit pe terenul din extravilan | D13: ='venituri functionare'!D24 -> 106000 | E13: ='venituri functionare'!E24 -> 108330.09 | F13: =E13/D13 -> 1.021982
A14: 10 | B14: 070300 | C14: Taxe judiciare de timbru si alte taxe de timbru | D14: ='venituri functionare'!D25 -> 13000 | E14: ='venituri functionare'!E25 -> 68200.43 | F14: =E14/D14 -> 5.2461869
A15: 11 | B15: 075000 | C15: Alte impozite si taxe pe proprietate | D15: ='venituri functionare'!D26 -> 84000 | E15: ='venituri functionare'!E26 -> 46228.6 | F15: =E15/D15 -> 0.55034048
A16: 12 | B16: 110200 | C16: Sume defalcate din taxa pe valoarea adaugata pentru finantarea cheltuielilor descentralizate la nivelul comunelor, oraselor, municipiilor, sectoarelor si Municipiului Bucuresti | D16: ='venituri functionare'!D29 -> 5324000 | E16: ='venituri functionare'!E29 -> 4000943 | F16: =E16/D16 -> 0.75149192
A17: 13 | B17: 110600 | C17: Sume defalcate din taxa pe valoarea adaugata pentru echilibrarea bugetelor locale | D17: ='venituri functionare'!D30 -> 0 | E17: ='venituri functionare'!E30 -> 0 | F17: =E17/D17 -> #DIV/0!
A18: 14 | B18: 160201 | C18: Impozit pe mijloacele de transport detinute de persoane fizice | D18: ='venituri functionare'!D33 -> 428000 | E18: ='venituri functionare'!E33 -> 502188.23 | F18: =E18/D18 -> 1.173337
A19: 15 | B19: 160202 | C19: Impozit pe mijloacele de transport detinute de persoane juridice | D19: ='venituri functionare'!D34 -> 84000 | E19: ='venituri functionare'!E34 -> 52621 | F19: =E19/D19 -> 0.62644048
A20: 16 | B20: 160300 | C20: Taxe si tarife pentru eliberarea de licente si autorizatii de functionare | D20: ='venituri functionare'!D35 -> 1000 | E20: ='venituri functionare'!E35 -> 4.67 | F20: =E20/D20 -> 0.00467
A21: 17 | B21: 165000 | C21: Alte taxe pe utilizarea bunurilor, autorizarea utilizarii bunurilor sau pe desfasurare de activitati | D21: ='venituri functionare'!D36 -> 2000 | E21: ='venituri functionare'!E36 -> 2529 | F21: =E21/D21 -> 1.2645
A22: 18 | B22: 185000 | C22: Alte impozite si taxe | D22: ='venituri functionare'!D38 -> 5000 | E22: ='venituri functionare'!E38 -> 2634 | F22: =E22/D22 -> 0.5268
A23: 19 | B23: 300501 | C23: ='venituri functionare'!B42 -> Redevente miniere | D23: ='venituri functionare'!D42 -> 0 | E23: ='venituri functionare'!E42 -> 145285.75 | F23: =E23/D23 -> #DIV/0!
A24: 20 | B24: 300530 | C24: Alte venituri din concesiuni si inchirieri de catre institutiile publice | D24: ='venituri functionare'!D43 -> 79000 | E24: ='venituri functionare'!E43 -> 65769.27 | F24: =E24/D24 -> 0.83252241
A25: 21 | B25: 330800 | C25: Venituri din prestari de servicii | D25: ='venituri functionare'!D46 -> 77000 | E25: ='venituri functionare'!E46 -> 32945 | F25: =E25/D25 -> 0.42785714
A26: 22 | B26: 332800 | C26: Venituri din recuperarea cheltuielilor de judecata, imputatii si despagubiri | D26: ='venituri functionare'!D47 -> 1000 | E26: ='venituri functionare'!E47 -> 2091.19 | F26: =E26/D26 -> 2.09119
A27: 23 | B27: 340200 | C27: Taxe extrajudiciare de timbru | D27: ='venituri functionare'!D49 -> 0 | E27: ='venituri functionare'!E49 -> 0 | F27: =E27/D27 -> #DIV/0!
A28: 24 | B28: 345000 | C28: Alte venituri din taxe administrative, eliberare de permise | D28: ='venituri functionare'!D50 -> 15000 | E28: ='venituri functionare'!E50 -> 1035 | F28: =E28/D28 -> 0.069
A29: 25 | B29: 350102 | C29: Venituri din amenzi si alte sanctiuni aplicate de catre alte institutii de specialitate | D29: ='venituri functionare'!D53 -> 207000 | E29: ='venituri functionare'!E53 -> 264260.23 | F29: =E29/D29 -> 1.2766195
A30: 26 | B30: 355000 | C30: Alte amenzi, penalitati si confiscari | D30: ='venituri functionare'!D54 -> 51000 | E30: ='venituri functionare'!E54 -> 50687.02 | F30: =E30/D30 -> 0.99386314
A31: 27 | B31: 360600 | C31: Taxe speciale | D31: ='venituri functionare'!D56 -> 114000 | E31: ='venituri functionare'!E56 -> 0 | F31: =E31/D31 -> 0
A32: 28 | B32: 365000 | C32: Alte venituri | D32: ='venituri functionare'!D57 -> 24000 | E32: ='venituri functionare'!E57 -> 18536.38 | F32: =E32/D32 -> 0.77234917
A33: 29 | B33: 370100 | C33: Donatii si sponsorizari | D33: ='venituri functionare'!D59 -> 0 | E33: ='venituri functionare'!E59 -> 0
A34: 30 | B34: 370203 | C34: Varsaminte din sectiunea de functionare pentru finantarea sectiunii de dezvoltare a bugetului local | D34: ='venituri functionare'!D60 -> -520000 | E34: ='venituri functionare'!E60 -> -380000 | F34: =E34/D34 -> 0.73076923
A35: 31 | B35: 370204 | C35: Varsaminte din sectiunea de functionare | D35: ='venituri dezvoltare'!D8 -> 520000 | E35: ='venituri dezvoltare'!E8 -> 380000 | F35: =E35/D35 -> 0.73076923
A36: 32 | B36: 390300 | C36: Venituri din vanzarea locuintelor construite din fondurile statului | D36: ='venituri dezvoltare'!D11 -> 0 | E36: ='venituri dezvoltare'!E11 -> 7172 | F36: =E36/D36 -> #DIV/0!
A37: 33 | B37: 390700 | C37: Venituri din vanzarea unor bunuri | D37: ='venituri dezvoltare'!D12 -> 0 | E37: ='venituri dezvoltare'!E12 -> 0
A38: 34 | B38: 401100 | C38: Sume din excedentul anului precedent pentru acoperirea golurilor temporare de casa ale sectiunii de functionare | D38: ='venituri functionare'!D61 -> 0 | E38: ='venituri functionare'!E61 -> 800000 | F38: =E38/D38 -> #DIV/0!
A39: 35 | B39: 401400 | C39: Sume din excedentul bugetului local utilizate pentru finantarea cheltuielilor sectiunii de dezvoltare | D39: ='venituri dezvoltare'!D14 -> 0 | E39: ='venituri dezvoltare'!E14 -> 2135053.9 | F39: =E39/D39 -> #DIV/0!
A40: 36 | B40: 423400 | C40: Subventii pentru acordarea ajutorului pentru incalzirea locuintei cu lemne, carbuni, combustibili petrolieri | D40: ='venituri functionare'!D63 -> 73400 | E40: ='venituri functionare'!E63 -> 78768 | F40: =E40/D40 -> 1.0731335
A41: 37 | B41: 424100 | C41: Subventii din bugetul de stat pentru finantarea sanatatii | D41: ='venituri functionare'!D64 -> 76800 | E41: ='venituri functionare'!E64 -> 76754 | F41: =E41/D41 -> 0.99940104
A42: 38 | B42: 428700 | C42: Subventii de la bugetul de stat catre bugetele locale pentru Programul national de investitii "Anghel saligny" | D42: ='venituri dezvoltare'!D16 -> 0 | E42: ='venituri dezvoltare'!E16 -> 0 | F42: =E42/D42 -> #DIV/0!
A43: 39 | B43: 428901 | C43: Fonduri din imprumut rambursabil | D43: ='venituri dezvoltare'!D18 -> 0 | E43: ='venituri dezvoltare'!E18 -> 0 | F43: =E43/D43 -> #DIV/0!
A44: 40 | B44: 428903 | C44: Sume aferente TVA | D44: ='venituri dezvoltare'!D19 -> 0 | E44: ='venituri dezvoltare'!E19 -> 0 | F44: =E44/D44 -> #DIV/0!
A45: 41 | B45: 433100 | C45: Sume alocate din bugetul AFIR, pentru sustinerea proiectelor din PNDR 2014-2020 | D45: ='venituri dezvoltare'!D21 -> 0 | E45: ='venituri dezvoltare'!E21 -> 0 | F45: =E45/D45 -> #DIV/0!
A46: 42 | B46: 433902 | C46: Subventii acordate in baza contractelor de parteneriat sau asocier, pentru sectiunea de dezvoltare | D46: ='venituri dezvoltare'!D23 -> 0 | E46: ='venituri dezvoltare'!E23 -> 0 | F46: =E46/D46 -> #DIV/0!
A47: 43 | B47: 480401 | C47: Sume primite in contul platilor efectuate in anul curent (FEADR) | D47: ='venituri dezvoltare'!D26 -> 0 | E47: ='venituri dezvoltare'!E26 -> 0 | F47: =E47/D47 -> #DIV/0!
B48: TOTAL | D48: =SUM(D5:D47) -> 15146200 | E48: =SUM(E5:E47) -> 16915914 | F48: =E48/D48 -> 1.1168421
B51: PRIMAR, | E51: CONSILIER SUPERIOR
E52: COMP.BUGET CONTABILITATE,
B53: NASTASE ADRIAN | E53: TITA ANNE MARIE

Sheet CHELTUIELI TOTALE
G1: ANEXA 2
D2: CHELTUIELI TOTALE LA 11.12.2025
A4: NR. CRT. | B4: CLASIFICATIE BUGETARA | D4: DENUMIRE | E4: PREVEDERE BUGETARA | F4: EXECUTIE | G4: %
A5: 1 | B5: 510103 | C5: 100101 | D5: Salarii de baza | E5: 3553000 | F5: 3254439 | G5: =F5/E5 -> 0.91596932
A6: 2 | B6: 510103 | C6: 100112 | D6: Indemnizatii platite unor persoane din afara unitatii | E6: 204000 | F6: 202944 | G6: =F6/E6 -> 0.99482353
A7: 3 | B7: 510103 | C7: 100117 | D7: Indemnizatii de hrana | E7: 104000 | F7: 46347 | G7: =F7/E7 -> 0.44564423
A8: 4 | B8: 510103 | C8: 100130 | D8: Alte drepturi salariale in bani | E8: 30000 | F8: 0 | G8: =F8/E8 -> 0
A9: 5 | B9: 510103 | C9: 100206 | D9: Vouchere de vacanta | E9: 27000 | F9: 15600 | G9: =F9/E9 -> 0.57777778
A10: 6 | B10: 510103 | C10: 100307 | D10: Contributia asiguratorie pentru munca | E10: 98000 | F10: 78838 | G10: =F10/E10 -> 0.80446939
A11: 7 | B11: 510103 | C11: 200101 | D11: Furnituri de birou | E11: 40000 | F11: 36972.14 | G11: =F11/E11 -> 0.9243035
A12: 8 | B12: 510103 | C12: 200102 | D12: Materiale pentru curatenie | E12: 21000 | F12: 9440.05 | G12: =F12/E12 -> 0.44952619
A13: 9 | B13: 510103 | C13: 200103 | D13: Incalzit, Iluminat si forta motrica | E13: 230000 | F13: 78111.81 | G13: =F13/E13 -> 0.33961657
A14: 10 | B14: 510103 | C14: 200104 | D14: Apa, canal si salubritate | E14: 7000 | F14: 4535.38 | G14: =F14/E14 -> 0.64791143
A15: 11 | B15: 510103 | C15: 200105 | D15: Carburanti si lubrifianti | E15: 60000 | F15: 37829.54 | G15: =F15/E15 -> 0.63049233
A16: 12 | B16: 510103 | C16: 200106 | D16: Piese de schimb | E16: 19000 | F16: 10689.14 | G16: =F16/E16 -> 0.56258632
A17: 13 | B17: 510103 | C17: 200107 | D17: Transport | E17: 19000 | F17: 7831 | G17: =F17/E17 -> 0.41215789
A18: 14 | B18: 510103 | C18: 200108 | D18: Posta, telecomunicatii, radio, tv, internet | E18: 79000 | F18: 57241.27 | G18: =F18/E18 -> 0.72457304
A19: 15 | B19: 510103 | C19: 200109 | D19: Materiale si prestari de servicii cu caracter functional | E19: 405000 | F19: 398594.66 | G19: =F19/E19 -> 0.98418435
A20: 16 | B20: 510103 | C20: 200130 | D20: Alte bunuri si servicii pentru intretinere si functionare | E20: 395000 | F20: 342250.88 | G20: =F20/E20 -> 0.86645792
A21: 17 | B21: 510103 | C21: 200200 | D21: Reparatii curente | E21: 75000 | F21: 26912.62 | G21: =F21/E21 -> 0.35883493
A22: 18 | B22: 510103 | C22: 200530 | D22: Alte obiecte de inventar | E22: 11000 | F22: 2375 | G22: =F22/E22 -> 0.21590909
A23: 19 | B23: 510103 | C23: 200601 | D23: Deplasari interne,detasari,transferari | E23: 7000 | F23: 632 | G23: =F23/E23 -> 0.090285714
A24: 20 | B24: 510103 | C24: 2013 | D24: Prgatire profesionala | E24: 22000 | F24: 4745 | G24: =F24/E24 -> 0.21568182
A25: 21 | B25: 510103 | C25: 203001 | D25: Reclama si publicitate | E25: 40000 | F25: 19123 | G25: =F25/E25 -> 0.478075
A26: 22 | B26: 510103 | C26: 203002 | D26: Protocol si reprezentare | E26: 25000 | F26: 6701.55 | G26: =F26/E26 -> 0.268062
A27: 23 | B27: 510103 | C27: 203030 | D27: Alte cheltuieli cu bunuri si servicii | E27: 60000 | F27: 59963.43 | G27: =F27/E27 -> 0.9993905
A28: 24 | B28: 510103 | C28: 591100 | D28: Asociatii si fundatii | E28: 10000 | F28: 10000 | G28: =F28/E28 -> 1
A29: 25 | B29: 510103 | C29: 710101 | D29: Constructii | E29: 470000 | F29: 468930.72 | G29: =F29/E29 -> 0.99772494
A30: 26 | B30: 510103 | C30: 710102 | D30: Masini, echipamente si mijloace de transport | E30: 37000 | F30: 23634.44 | G30: =F30/E30 -> 0.63876865
A31: 27 | B31: 510103 | C31: 710103 | D31: Mobilier aparatura birotica si alte active corporale | E31: 0 | F31: 0 | G31: =F31/E31 -> #DIV/0!
A32: 28 | B32: 510103 | C32: 710130 | D32: Alte active fixe | E32: 140000 | F32: 17187.48 | G32: =F32/E32 -> 0.12276771
A33: 29 | B33: 510103 | C33: 850101 | D33: Plati efectuate in anii precedenti si recuperate in anul curent | E33: 0 | F33: -41513.12 | G33: =F33/E33 -> #DIV/0!
A34: 30 | B34: 545000 | C34: 200130 | D34: Alte bunuri si servicii pentru intretinere si functionare | E34: 1000 | F34: 719.2 | G34: =F34/E34 -> 0.7192
A35: 31 | B35: 545000 | C35: 203030 | D35: Alte cheltuieli cu bunuri si servicii | E35: 0 | F35: 0 | G35: =F35/E35 -> #DIV/0!
A36: 32 | B36: 615000 | C36: 200105 | D36: Carburanti si lubrifianti | E36: 5000 | F36: 2732.63 | G36: =F36/E36 -> 0.546526
A37: 33 | B37: 615000 | C37: 200106 | D37: Piese de schimb | E37: 7000 | F37: 0 | G37: =F37/E37 -> 0
A38: 34 | B38: 615000 | C38: 200109 | D38: Materiale si prestari de servicii cu caracter functional | E38: 10000 | F38: 5231.25 | G38: =F38/E38 -> 0.523125
A39: 35 | B39: 615000 | C39: 200130 | D39: Alte bunuri si servicii pentru intretinere si functionare | E39: 12000 | F39: 3000 | G39: =F39/E39 -> 0.25
A40: 36 | B40: 615000 | C40: 850101 | D40: Plati efectuate in anii precedenti si recuperate in anul curent | E40: 0 | F40: 0 | G40: =F40/E40 -> #DIV/0!
A41: 37 | B41: 650301 | C41: 710101 | D41: Constructii | E41: 210000 | F41: 0 | G41: =F41/E41 -> 0
A42: 38 | B42: 650301 | C42: 710130 | D42: Alte active fixe | E42: 253000 | F42: 205080 | G42: =F42/E42 -> 0.81059289
A43: 39 | B43: 650302 | C43: 610100 | D43: Fonduri din imprumut rambursabil | E43: 0 | F43: 0 | G43: =F43/E43 -> #DIV/0!
A44: 40 | B44: 650302 | C44: 610300 | D44: Sume aferente TVA | E44: 0 | F44: 0 | G44: =F44/E44 -> #DIV/0!
A45: 41 | B45: 650302 | C45: 710101 | D45: Constructii | E45: 410000 | F45: 0 | G45: =F45/E45 -> 0
A46: 42 | B46: 650302 | C46: 710103 | D46: Mobilier aparatura birotica si alte active corporale | E46: 0 | F46: 0 | G46: =F46/E46 -> #DIV/0!
A47: 43 | B47: 650302 | C47: 710130 | D47: Alte active fixe | E47: 25000 | F47: 3500 | G47: =F47/E47 -> 0.14
A48: 44 | B48: 650401 | C48: 200101 | D48: Furnituri de birou | E48: 45000 | F48: 44003.71 | G48: =F48/E48 -> 0.97786022
A49: 45 | B49: 650401 | C49: 200102 | D49: Materiale pentru curatenie | E49: 56000 | F49: 51840.73 | G49: =F49/E49 -> 0.92572732
A50: 46 | B50: 650401 | C50: 200103 | D50: Incalzit, Iluminat si forta motrica | E50: 179000 | F50: 158620.55 | G50: =F50/E50 -> 0.88614832
A51: 47 | B51: 650401 | C51: 200104 | D51: Apa, canal si salubritate | E51: 18000 | F51: 10594.62 | G51: =F51/E51 -> 0.58859
A52: 48 | B52: 650402 | C52: 200106 | D52: Piese de schimb | E52: 10000 | F52: 9912 | G52: =F52/E52 -> 0.9912
A53: 49 | B53: 650401 | C53: 200107 | D53: Transport | E53: 135000 | F53: 81318 | G53: =F53/E53 -> 0.60235556
A54: 50 | B54: 650401 | C54: 200108 | D54: Posta, telecomunicatii, radio, tv, internet | E54: 21000 | F54: 18435.41 | G54: =F54/E54 -> 0.87787667
A55: 51 | B55: 650401 | C55: 200109 | D55: Materiale si prestari de servicii cu caracter functional | E55: 72000 | F55: 61220.95 | G55: =F55/E55 -> 0.85029097
A56: 52 | B56: 650401 | C56: 200130 | D56: Alte bunuri si servicii pentru intretinere si functionare | E56: 100000 | F56: 90709.4 | G56: =F56/E56 -> 0.907094
A57: 53 | B57: 650401 | C57: 200200 | D57: Reparatii curente | E57: 155000 | F57: 136181.74 | G57: =F57/E57 -> 0.87859187
A58: 54 | B58: 650401 | C58: 200530 | D58: Alte obiecte de inventar | E58: 25000 | F58: 20537 | G58: =F58/E58 -> 0.82148
A59: 55 | B59: 650401 | C59: 200601 | D59: Deplasari, detasari, transferari | E59: 3000 | F59: 2993.9 | G59: =F59/E59 -> 0.99796667
A60: 56 | B60: 650401 | C60: 201300 | D60: Pregatire profesionala | E60: 9000 | F60: 8101.5 | G60: =F60/E60 -> 0.90016667
A61: 57 | B61: 650401 | C61: 570201 | D61: Ajutoare sociale in numerar-CES SCOALA | E61: 101000 | F61: 77775 | G61: =F61/E61 -> 0.7700495
A62: 58 | B62: 650401 | C62: 5901 | D62: Burse | E62: 0 | F62: 0 | G62: =F62/E62 -> #DIV/0!
A63: 59 | B63: 651300 | C63: 710130 | D63: Alte active fixe | E63: 10000 | F63: 0 | G63: =F63/E63 -> 0
A64: 60 | B64: 655000 | C64: 570203 | D64: Tichete de cresa si tichete sociale pentru gradinita-UAT | E64: 53000 | F64: 34580 | G64: =F64/E64 -> 0.65245283
A65: 61 | B65: 660800 | C65: 100101 | D65: Salarii de baza | E65: 118600 | F65: 69338 | G65: =F65/E65 -> 0.58463744
A66: 62 | B66: 660800 | C66: 100105 | D66: Sporuri pentru conditiide munca | E66: 6200 | F66: 3548 | G66: =F66/E66 -> 0.57225806
A67: 63 | B67: 660800 | C67: 100106 | D67: Alte sporuri | E67: 9300 | F67: 5342 | G67: =F67/E67 -> 0.5744086
A68: 64 | B68: 660800 | C68: 100117 | D68: Indemnizatii de hrana | E68: 7300 | F68: 3706 | G68: =F68/E68 -> 0.50767123
A69: 65 | B69: 660800 | C69: 100206 | D69: Vouchere de vacanta | E69: 1000 | F69: 800 | G69: =F69/E69 -> 0.8
A70: 66 | B70: 660800 | C70: 100307 | D70: Contributia asiguratorie pentru munca | E70: 3400 | F70: 1840 | G70: =F70/E70 -> 0.54117647
A71: 67 | B71: 660800 | C71: 200402 | D71: Materiale sanitare | E71: 1000 | F71: 280 | G71: =F71/E71 -> 0.28
A72: 67 | B72: 670302 | C72: 100101 | D72: Salarii de baza | E72: 40000 | F72: 0 | G72: =F72/E72 -> 0
A73: 68 | B73: 670302 | C73: 100117 | D73: Indemnizatii de hrana | E73: 3000 | F73: 0 | G73: =F73/E73 -> 0
A74: 69 | B74: 670302 | C74: 100206 | D74: Vouchere de vacanta | E74: 1000 | F74: 0 | G74: =F74/E74 -> 0
A75: 70 | B75: 670302 | C75: 100307 | D75: Contributia asiguratorie pentru munca | E75: 1000 | F75: 0 | G75: =F75/E75 -> 0
A76: 71 | B76: 670302 | C76: 200101 | D76: Furnituri de birou | E76: 0 | F76: 0 | G76: =F76/E76 -> #DIV/0!
A77: 72 | B77: 670302 | C77: 200102 | D77: Materiale pentru curatenie | E77: 0 | F77: 0 | G77: =F77/E77 -> #DIV/0!
A78: 73 | B78: 670302 | C78: 200601 | D78: Deplasari interne,detasari,transferari | E78: 0 | F78: 0 | G78: =F78/E78 -> #DIV/0!
A79: 74 | B79: 670302 | C79: 201100 | D79: Carti, publicatii si materiale documntare | E79: 0 | F79: 0 | G79: =F79/E79 -> #DIV/0!
A80: 75 | B80: 670302 | C80: 201300 | D80: Pregatire profesionala | E80: 0 | F80: 0 | G80: =F80/E80 -> #DIV/0!
A81: 76 | B81: 670303 | C81: 200103 | D81: Incalzit, Iluminat si forta motrica | E81: 22000 | F81: 9236.55 | G81: =F81/E81 -> 0.41984318
A82: 77 | B82: 670303 | C82: 200109 | D82: Materiale si prestari de servicii cu caracter functional | E82: 12000 | F82: 4104.75 | G82: =F82/E82 -> 0.3420625
A83: 78 | B83: 670303 | C83: 2002 | D83: Reparatii curente | E83: 0 | F83: 0 | G83: =F83/E83 -> #DIV/0!
A84: 79 | B84: 670307 | C84: 200103 | D84: Incalzit, Iluminat si forta motrica | E84: 85000 | F84: 37925.75 | G84: =F84/E84 -> 0.44618529
A85: 80 | B85: 670307 | C85: 200130 | D85: Alte bunuri si servicii pentru intretinere si functionare | E85: 24000 | F85: 69 | G85: =F85/E85 -> 0.002875
A86: 81 | B86: 670307 | C86: 200200 | D86: Reparatii curente | E86: 1000 | F86: 1000 | G86: =F86/E86 -> 1
A87: 82 | B87: 670307 | C87: 200530 | D87: Alte obiecte de inventar | E87: 0 | F87: 0 | G87: =F87/E87 -> #DIV/0!
A88: 83 | B88: 670307 | C88: 203030 | D88: Alte cheltuieli cu bunuri si servicii | E88: 0 | F88: 0 | G88: =F88/E88 -> #DIV/0!
A89: 84 | B89: 670307 | C89: 710101 | D89: Constructii | E89: 0 | F89: 0 | G89: =F89/E89 -> #DIV/0!
A90: 85 | B90: 670307 | C90: 710130 | D90: Alte active fixe | E90: 85000 | F90: 81039 | G90: =F90/E90 -> 0.9534
A91: 86 | B91: 670501 | C91: 200109 | D91: Materiale si prestari de servicii cu caracter functional | E91: 42000 | F91: 23186.7 | G91: =F91/E91 -> 0.55206429
A92: 87 | B92: 670501 | C92: 200130 | D92: Alte bunuri si servicii pentru intretinere si functionare | E92: 55000 | F92: 38226 | G92: =F92/E92 -> 0.69501818
A93: 88 | B93: 670501 | C93: 200200 | D93: Reparatii curente | E93: 0 | F93: 0 | G93: =F93/E93 -> #DIV/0!
A94: 89 | B94: 670501 | C94: 200530 | D94: Alte obiecte de inventar | E94: 0 | F94: 0 | G94: =F94/E94 -> #DIV/0!
A95: 90 | B95: 670501 | C95: 203030 | D95: Alte cheltuieli cu bunuri si servicii | E95: 0 | F95: 0 | G95: =F95/E95 -> #DIV/0!
A96: 91 | B96: 670501 | C96: 710101 | D96: Constructii | E96: 0 | F96: 0 | G96: =F96/E96 -> #DIV/0!
A97: 92 | B97: 670501 | C97: 710130 | D97: Alte active fixe | E97: 0 | F97: 0 | G97: =F97/E97 -> #DIV/0!
B98: 670501 | C98: 850102 | D98: Sport-Plati efectuate in anii precedenti si recuperate in anul curent in SD | E98: 0 | F98: 0 | G98: =F98/E98 -> #DIV/0!
A99: 93 | B99: 670600 | C99: 591200 | D99: Sustinerea cultelor | E99: 100000 | F99: 24598.8 | G99: =F99/E99 -> 0.245988
A100: 94 | B100: 670600 | C100: 710101 | D100: Constructii | E100: 0 | F100: 0 | G100: =F100/E100 -> #DIV/0! | I100: ,
A101: 95 | B101: 670600 | C101: 710130 | D101: Alte active fixe | E101: 0 | F101: 0 | G101: =F101/E101 -> #DIV/0!
...

Sheet indicatori
B1: PRIMARIA COMUNEI I.L.CARAGIALE | F1: ANEXA 7
C3: Indicatorii executiei bugetului local pe trim.IV 2025
A4: VENITURI
A5: Nr. | B5: Indicatori sinteza | C5: Formula de calcul | D5: Sume | E5: Procent | F5: Perioada
A6: crt.
A7: 1 | B7: Gradul de realizare a veniturilor | C7: Venituri total incasate (t21)(venituri totale -40.11-40.14) | D7: ='VENITURI TOTALE'!E48 -> 16915914 | E7: =D7/D8*100 -> 111.68421 | F7: Trimestrial
C8: Venituri totale programate(venituri totale buget/prevedere) | D8: ='VENITURI TOTALE'!D48 -> 15146200
A9: 2 | B9: Gradul de realizare a veniturilor proprii | C9: Venituri proprii incasate (Vp= t21-alte venituri (TVA, subventii) | D9: ='VENITURI TOTALE'!E48-'venituri functionare'!E28-'venituri functionare'!E62 -> 12759449 | E9: =D9/D10*100 -> 131.92151 | F9: Trimestrial
C10: Venituri proprii programate | D10: ='venituri functionare'!D11+'venituri functionare'!D13+'venituri functionare'!D17+'venituri functionare'!D31+'venituri functionare'!D37+'venituri functionare'!D40+'venituri functionare'!D45+'venituri functionare'!D48+'venituri functionare'!D51+'venituri functionare'!D55 -> 9672000
A11: 3 | B11: Gradul de finantare din venituri proprii | C11: Venituri proprii incasate (Vp= t21-alte venituri (TVA, subventii) | D11: ='VENITURI TOTALE'!E48-'venituri functionare'!E28-'venituri functionare'!E62 -> 12759449 | E11: =D11/D12*100 -> 75.42867 | F11: Trimestrial
C12: Venituri total incasate (t21) | D12: ='VENITURI TOTALE'!E48 -> 16915914
A13: 4 | B13: Gradul de autofinantare | C13: Venituri proprii incasate (exclusiv cote) (Vpec=Vp-cote defalcate) | D13: =D11-'venituri functionare'!E13 -> 4983213.4 | E13: =D13/D14*100 -> 29.45873 | F13: Trimestrial
C14: Venituri totale incasate (t21) | D14: ='VENITURI TOTALE'!E48 -> 16915914
A15: 5 | B15: Venituri proprii incasate per capita | C15: Venituri proprii incasate(Vp= t21-alte venituri (TVA, subventii) | E15: =#DIV/0! -> #DIV/0! | F15: Anual
C16: Numar de locuitori
A17: 6 | B17: Gradul de realizare a impozitelor pe proprietate | C17: Venituri din impozite pe proprietate incasate | E17: =#DIV/0! -> #DIV/0! | F17: Anual
C18: (Vip = 070201+070202+160202)
C19: Venituri din impozite pe proprietate programate
A20: 7 | B20: Gradul de dependenta al bugetului local fata de bugetul de stat | C20: Incasari din surse primite de la bugetul de stat | E20: =D20/D22*100 -> #DIV/0! | F20: Anual
C21: (Sbs = 0402+1102+4202+4302)
C22: Venituri totale incasate(t21)
A23: 8 | B23: Gradul de autonomie decizionala | C23: Venituri depersonalizate incasate (Vp+110206) | D23: =D9+'venituri functionare'!E30 -> 12759449 | E23: =D23/D24*100 -> 75.42867 | F23: Trimestrial
C24: Venituri totale incasate(t21)(venit totale -40.11-40.14) | D24: ='VENITURI TOTALE'!E48 -> 16915914
A25: 9 | B25: Estimatul anual din venituri fiscale
A26: a) | B26: Coeficient de realizare a veniturilor fiscale in anul anterior (se calculeaza trimestrial) | C26: Venituri fiscale cumulate an anterior (trim.I,II,III) | D26: 1168180.7 | E26: =D26/D27 -> 0.87728545 | F26: An anterior 2010
C27: Total venituri fiscale an anterior | D27: 1331585.6
A28: b) | B28: Estimatul anual din venituri fiscale | C28: Venituri fiscale cumulate an de calcul (trim.I,II,III) | D28: 1307965.5 | E28: =D28/D29 -> 1486324.4 | F28: An curent (2011)
C29: Coeficient | D29: 0.88
A32: CHELTUIELI
A33: Nr.crt. | B33: Indicatori sinteza | C33: Formula de calcul | D33: Sume | E33: Procent | F33: Perioada
A34: 1 | B34: Rigiditatea cheltuielilor | C34: Plati aferente cheltuielilor de personal | E34: =D34/D36*100 -> #DIV/0! | F34: Anual
C35: (total titlul 10)
C36: Total plati (t24)
A37: 2 | B37: Ponderea sectiunii de functionare | C37: Plati aferente sectiunii de functionare (t24f) | D37: ='cheltuieli functionare'!E6 -> 11859588 | E37: =D37/D38*100 -> 82.531078 | F37: Trimestrial
C38: Total plati (t24) | D38: ='CHELTUIELI TOTALE'!F144 -> 14369845
A39: 3 | B39: Ponderea sectiunii de dezvoltare | C39: Plati aferente sectiunii de dezvoltare (t24d) | D39: ='cheltuieli dezvoltare'!E6 -> 2510257 | E39: =D39/D40*100 -> 17.468922 | F39: Trimestrial
C40: Total plati (t24) | D40: ='CHELTUIELI TOTALE'!F144 -> 14369845
A41: 4 | B41: Ponderea serviciului datoriei publice | C41: Serviciul datoriei publice locale | D41: 0 | E41: =D41/D42*100 -> 0 | F41: Anual
C42: Total plati (t24) | D42: ='CHELTUIELI TOTALE'!F144 -> 14369845
A43: 5 | B43: Excedent /Deficit –sectiune functionare | C43: Venituri incasate-(plati efectuate+plati restante) | D43: ='venituri functionare'!E6-'cheltuieli functionare'!E6 -> 2534099.7 | F43: Trimestrial
A44: 6 | B44: Excedent /Deficit –sectiune dezvoltare | C44: Venituri incasate-(plati efectuate+plati restante) | D44: ='venituri dezvoltare'!E6-'cheltuieli dezvoltare'!E6 -> 11968.88 | F44: Trimestrial
B47: PRIMAR, | E47: CONSILIER SUPERIOR
E48: COMP.BUGET CONTABILITATE,
B49: NASTASE ADRIAN | E49: TITA ANNE-MARIE
