Workbook

Sheet venituri functionare
F1: ANEXA 3
C2: VENITURI ALE SECTIUNII DE FUNCTIONARE
A4: NR. CRT. | B4: DENUMIRE CONT | C4: COD INDICATOR | D4: Prevazut | E4: Realizat | F4: %
D5: la 31.12.2022 | E5: La 31.12.2022
A6: TOTAL VENITURI SECTIUNEA DE FUNCTIONARE | C6: 0.01 | D6: =D7+D58 -> 11193000 | E6: =E7+E58 -> 11915736 | F6: =E6/D6 -> 1.0645703
A7: I. | B7: VENITURI CURENTE | C7: 0.02 | D7: =D8+D39 -> 10751000 | E7: =E8+E39 -> 11473760 | F7: =E7/D7 -> 1.0672272
A8: A. | B8: VENITURI FISCALE | C8: 0.03 | D8: =D9+D17+D27+D37 -> 11085000 | E8: =E9+E17+E27+E37 -> 10981067 | F8: =E8/D8 -> 0.99062404
A9: A.1. | B9: IMPOZIT PE VENIT, PROFIT SI CASTIGURI DIN CAPITAL | C9: 0.04 | D9: =D10 -> 5449000 | E9: =E10 -> 5442130.4 | F9: =E9/D9 -> 0.9987393
A10: A.1.2 | B10: IMPOZIT PE VENIT, PROFIT SI CASTIGURI DIN CAPITAL DE LA PERSOANE FIZICE | C10: 03.00.02 | D10: =D11+D13 -> 5449000 | E10: =E11+E13 -> 5442130.4 | F10: =E10/D10 -> 0.9987393
B11: IMPOZIT PE VENIT | C11: 3.02 | D11: =D12 -> 10000 | E11: =E12 -> 5585.5 | F11: =E11/D11 -> 0.55855
B12: Impozitul pe veniturile din transferul proprietatilor imobiliare din patrimoniul personal | C12: 03.02.18 | D12: 10000 | E12: 5585.5 | F12: =E12/D12 -> 0.55855
B13: COTE SI SUME DEFALCATE DIN IMPOZITUL PE VENIT | C13: 4.02 | D13: =D14+D15+D16 -> 5439000 | E13: =E14+E15+E16 -> 5436544.9 | F13: =E13/D13 -> 0.99954862
B14: Cote si sume defalcate din impozitul pe venit | C14: 04.02.01 | D14: 4830000 | E14: 4829652.9 | F14: =E14/D14 -> 0.99992814
B15: Sume alocate din cotele defalcate din impozitul pe venit pentru echilibrarea bugetelor locale | C15: 04.02.04 | D15: 163000 | E15: 160892 | F15: =E15/D15 -> 0.98706748
B16: Sume repartizate din Fondul la dispozitia Consiliului Judetean | C16: 04 02 05 | D16: 446000 | E16: 446000 | F16: =E16/D16 -> 1
A17: A.3. | B17: IMPOZITE SI TAXE PE PROPRIETATE | C17: 7.02 | D17: =D18+D21+D25+D26 -> 670000 | E17: =E18+E21+E25+E26 -> 640707.34 | F17: =E17/D17 -> 0.95627961
B18: Impozit si taxa pe cladiri | C18: 07.02.01 | D18: =D19+D20 -> 360000 | E18: =E19+E20 -> 362522.31 | F18: =E18/D18 -> 1.0070064
B19: Impozit pe cladiri de la persoane fizice | C19: 07.02.01.01 | D19: 140000 | E19: 152123.31 | F19: =E19/D19 -> 1.0865951
B20: Impozit si taxa pe cladiri de la persoane juridice | C20: 07.02.01.02 | D20: 220000 | E20: 210399 | F20: =E20/D20 -> 0.95635909
B21: Impozit si taxa pe teren | C21: 07.02.02 | D21: =D22+D23+D24 -> 269000 | E21: =E22+E23+E24 -> 232088.03 | F21: =E21/D21 -> 0.86278078
B22: Impozit pe terenuri de la persoane fizice | C22: 07.02.02.01 | D22: 112000 | E22: 121969.2 | F22: =E22/D22 -> 1.0890107
B23: Impozit si taxa pe teren de la persoane juridice | C23: 07.02.02.02 | D23: 58000 | E23: 30629 | F23: =E23/D23 -> 0.52808621
B24: Impozitul pe terenul extravilan | C24: 07.02.02.03 | D24: 99000 | E24: 79489.83 | F24: =E24/D24 -> 0.80292758
B25: Taxe judiciare de timbru si alte taxe de timbru | C25: 07.02.03 | D25: 15000 | E25: 18462 | F25: =E25/D25 -> 1.2308
B26: Alte impozite si taxe pe proprietate | C26: 07.02.50 | D26: 26000 | E26: 27635 | F26: =E26/D26 -> 1.0628846
A27: A.4. | B27: IMPOZITE SI TAXE PE BUNURI SI SERVICII | C27: 10.02 | D27: =D28+D31 -> 4962000 | E27: =E28+E31 -> 4895237.7 | F27: =E27/D27 -> 0.98654529
B28: SUME DEFALCATE DIN TVA | C28: 11.02 | D28: =D29+D30 -> 4606000 | E28: =E29+E30 -> 4487572.6 | F28: =E28/D28 -> 0.97428845
B29: Sume defalcate din TVA pt. finantarea cheltuielilor descentralizate la niveul comunelor | C29: 11.02.02 | D29: 3745000 | E29: 3628794.6 | F29: =E29/D29 -> 0.96897052
B30: Sume defalcate din TVA pt. echilibrarea bugetelor locale | C30: 11.02.06 | D30: 861000 | E30: 858778 | F30: =E30/D30 -> 0.99741928
B31: TAXE PE UTILIZ. BUNURILOR, AUTORIZ.UTILIZ.BUNURILOR SAU PE DESF.DE ACTIV. | C31: 16.02 | D31: =D32+D35+D36 -> 356000 | E31: =E32+E35+E36 -> 407665.12 | F31: =E31/D31 -> 1.1451267
B32: Impozit pe mijloacele de transport | C32: 16.02.02 | D32: =D33+D34 -> 352000 | E32: =E33+E34 -> 390428.62 | F32: =E32/D32 -> 1.1091722
B33: Impozit pe mijloacele de transport detinute de persoane fizice | C33: 16.02.02.01 | D33: 292000 | E33: 335536.62 | F33: =E33/D33 -> 1.149098
B34: Impozit pe mijloacele de transport detinute de persoane juridice | C34: 16.02.02.02 | D34: 60000 | E34: 54892 | F34: =E34/D34 -> 0.91486667
B35: Taxe si tarife pentru eliberarea de licente si autorizatii de functionare | C35: 16.02.03 | D35: 1000 | E35: 13742.5 | F35: =E35/D35 -> 13.7425
B36: Alte taxe pe utiliz.bunurilor, autorizarea utiliz.bunurilor sau pe desfasurare de activitati | C36: 16.02.50 | D36: 3000 | E36: 3494 | F36: =E36/D36 -> 1.1646667
A37: A.6. | B37: ALTE IMPOZITE SI TAXE FISCALE | C37: 18.02 | D37: =D38 -> 4000 | E37: =E38 -> 2992 | F37: =E37/D37 -> 0.748
B38: Alte impozite si taxe | C38: 18.02.50 | D38: 4000 | E38: 2992 | F38: =E38/D38 -> 0.748
A39: C. | B39: VENITURI NEFISCALE | C39: 29.00.02 | D39: =D40+D43 -> -334000 | E39: =E40+E43 -> 492692.1 | F39: =E39/D39 -> -1.475126
A40: C.1. | B40: VENITURI DIN PROPRIETATE | C40: 30.00.02 | D40: =D41 -> 49000 | E40: =E41 -> 145776.11 | F40: =E40/D40 -> 2.9750227
B41: Venituri din concesiuni si inchirieri | C41: 30.02.05 | D41: =D42 -> 49000 | E41: =E42 -> 145776.11 | F41: =E41/D41 -> 2.9750227
...

Sheet cheltuieli functionare
F1: ANEXA 4
C2: CHELTUIELI ALE SECTIUNII DE FUNCTIONARE
A4: NR. CRT. | B4: DENUMIRE CONT | C4: COD INDICATOR | D4: PREVAZUT LA | E4: REALIZAT LA | F4: %
D5: 44926 | E5: 44926
A6: TOTAL | C6: 50.02 | D6: =D7+D11+D13+D17+D19+D23+D26+D28+D31 -> 11193000 | E6: =E7+E11+E13+E17+E19+E23+E26+E28+E31 -> 8582822.3 | F6: =E6/D6 -> 0.76680267
A7: 1 | B7: AUTORITATI PUBLICE SI ACTIUNI EXTERNE | C7: 51.02 | D7: =D8+D9+D10 -> 4254000 | E7: =E8+E9+E10 -> 3237498.9 | F7: =E7/D7 -> 0.76104816
B8: Cheltuieli de personal | C8: 51.02.10 | D8: 3041000 | E8: 2410736 | F8: =E8/D8 -> 0.79274449
B9: Bunuri si servicii | C9: 51.02.20 | D9: 1213000 | E9: 866054.89 | F9: =E9/D9 -> 0.71397765
B10: Plati efectuate in anii precedenti si recuperate in anul curent | C10: 51.02.85 | D10: 0 | E10: -39292 | F10: -
A11: 2 | B11: ORDINE PUBLICA SI SIGURANTA NATIONALA | C11: 61.02 | D11: =D12 -> 24000 | E11: =E12 -> 9135.58 | F11: =E11/D11 -> 0.38064917
B12: Bunuri si servicii | C12: 61.02.20 | D12: 24000 | E12: 9135.58 | F12: =E12/D12 -> 0.38064917
A13: 3 | B13: INVATAMANT | C13: 65.02 | D13: =D14+D15+D16 -> 1834000 | E13: =E14+E15+E16 -> 1530186.1 | F13: =E13/D13 -> 0.83434358
B14: Bunuri si servicii | C14: 65.02.20 | D14: 557000 | E14: 556791.13 | F14: =E14/D14 -> 0.99962501
B15: Asistenta sociala | C15: 65.02.57 | D15: 110000 | E15: 106900 | F15: =E15/D15 -> 0.97181818
B16: Burse scolare | C16: 65.02.59 | D16: 1167000 | E16: 866495 | F16: =E16/D16 -> 0.74249786
A17: 4 | B17: SANATATE | C17: 66.02 | D17: =D18 -> 134200 | E17: =E18 -> 67646 | F17: =E17/D17 -> 0.50406855
B18: Cheltuieli de personal | C18: 66.02.10 | D18: 134200 | E18: 67646 | F18: =E18/D18 -> 0.50406855
A19: 5 | B19: CULTURA, RECREERE SI RELIGIE | C19: 67.02 | D19: =D20+D21+D22 -> 475000 | E19: =E20+E21+E22 -> 203155.79 | F19: =E19/D19 -> 0.4276964
B20: Cheltuieli de personal | C20: 67.02.10 | D20: 65000 | E20: 29046 | F20: =E20/D20 -> 0.44686154
B21: Bunuri si servicii | C21: 67.02.20 | D21: 210000 | E21: 62076.56 | F21: =E21/D21 -> 0.29560267
B22: Alte cheltuieli | C22: 67.02.59 | D22: 200000 | E22: 112033.23 | F22: =E22/D22 -> 0.56016615
A23: 6 | B23: ASIGURARI SI ASISTENTA SOCIALA | C23: 68.02 | D23: =D24+D25 -> 3737800 | E23: =E24+E25 -> 3074466.5 | F23: =E23/D23 -> 0.82253371
B24: Cheltuieli de personal | C24: 68.02.10 | D24: 1430000 | E24: 1136696.5 | F24: =E24/D24 -> 0.79489266
B25: Ajutoare sociale in numerar | C25: 68.02.57 | D25: 2307800 | E25: 1937770 | F25: =E25/D25 -> 0.83966115
A26: 7 | B26: LOCUINTE, SERVICII SI DEZVOLTARE PUBLICA | C26: 70.02 | D26: =D27 -> 480000 | E26: =E27 -> 296026.94 | F26: =E26/D26 -> 0.61672279
B27: Bunuri si servicii | C27: 70.02.20 | D27: 480000 | E27: 296026.94 | F27: =E27/D27 -> 0.61672279
A28: 8 | B28: PROTECTIA MEDIULUI | C28: 74.02 | D28: =D29+D30 -> 126000 | E28: =E29+E30 -> 116030.73 | F28: =E28/D28 -> 0.92087881
B29: Bunuri si servicii | C29: 74.02.20 | D29: 70000 | E29: 60710.73 | F29: =E29/D29 -> 0.86729614
B30: Asociatii si fundatii | C30: 74.02.59 | D30: 56000 | E30: 55320 | F30: =E30/D30 -> 0.98785714
A31: 9 | B31: TRANSPORTURI | C31: 84.02 | D31: =D32 -> 128000 | E31: =E32 -> 48675.75 | F31: =E31/D31 -> 0.3802793
B32: Bunuri si servicii | C32: 84.02.20 | D32: 128000 | E32: 48675.75 | F32: =E32/D32 -> 0.3802793
B33: EXCEDENT / DEFICIT | C33: - | E33: ='venituri functionare'!E6-'cheltuieli functionare'!E6 -> 3332913.3
B36: PRIMAR, | E36: CONSILIER SUPERIOR
E37: COMP.BUGET CONTABILITATE,
B38: NASTASE ADRIAN | D38: OLARU ELENA-CARMEN

Sheet venituri dezvoltare
F1: ANEXA 5
C2: VENITURI ALE SECTIUNII DE DEZVOLTARE
A4: NR. CRT. | B4: DENUMIRE CONT | C4: COD INDICATOR | D4: Prevazut la | E4: Realizat la 31.12.2022 | F4: %
D5: 44926
A6: TOTAL | D6: =D7+D10 -> 696000 | E6: =E9 -> 7912 | F6: =E6/D6 -> 0.011367816
A7: I | B7: TRANSFERURI VOLUNTARE ,ALTELE DECAT SUBVENTIILE | D7: =D8 -> 696000 | E7: =E8 -> 0 | F7: =E7/D7 -> 0
B8: Varsaminte din sectiunea de functionare | C8: 37.02.04 | D8: 696000 | E8: 0 | F8: =E8/D8 -> 0
A9: II | B9: VENITURI DIN CAPITAL | D9: =D10 -> 0 | E9: =E10 -> 7912 | F9: 0
B10: VENITURI DIN VALORIFICAREA UNOR BUNURI | C10: 39.02 | D10: =D11 -> 0 | E10: =E11 -> 7912 | F10: 0
B11: Venituri din vanzarea locuintelor construite din fondurile statului | C11: 39.02.03 | D11: 0 | E11: 7912 | F11: 0
B14: PRIMAR, | E14: CONSILIER SUPERIOR
E15: COMP.BUGET CONTABILITATE,
B16: NASTASE ADRIAN | E16: OLARU ELENA-CARMEN
A22: ='venituri functionare'!E6+'venituri dezvoltare'!E6 -> 11923648

Sheet cheltuieli dezvoltare
F1: ANEXA 6
C2: CHELTUIELI ALE SECTIUNII DE DEZVOLTARE
A4: NR. CRT. | B4: DENUMIRE CONT | C4: COD INDICATOR | D4: Prevazut la | E4: Realizat la | F4: %
D5: 44926 | E5: 44926
A6: TOTAL | D6: =D7+D11+D15+D18+D22+D29 -> 7171000 | E6: =E7+E11+E15+E18+E22+E29 -> 1577374.8 | F6: =E6/D6 -> 0.2199658
A7: 1 | B7: AUTORITATI PUBLICE SI ACTIUNI EXTERNE | C7: 51.02 | D7: =D8 -> 145000 | E7: =E8 -> 134043.43 | F7: =E7/D7 -> 0.92443745
B8: ACTIVE FIXE | C8: 51.02.71.01 | D8: =D9+D10 -> 145000 | E8: =E9+E10 -> 134043.43 | F8: =E8/D8 -> 0.92443745
B9: Constructii | C9: 51.02.71.01.01 | D9: 10000 | E9: 0 | F9: =E9/D9 -> 0
B10: Alte active fixe | C10: 51.02.71.01.30 | D10: 135000 | E10: 134043.43 | F10: =E10/D10 -> 0.9929143
A11: 2 | B11: INVATAMANT | C11: 65.02 | D11: =D12 -> 700000 | E11: =E12 -> 323093.3 | F11: =E11/D11 -> 0.46156186
B12: ACTIVE FIXE | C12: 65.02.71 | D12: =D13+D14 -> 700000 | E12: =E13+E14 -> 323093.3 | F12: =E12/D12 -> 0.46156186
B13: Constructii | C13: 65.02.71.01.01 | D13: 575000 | E13: 293333.3 | F13: =E13/D13 -> 0.51014487
B14: Alte active fixe | C14: 65.02.71.01.30 | D14: 125000 | E14: 29760 | F14: =E14/D14 -> 0.23808
A15: 3 | B15: CULTURA, RECREERE, RELIGIE | C15: 67.02 | D15: =D16 -> 0 | E15: =E16 -> 0 | F15: =E15/D15 -> #DIV/0!
B16: ACTIVE FIXE | C16: 67.02.71 | D16: =D17 -> 0 | E16: =E17 -> 0 | F16: =E16/D16 -> #DIV/0!
B17: Alte active fixe | C17: 67.02.71.01.30 | F17: =E17/D17 -> #DIV/0!
A18: 4 | B18: LOCUINTE, SERVICII SI DEZVOLTARE | C18: 70.02 | D18: =D19 -> 1121000 | E18: =E19 -> 100198 | F18: =E18/D18 -> 0.089382694
B19: ACTIVE FIXE | C19: 70.02.71 | D19: =D21+D20 -> 1121000 | E19: =E21+E20 -> 100198 | F19: =E19/D19 -> 0.089382694
B20: Constructii | C20: 70.02 71.01.01 | D20: 990000 | E20: 0 | F20: =E20/D20 -> 0
B21: Alte active fixe | C21: 70.02.71.01.30 | D21: 131000 | E21: 100198 | F21: =E21/D21 -> 0.76487023
A22: 5 | B22: PROTECTIA MEDIULUI | C22: 74.02 | D22: =D23+D26 -> 4041000 | E22: =E23+E26 -> 244975.74 | F22: =E22/D22 -> 0.060622554
B23: PROIECTE CU FINANTARE DIN FONDURI EXTERNE NERAMBURSABILE CADRULUI FINANCIAR 2014-2020 | C23: 74.02.58 | D23: =D24 -> 2280500 | E23: =E24 -> 0 | F23: =E23/D23 -> 0
B24: Programe din Fondul European Agricol de Dezvoltare Rurala (FEADR) | C24: 74.02.58.04 | D24: =D25 -> 2280500 | E24: =E25 -> 0 | F24: =E24/D24 -> 0
B25: Finantarea externa nerambursabila | C25: 74.05.58.04.02 | D25: 2280500 | E25: 0 | F25: =E25/D25 -> 0
B26: ACTIVE FIXE | C26: 74.02.71.01 | D26: =D27+D28 -> 1760500 | E26: =E27+E28 -> 244975.74 | F26: =E26/D26 -> 0.13915123
B27: Constructii | C27: 74.02.71.01.01 | D27: 1345000 | E27: 121522 | F27: =E27/D27 -> 0.090350929
B28: Alte active fixe | C28: 74.02.71.01.30 | D28: 415500 | E28: 123453.74 | F28: =E28/D28 -> 0.29712091
A29: 6 | B29: TRANSPORTURI | C29: 84.02 | D29: =D30 -> 1164000 | E29: =E30 -> 775064.31 | F29: =E29/D29 -> 0.66586281
B30: ACTIVE FIXE | C30: 84.02.71.01 | D30: =D31+D32 -> 1164000 | E30: =E31+E32 -> 775064.31 | F30: =E30/D30 -> 0.66586281
B31: Constructii | C31: 84.02.71.01.01 | D31: 834000 | E31: 730613.32 | F31: =E31/D31 -> 0.87603516
B32: Alte active fixe | C32: 84.02.71.01.30 | D32: 330000 | E32: 44450.99 | F32: =E32/D32 -> 0.13469997
B33: EXCEDENT / DEFICIT | E33: ='venituri dezvoltare'!E6-'cheltuieli dezvoltare'!E6 -> -1569462.8
B36: PRIMAR, | D36: CONSILIER SUPERIOR
D37: COMP.BUGET CONTABILITATE,
B38: NASTASE ADRIAN | E38: OLARU ELENA-CARMEN
A39: =E6+'cheltuieli functionare'!E6 -> 10160197
A40: =E33+'cheltuieli functionare'!E33 -> 1763450.5

Sheet VENITURI TOTALE
F1: ANEXA 1
C2: VENITURI TOTALE LA 31.12.2022
A4: NR. CRT. | B4: CLASIFICATIE BUGETARA | C4: DENUMIRE | D4: PREVEDERE BUGETARA | E4: EXECUTIE | F4: %
A5: 1 | B5: 031800 | C5: Impozitul pe veniturile din transferul proprietatilor imobiliare din patrimoniul personal | D5: ='venituri functionare'!D12 -> 10000 | E5: ='venituri functionare'!E12 -> 5585.5 | F5: =E5/D5 -> 0.55855
A6: 2 | B6: 040100 | C6: Cote defalcate din impozitul pe venit(se scad) | D6: ='venituri functionare'!D14 -> 4830000 | E6: ='venituri functionare'!E14 -> 4829652.9 | F6: =E6/D6 -> 0.99992814
A7: 3 | B7: 040400 | C7: Sume alocate din cotele defalcate din impozitul pe venit pentru echilibrarea bugetelor locale | D7: ='venituri functionare'!D15 -> 163000 | E7: ='venituri functionare'!E15 -> 160892 | F7: =E7/D7 -> 0.98706748
A8: 4 | B8: 04 05 00 | C8: Sume repartizate din Fondul la dispozitia Consiliului Judetean | D8: ='venituri functionare'!D16 -> 446000 | E8: ='venituri functionare'!E16 -> 446000 | F8: =E8/D8 -> 1
A9: 5 | B9: 070101 | C9: Impozit pe cladiri de la persoane fizice | D9: ='venituri functionare'!D19 -> 140000 | E9: ='venituri functionare'!E19 -> 152123.31 | F9: =E9/D9 -> 1.0865951
A10: 6 | B10: 070102 | C10: Impozit si taxa pe cladiri de la persoane juridice | D10: ='venituri functionare'!D20 -> 220000 | E10: ='venituri functionare'!E20 -> 210399 | F10: =E10/D10 -> 0.95635909
A11: 7 | B11: 070201 | C11: Impozit pe terenuri de la persoane fizice | D11: ='venituri functionare'!D22 -> 112000 | E11: ='venituri functionare'!E22 -> 121969.2 | F11: =E11/D11 -> 1.0890107
A12: 8 | B12: 070202 | C12: Impozit si taxa pe teren de la persoane juridice | D12: ='venituri functionare'!D23 -> 58000 | E12: ='venituri functionare'!E23 -> 30629 | F12: =E12/D12 -> 0.52808621
A13: 9 | B13: 070203 | C13: Impozit pe terenul din extravilan | D13: ='venituri functionare'!D24 -> 99000 | E13: ='venituri functionare'!E24 -> 79489.83 | F13: =E13/D13 -> 0.80292758
A14: 10 | B14: 070300 | C14: Taxe judiciare de timbru si alte taxe de timbru | D14: ='venituri functionare'!D25 -> 15000 | E14: ='venituri functionare'!E25 -> 18462 | F14: =E14/D14 -> 1.2308
A15: 11 | B15: 075000 | C15: Alte impozite si taxe pe proprietate | D15: ='venituri functionare'!D26 -> 26000 | E15: ='venituri functionare'!E26 -> 27635 | F15: =E15/D15 -> 1.0628846
A16: 12 | B16: 110200 | C16: Sume defalcate din taxa pe valoarea adaugata pentru finantarea cheltuielilor descentralizate la nivelul comunelor, oraselor, municipiilor, sectoarelor si Municipiului Bucuresti | D16: ='venituri functionare'!D29 -> 3745000 | E16: ='venituri functionare'!E29 -> 3628794.6 | F16: =E16/D16 -> 0.96897052
A17: 13 | B17: 110600 | C17: Sume defalcate din taxa pe valoarea adaugata pentru echilibrarea bugetelor locale | D17: ='venituri functionare'!D30 -> 861000 | E17: ='venituri functionare'!E30 -> 858778 | F17: =E17/D17 -> 0.99741928
A18: 14 | B18: 160201 | C18: Impozit pe mijloacele de transport detinute de persoane fizice | D18: ='venituri functionare'!D33 -> 292000 | E18: ='venituri functionare'!E33 -> 335536.62 | F18: =E18/D18 -> 1.149098
A19: 15 | B19: 160202 | C19: Impozit pe mijloacele de transport detinute de persoane juridice | D19: ='venituri functionare'!D34 -> 60000 | E19: ='venituri functionare'!E34 -> 54892 | F19: =E19/D19 -> 0.91486667
A20: 16 | B20: 160300 | C20: Taxe si tarife pentru eliberarea de licente si autorizatii de functionare | D20: ='venituri functionare'!D35 -> 1000 | E20: ='venituri functionare'!E35 -> 13742.5 | F20: =E20/D20 -> 13.7425
A21: 17 | B21: 165000 | C21: Alte taxe pe utilizarea bunurilor, autorizarea utilizarii bunurilor sau pe desfasurare de activitati | D21: ='venituri functionare'!D36 -> 3000 | E21: ='venituri functionare'!E36 -> 3494 | F21: =E21/D21 -> 1.1646667
A22: 18 | B22: 185000 | C22: Alte impozite si taxe | D22: ='venituri functionare'!D38 -> 4000 | E22: ='venituri functionare'!E38 -> 2992 | F22: =E22/D22 -> 0.748
A23: 19 | B23: 300530 | C23: Alte venituri din concesiuni si inchirieri de catre institutiile publice | D23: ='venituri functionare'!D42 -> 49000 | E23: ='venituri functionare'!E42 -> 145776.11 | F23: =E23/D23 -> 2.9750227
A24: 20 | B24: 330800 | C24: Venituri din prestari de servicii | D24: ='venituri functionare'!D45 -> 3000 | E24: ='venituri functionare'!E45 -> 2656 | F24: =E24/D24 -> 0.88533333
A25: 21 | B25: 332800 | C25: Venituri din recuperarea cheltuielilor de judecata, imputatii si despagubiri | D25: ='venituri functionare'!D46 -> 3000 | E25: ='venituri functionare'!E46 -> 896.69 | F25: =E25/D25 -> 0.29889667
A26: 22 | B26: 340200 | C26: Taxe extrajudiciare de timbru | D26: ='venituri functionare'!D48 -> 14000 | E26: ='venituri functionare'!E48 -> 10788.79 | F26: =E26/D26 -> 0.77062786
A27: 23 | B27: 350102 | C27: Venituri din amenzi si alte sanctiuni aplicate de catre alte institutii de specialitate | D27: ='venituri functionare'!D51 -> 208000 | E27: ='venituri functionare'!E51 -> 177085.34 | F27: =E27/D27 -> 0.85137183
A28: 24 | B28: 355000 | C28: Alte amenzi, penalitati si confiscari | D28: ='venituri functionare'!D52 -> 36000 | E28: ='venituri functionare'!E52 -> 57586.98 | F28: =E28/D28 -> 1.5996383
A29: 25 | B29: 360600 | C29: Taxe speciale | D29: ='venituri functionare'!D54 -> 7000 | E29: ='venituri functionare'!E54 -> 49329.19 | F29: =E29/D29 -> 7.0470271
A30: 26 | B30: 365000 | C30: Alte venituri | D30: ='venituri functionare'!D55 -> 42000 | E30: ='venituri functionare'!E55 -> 48573 | F30: =E30/D30 -> 1.1565
A31: 27 | B31: 370203 | C31: Varsaminte din sectiunea de functionare pentru finantarea sectiunii de dezvoltare a bugetului local | D31: ='venituri functionare'!D57 -> -696000 | E31: ='venituri functionare'!E57 -> 0 | F31: =E31/D31 -> 0
A32: 28 | B32: 370204 | C32: Varsaminte din sectiunea de functionare | D32: 696000 | E32: 0 | F32: =E32/D32 -> 0
A33: 29 | B33: 390300 | C33: Venituri din vanzarea locuintelor construite din fondurile statului | D33: 0 | E33: 7912 | F33: =E33/D33 -> #DIV/0!
A34: 30 | B34: 423400 | C34: Subventii pentru acordarea ajutorului pentru incalzirea locuintei cu lemne, carbuni, combustibili petrolieri | D34: ='venituri functionare'!D59 -> 375800 | E34: ='venituri functionare'!E59 -> 375780 | F34: =E34/D34 -> 0.99994678
A35: 31 | B35: 424100 | C35: Subventii din bugetul de stat pentru finantarea sanatatii | D35: ='venituri functionare'!D60 -> 66200 | E35: ='venituri functionare'!E60 -> 66196 | F35: =E35/D35 -> 0.99993958
B36: TOTAL | D36: =SUM(D5:D35) -> 11889000 | E36: =SUM(E5:E35) -> 11923648 | F36: =E36/D36 -> 1.0029143
B39: PRIMAR, | E39: CONSILIER SUPERIOR
E40: COMP.BUGET CONTABILITATE,
B41: NASTASE ADRIAN | E41: OLARU ELENA-CARMEN

Sheet CHELTUIELI TOTALE
G1: ANEXA 2
D2: CHELTUIELI TOTALE LA 31.12.2022
A4: NR. CRT. | B4: CLASIFICATIE BUGETARA | D4: DENUMIRE | E4: PREVEDERE BUGETARA | F4: EXECUTIE | G4: %
A5: 1 | B5: 510103 | C5: 100101 | D5: Salarii de baza | E5: 2630000 | F5: 2049024 | G5: =F5/E5 -> 0.77909658
A6: 2 | B6: 510103 | C6: 100112 | D6: Indemnizatii platite unor persoane din afara unitatii | E6: 175000 | F6: 174975 | G6: =F6/E6 -> 0.99985714
A7: 3 | B7: 510103 | C7: 100117 | D7: Indemnizatii de hrana | E7: 120000 | F7: 95780 | G7: =F7/E7 -> 0.79816667
A8: 4 | B8: 510103 | C8: 100206 | D8: Vouchere de vacanta | E8: 50000 | F8: 38650 | G8: =F8/E8 -> 0.773
A9: 5 | B9: 510103 | C9: 100307 | D9: Contributia asiguratorie pentru munca | E9: 66000 | F9: 52307 | G9: =F9/E9 -> 0.7925303
A10: 6 | B10: 510103 | C10: 200101 | D10: Furnituri de birou | E10: 25000 | F10: 23340.3 | G10: =F10/E10 -> 0.933612
A11: 7 | B11: 510103 | C11: 200102 | D11: Materiale pentru curatenie | E11: 10000 | F11: 5596.56 | G11: =F11/E11 -> 0.559656
A12: 8 | B12: 510103 | C12: 200103 | D12: Incalzit, Iluminat si forta motrica | E12: 100000 | F12: 96978.61 | G12: =F12/E12 -> 0.9697861
A13: 9 | B13: 510103 | C13: 200104 | D13: Apa, canal si salubritate | E13: 2000 | F13: 1277.89 | G13: =F13/E13 -> 0.638945
A14: 10 | B14: 510103 | C14: 200105 | D14: Carburanti si lubrifianti | E14: 50000 | F14: 36225.04 | G14: =F14/E14 -> 0.7245008
A15: 11 | B15: 510103 | C15: 200106 | D15: Piese de schimb | E15: 30000 | F15: 4417 | G15: =F15/E15 -> 0.14723333
A16: 12 | B16: 510103 | C16: 200108 | D16: Posta, telecomunicatii, radio, tv, internet | E16: 50000 | F16: 49565.23 | G16: =F16/E16 -> 0.9913046
A17: 13 | B17: 510103 | C17: 200109 | D17: Materiale si prestari de servicii cu caracter functional | E17: 345000 | F17: 261247.12 | G17: =F17/E17 -> 0.75723803
A18: 14 | B18: 510103 | C18: 200130 | D18: Alte bunuri si servicii pentru intretinere si functionare | E18: 170000 | F18: 113399.52 | G18: =F18/E18 -> 0.667056
A19: 15 | B19: 510103 | C19: 200200 | D19: Reparatii curente | E19: 100000 | F19: 13160.26 | G19: =F19/E19 -> 0.1316026
A20: 16 | B20: 510103 | C20: 200530 | D20: Alte obiecte de inventar | E20: 65000 | F20: 22406.45 | G20: =F20/E20 -> 0.34471462
A21: 17 | B21: 510103 | C21: 200601 | D21: Deplasari interne,detasari,transferari | E21: 4000 | F21: 2252 | G21: =F21/E21 -> 0.563
A22: 18 | B22: 510103 | C22: 203001 | D22: Reclama si publicitate | E22: 40000 | F22: 23678 | G22: =F22/E22 -> 0.59195
A23: 19 | B23: 510103 | C23: 203002 | D23: Protocol si reprezentare | E23: 10000 | F23: 8584.17 | G23: =F23/E23 -> 0.858417
A24: 20 | B24: 510103 | C24: 203030 | D24: Alte cheltuieli cu bunuri si servicii | E24: 212000 | F24: 203926.74 | G24: =F24/E24 -> 0.96191858
A25: 21 | B25: 510103 | C25: 710101 | D25: Constructii | E25: 10000 | F25: 0 | G25: =F25/E25 -> 0
A26: 22 | B26: 510103 | C26: 710130 | D26: Alte active fixe | E26: 135000 | F26: 134043.43 | G26: =F26/E26 -> 0.9929143
A27: 23 | B27: 510103 | C27: 850101 | D27: Plati efectuate in anii precedenti si recuperate in anul curent | E27: 0 | F27: -39292 | G27: =F27/E27 -> #DIV/0!
A28: 24 | B28: 615000 | C28: 200105 | D28: Carburanti si lubrifianti | E28: 4000 | F28: 1925.16 | G28: =F28/E28 -> 0.48129
A29: 25 | B29: 615000 | C29: 200106 | D29: Piese de schimb | E29: 5000 | F29: 220 | G29: =F29/E29 -> 0.044
A30: 26 | B30: 615000 | C30: 200109 | D30: Materiale si prestari de servicii cu caracter functional | E30: 5000 | F30: 4500 | G30: =F30/E30 -> 0.9
A31: 27 | B31: 615000 | C31: 203030 | D31: Alte cheltuieli cu bunuri si servicii | E31: 10000 | F31: 2490.42 | G31: =F31/E31 -> 0.249042
A32: 28 | B32: 650301 | C32: 710101 | D32: Constructii | E32: 55000 | F32: 0 | G32: =F32/E32 -> 0
A33: 29 | B33: 650301 | C33: 710130 | D33: Alte active fixe | E33: 2500 | F33: 0 | G33: =F33/E33 -> 0
A34: 30 | B34: 650302 | C34: 710101 | D34: Constructii | E34: 520000 | F34: 293333.3 | G34: =F34/E34 -> 0.5641025
A35: 31 | B35: 650302 | C35: 710130 | D35: Alte active fixe | E35: 92500 | F35: 29760 | G35: =F35/E35 -> 0.32172973
A36: 32 | B36: 650401 | C36: 200101 | D36: Furnituri de birou | E36: 25000 | F36: 24958.1 | G36: =F36/E36 -> 0.998324
A37: 33 | B37: 650401 | C37: 200102 | D37: Materiale pentru curatenie | E37: 25000 | F37: 24993.11 | G37: =F37/E37 -> 0.9997244
A38: 34 | B38: 650401 | C38: 200103 | D38: Incalzit, Iluminat si forta motrica | E38: 150000 | F38: 150000 | G38: =F38/E38 -> 1
A39: 35 | B39: 650401 | C39: 200104 | D39: Apa, canal si salubritate | E39: 18000 | F39: 17996.24 | G39: =F39/E39 -> 0.99979111
A40: 36 | B40: 650401 | C40: 200106 | D40: Piese de schimb | E40: 7000 | F40: 6907 | G40: =F40/E40 -> 0.98671429
A41: 37 | B41: 650401 | C41: 200107 | D41: Transport | E41: 55000 | F41: 55000 | G41: =F41/E41 -> 1
...

Sheet indicatori
F1: ANEXA 7
C3: Indicatorii executiei bugetului local pe trim.IV 2022
A4: VENITURI
A5: Nr. | B5: Indicatori sinteza | C5: Formula de calcul | D5: Sume | E5: Procent | F5: Perioada
A6: crt.
A7: 1 | B7: Gradul de realizare a veniturilor | C7: Venituri total incasate (t21) | D7: 11923648 | E7: =D7/D8*100 -> 100.29143 | F7: Trimestrial
C8: Venituri totale programate | D8: 11889000
A9: 2 | B9: Gradul de realizare a veniturilor proprii | C9: Venituri proprii incasate (Vp= t21-alte venituri (TVA, subventii) | D9: 6994099 | E9: =D9/D10*100 -> 102.23796 | F9: Trimestrial
C10: Venituri proprii programate | D10: 6841000
A11: 3 | B11: Gradul de finantare din venituri proprii | C11: Venituri proprii incasate (Vp= t21-alte venituri (TVA, subventii) | D11: 6994099 | E11: =D11/D12*100 -> 58.657378 | F11: Trimestrial
C12: Venituri total incasate (t21) | D12: 11923648
A13: 4 | B13: Gradul de autofinantare | C13: Venituri proprii incasate (exclusiv cote) (Vpec=Vp-cote defalcate) | D13: 1557554.1 | E13: =D13/D14*100 -> 13.062731 | F13: Trimestrial
C14: Venituri totale incasate (t21) | D14: 11923648
A15: 5 | B15: Venituri proprii incasate per capita | C15: Venituri proprii incasate(Vp= t21-alte venituri (TVA, subventii) | D15: 6994099 | E15: =D15/D16 -> 1053.1695 | F15: Anual
C16: Numar de locuitori | D16: 6641
A17: 6 | B17: Gradul de realizare a impozitelor pe proprietate | C17: Venituri din impozite pe proprietate incasate | D17: 985038.96 | E17: =D17/D19*100 -> 100.41172 | F17: Anual
C18: (Vip = 070201+070202+160202)
C19: Venituri din impozite pe proprietate programate | D19: 981000
A20: 7 | B20: Gradul de dependenta al bugetului local fata de bugetul de stat | C20: Incasari din surse primite de la bugetul de stat | D20: 10366094 | E20: =D20/D22*100 -> 86.937269 | F20: Anual
C21: (Sbs = 0402+1102+4202+4302)
C22: Venituri totale incasate(t21) | D22: 11923648
A23: 8 | B23: Gradul de autonomie decizionala | C23: Venituri depersonalizate incasate (Vp+110206) | D23: 7852877 | E23: =D23/D24*100 -> 65.859687 | F23: Trimestrial
C24: Venituri totale incasate(t21) | D24: 11923648
A25: 9 | B25: Estimatul anual din venituri fiscale
A26: a) | B26: Coeficient de realizare a veniturilor fiscale in anul anterior (se calculeaza trimestrial) | C26: Venituri fiscale cumulate an anterior (trim.I,II,III) | D26: 1040560.6 | E26: =D26/D27 -> 1 | F26: An anterior
C27: Total venituri fiscale an anterior | D27: 1040560.6
A28: b) | B28: Estimatul anual din venituri fiscale | C28: Venituri fiscale cumulate an de calcul (trim.I,II,III) | D28: 1056950 | E28: =D28/D29 -> 1056950 | F28: An curent
C29: Coeficient | D29: 1
A32: CHELTUIELI
A33: Nr.crt. | B33: Indicatori sinteza | C33: Formula de calcul | D33: Sume | E33: Procent | F33: Perioada
A34: 1 | B34: Rigiditatea cheltuielilor | C34: Plati aferente cheltuielilor de personal | D34: 3644124.5 | E34: =D34/D36*100 -> 35.866671 | F34: Anual
C35: (total titlul 10)
C36: Total plati (t24) | D36: 10160197
A37: 2 | B37: Ponderea sectiunii de functionare | C37: Plati aferente sectiunii de functionare (t24f) | D37: 8582822.3 | E37: =D37/D38*100 -> 84.474959 | F37: Trimestrial
C38: Total plati (t24) | D38: 10160197
A39: 3 | B39: Ponderea sectiunii de dezvoltare | C39: Plati aferente sectiunii de dezvoltare (t24d) | D39: 1577374.8 | E39: =D39/D40*100 -> 15.525041 | F39: Trimestrial
C40: Total plati (t24) | D40: 10160197
A41: 4 | B41: Ponderea serviciului datoriei publice | C41: Serviciul datoriei publice locale | D41: 0 | E41: =D41/D42*100 -> 0 | F41: Anual
C42: Total plati (t24) | D42: 10160197
A43: 5 | B43: Excedent /Deficit –sectiune functionare | C43: Venituri incasate-(plati efectuate+plati restante) | D43: 3332913.3 | F43: Trimestrial
...
