Workbook

Sheet venituri functionare
F1: ANEXA 3
C2: VENITURI ALE SECTIUNII DE FUNCTIONARE
A4: NR. CRT. | B4: DENUMIRE CONT | C4: COD INDICATOR | D4: Prevazut | E4: Realizat | F4: %
D5: la 30.06.2023 | E5: La 30.06.2023
A6: TOTAL VENITURI SECTIUNEA DE FUNCTIONARE | C6: 0.01 | D6: =D7+D59 -> 6852700 | E6: =E7+E59+E58 -> 6007876.7 | F6: =E6/D6 -> 0.87671672
A7: I. | B7: VENITURI CURENTE | C7: 0.02 | D7: =D8+D39 -> 6699000 | E7: =E8+E39 -> 5648327.7 | F7: =E7/D7 -> 0.84315982
A8: A. | B8: VENITURI FISCALE | C8: 0.03 | D8: =D9+D17+D27+D37 -> 6861000 | E8: =E9+E17+E27+E37 -> 5388129.2 | F8: =E8/D8 -> 0.7853271
A9: A.1. | B9: IMPOZIT PE VENIT, PROFIT SI CASTIGURI DIN CAPITAL | C9: 0.04 | D9: =D10 -> 4116000 | E9: =E10 -> 2995523.9 | F9: =E9/D9 -> 0.72777549
A10: A.1.2 | B10: IMPOZIT PE VENIT, PROFIT SI CASTIGURI DIN CAPITAL DE LA PERSOANE FIZICE | C10: 03.00.02 | D10: =D11+D13 -> 4116000 | E10: =E11+E13 -> 2995523.9 | F10: =E10/D10 -> 0.72777549
B11: IMPOZIT PE VENIT | C11: 03,02 | D11: =D12 -> 1000 | E11: =E12 -> 5563.5 | F11: =E11/D11 -> 5.5635
B12: Impozitul pe veniturile din transferul proprietatilor imobiliare din patrimoniul personal | C12: 03.02.18 | D12: 1000 | E12: 5563.5 | F12: =E12/D12 -> 5.5635
B13: COTE SI SUME DEFALCATE DIN IMPOZITUL PE VENIT | C13: 04,02 | D13: =D14+D15+D16 -> 4115000 | E13: =E14+E15+E16 -> 2989960.4 | F13: =E13/D13 -> 0.72660034
B14: Cote si sume defalcate din impozitul pe venit | C14: 04.02.01 | D14: 3645000 | E14: 2729668.4 | F14: =E14/D14 -> 0.74888022
B15: Sume alocate din cotele defalcate din impozitul pe venit pentru echilibrarea bugetelor locale | C15: 04.02.04 | D15: 0 | E15: 0 | F15: =E15/D15 -> #DIV/0!
B16: Sume repartizate din Fondul la dispozitia Consiliului Judetean | C16: 04 02 05 | D16: 470000 | E16: 260292 | F16: =E16/D16 -> 0.55381277
A17: A.3. | B17: IMPOZITE SI TAXE PE PROPRIETATE | C17: 7.02 | D17: =D18+D21+D25+D26 -> 451000 | E17: =E18+E21+E25+E26 -> 545317.71 | F17: =E17/D17 -> 1.2091302
B18: Impozit si taxa pe cladiri | C18: 07.02.01 | D18: =D19+D20 -> 242000 | E18: =E19+E20 -> 273377.26 | F18: =E18/D18 -> 1.1296581
B19: Impozit pe cladiri de la persoane fizice | C19: 07.02.01.01 | D19: 121000 | E19: 123725.68 | F19: =E19/D19 -> 1.0225263
B20: Impozit si taxa pe cladiri de la persoane juridice | C20: 07.02.01.02 | D20: 121000 | E20: 149651.58 | F20: =E20/D20 -> 1.2367899
B21: Impozit si taxa pe teren | C21: 07.02.02 | D21: =D22+D23+D24 -> 188000 | E21: =E22+E23+E24 -> 235738.16 | F21: =E21/D21 -> 1.2539264
B22: Impozit pe terenuri de la persoane fizice | C22: 07.02.02.01 | D22: 93000 | E22: 95874.16 | F22: =E22/D22 -> 1.0309049
B23: Impozit si taxa pe teren de la persoane juridice | C23: 07.02.02.02 | D23: 28000 | E23: 63911 | F23: =E23/D23 -> 2.2825357
B24: Impozitul pe terenul extravilan | C24: 07.02.02.03 | D24: 67000 | E24: 75953 | F24: =E24/D24 -> 1.1336269
B25: Taxe judiciare de timbru si alte taxe de timbru | C25: 07.02.03 | D25: 9000 | E25: 23830 | F25: =E25/D25 -> 2.6477778
B26: Alte impozite si taxe pe proprietate | C26: 07.02.50 | D26: 12000 | E26: 12372.29 | F26: =E26/D26 -> 1.0310242
A27: A.4. | B27: IMPOZITE SI TAXE PE BUNURI SI SERVICII | C27: 10.02 | D27: =D28+D31 -> 2292000 | E27: =E28+E31 -> 1846225.6 | F27: =E27/D27 -> 0.80550854
B28: SUME DEFALCATE DIN TVA | C28: 11.02 | D28: =D29+D30 -> 2012000 | E28: =E29+E30 -> 1572772.7 | F28: =E28/D28 -> 0.78169618
B29: Sume defalcate din TVA pt. finantarea cheltuielilor descentralizate la niveul comunelor | C29: 11.02.02 | D29: 2012000 | E29: 1572772.7 | F29: =E29/D29 -> 0.78169618
B30: Sume defalcate din TVA pt. echilibrarea bugetelor locale | C30: 11.02.06 | D30: 0 | E30: 0 | F30: =E30/D30 -> #DIV/0!
B31: TAXE PE UTILIZ. BUNURILOR, AUTORIZ.UTILIZ.BUNURILOR SAU PE DESF.DE ACTIV. | C31: 16.02 | D31: =D32+D35+D36 -> 280000 | E31: =E32+E35+E36 -> 273452.87 | F31: =E31/D31 -> 0.97661739
B32: Impozit pe mijloacele de transport | C32: 16.02.02 | D32: =D33+D34 -> 276000 | E32: =E33+E34 -> 270583.37 | F32: =E32/D32 -> 0.98037453
B33: Impozit pe mijloacele de transport detinute de persoane fizice | C33: 16.02.02.01 | D33: 231000 | E33: 234255.37 | F33: =E33/D33 -> 1.0140925
B34: Impozit pe mijloacele de transport detinute de persoane juridice | C34: 16.02.02.02 | D34: 45000 | E34: 36328 | F34: =E34/D34 -> 0.80728889
B35: Taxe si tarife pentru eliberarea de licente si autorizatii de functionare | C35: 16.02.03 | D35: 1000 | E35: 192.5 | F35: =E35/D35 -> 0.1925
B36: Alte taxe pe utiliz.bunurilor, autorizarea utiliz.bunurilor sau pe desfasurare de activitati | C36: 16.02.50 | D36: 3000 | E36: 2677 | F36: =E36/D36 -> 0.89233333
A37: A.6. | B37: ALTE IMPOZITE SI TAXE FISCALE | C37: 18.02 | D37: =D38 -> 2000 | E37: =E38 -> 1062 | F37: =E37/D37 -> 0.531
B38: Alte impozite si taxe | C38: 18.02.50 | D38: 2000 | E38: 1062 | F38: =E38/D38 -> 0.531
A39: C. | B39: VENITURI NEFISCALE | C39: 29.00.02 | D39: =D40+D43 -> -162000 | E39: =E40+E43 -> 260198.46 | F39: =E39/D39 -> -1.6061633
A40: C.1. | B40: VENITURI DIN PROPRIETATE | C40: 30.00.02 | D40: =D41 -> 114000 | E40: =E41 -> 40103.58 | F40: =E40/D40 -> 0.35178579
B41: Venituri din concesiuni si inchirieri | C41: 30.02.05 | D41: =D42 -> 114000 | E41: =E42 -> 40103.58 | F41: =E41/D41 -> 0.35178579
...

Sheet cheltuieli functionare
F1: ANEXA 4
C2: CHELTUIELI ALE SECTIUNII DE FUNCTIONARE
A4: NR. CRT. | B4: DENUMIRE CONT | C4: COD INDICATOR | D4: PREVAZUT LA | E4: REALIZAT LA | F4: %
D5: 45107 | E5: 45107
A6: TOTAL | C6: 50.02 | D6: =D7+D11+D14+D18+D20+D25+D29+D32+D35 -> 6075700 | E6: =E7+E11+E14+E18+E20+E25+E29+E32+E35 -> 4754942 | F6: =E6/D6 -> 0.78261633
A7: 1 | B7: AUTORITATI PUBLICE SI ACTIUNI EXTERNE | C7: 51.02 | D7: =D8+D9+D10 -> 2289000 | E7: =E8+E9+E10 -> 1877328.8 | F7: =E7/D7 -> 0.82015239
B8: Cheltuieli de personal | C8: 51.02.10 | D8: 1453000 | E8: 1339092 | F8: =E8/D8 -> 0.92160496
B9: Bunuri si servicii | C9: 51.02.20 | D9: 836000 | E9: 543043.36 | F9: =E9/D9 -> 0.6495734
B10: Plati efectuate in anii precedenti si recuperate in anul curent | C10: 51.02.85 | D10: 0 | E10: -4806.55 | F10: -
A11: 2 | B11: ORDINE PUBLICA SI SIGURANTA NATIONALA | C11: 61.02 | D11: =D13 -> 0 | E11: =E12+E13 -> 3070 | F11: =E11/D11 -> #DIV/0!
B12: Bunuri si servicii | C12: 61.02.20 | D12: 20000 | E12: 3797.6 | F12: =E12/D12 -> 0.18988
B13: Plati efectuate in anii precedenti si recuperate in anul curent | C13: 61.02.85 | E13: -727.6 | F13: =E13/D13 -> #DIV/0!
A14: 3 | B14: INVATAMANT | C14: 65.02 | D14: =D15+D16+D17 -> 1076000 | E14: =E15+E16+E17 -> 1012691.2 | F14: =E14/D14 -> 0.94116287
B15: Bunuri si servicii | C15: 65.02.20 | D15: 474000 | E15: 416988.25 | F15: =E15/D15 -> 0.87972205
B16: Asistenta sociala | C16: 65.02.57 | D16: 102000 | E16: 95703 | F16: =E16/D16 -> 0.93826471
B17: Burse scolare | C17: 65.02.59 | D17: 500000 | E17: 500000 | F17: =E17/D17 -> 1
A18: 4 | B18: SANATATE | C18: 66.02 | D18: =D19 -> 66000 | E18: =E19 -> 33057 | F18: =E18/D18 -> 0.50086364
B19: Cheltuieli de personal | C19: 66.02.10 | D19: 66000 | E19: 33057 | F19: =E19/D19 -> 0.50086364
A20: 5 | B20: CULTURA, RECREERE SI RELIGIE | C20: 67.02 | D20: =D21+D22+D24 -> 235000 | E20: =E21+E22+E23+E24 -> 36434.62 | F20: =E20/D20 -> 0.15504094
B21: Cheltuieli de personal | C21: 67.02.10 | D21: 28000 | E21: 0 | F21: =E21/D21 -> 0
B22: Bunuri si servicii | C22: 67.02.20 | D22: 207000 | E22: 36474.62 | F22: =E22/D22 -> 0.17620589
B23: Alte cheltuieli | C23: 67.02.59 | D23: 200000 | E23: 0 | F23: =E23/D23 -> 0
B24: Plati efectuate in anii precedenti si recuperate in anul curent | C24: 67.02.85 | E24: -40 | F24: =E24/D24 -> #DIV/0!
A25: 6 | B25: ASIGURARI SI ASISTENTA SOCIALA | C25: 68.02 | D25: =D26+D27 -> 1869700 | E25: =E26+E27+E28 -> 1595965 | F25: =E25/D25 -> 0.85359416
B26: Cheltuieli de personal | C26: 68.02.10 | D26: 774000 | E26: 606853 | F26: =E26/D26 -> 0.7840478
B27: Ajutoare sociale in numerar | C27: 68.02.57 | D27: 1095700 | E27: 989912 | F27: =E27/D27 -> 0.90345167
B28: Plati efectuate in anii precedenti si recuperate in anul curent | C28: 68.02.85 | D28: 0 | E28: -800 | F28: =E28/D28 -> #DIV/0!
A29: 7 | B29: LOCUINTE, SERVICII SI DEZVOLTARE PUBLICA | C29: 70.02 | D29: =D31 -> 0 | E29: =E30+E31 -> 126819.37 | F29: =E29/D29 -> #DIV/0!
B30: Bunuri si servicii | C30: 70.02.20 | D30: 557000 | E30: 130851.92 | F30: =E30/D30 -> 0.23492266
B31: Plati efectuate in anii precedenti si recuperate in anul curent | C31: 70.02.85 | E31: -4032.55 | F31: =E31/D31 -> #DIV/0!
A32: 8 | B32: PROTECTIA MEDIULUI | C32: 74.02 | D32: =D33+D34 -> 240000 | E32: =E33+E34 -> 69576 | F32: =E32/D32 -> 0.2899
B33: Bunuri si servicii | C33: 74.02.20 | D33: 210000 | E33: 41916 | F33: =E33/D33 -> 0.1996
B34: Asociatii si fundatii | C34: 74.02.59 | D34: 30000 | E34: 27660 | F34: =E34/D34 -> 0.922
A35: 9 | B35: TRANSPORTURI | C35: 84.02 | D35: 300000 | E35: =E36 -> 0 | F35: =E35/D35 -> 0
B36: Bunuri si servicii | C36: 84.02.20 | D36: 200000 | E36: 0 | F36: =E36/D36 -> 0
B37: EXCEDENT / DEFICIT | C37: - | E37: ='venituri functionare'!E6-'cheltuieli functionare'!E6 -> 1252934.6
B40: PRIMAR, | E40: CONSILIER SUPERIOR
E41: COMP.BUGET CONTABILITATE,
B42: NASTASE ADRIAN | D42: TITA ANNE MARIE

Sheet venituri dezvoltare
F1: ANEXA 5
C2: VENITURI ALE SECTIUNII DE DEZVOLTARE
A4: NR. CRT. | B4: DENUMIRE CONT | C4: COD INDICATOR | D4: Prevazut la | E4: Realizat la 30.06.2023 | F4: %
D5: 45107
A6: TOTAL | D6: =D7+D10+D12 -> 470000 | E6: =E9+E12 -> 3143555.2 | F6: =E6/D6 -> 6.6884153
A7: I | B7: TRANSFERURI VOLUNTARE ,ALTELE DECAT SUBVENTIILE | D7: =D8 -> 470000 | E7: =E8 -> 0 | F7: =E7/D7 -> 0
B8: Varsaminte din sectiunea de functionare | C8: 37.02.04 | D8: 470000 | E8: 0 | F8: =E8/D8 -> 0
A9: II | B9: VENITURI DIN CAPITAL | D9: =D10 -> 0 | E9: =E10 -> 14607 | F9: 0
B10: VENITURI DIN VALORIFICAREA UNOR BUNURI | C10: 39.02 | D10: =D11 -> 0 | E10: =E11 -> 14607 | F10: 0
B11: Venituri din vanzarea locuintelor construite din fondurile statului | C11: 39.02.03 | D11: 0 | E11: 14607 | F11: 0
A12: III | B12: OPERATIUNI FINANCIARE | C12: 40.02 | D12: =D13 -> 0 | E12: =E13 -> 3128948.2 | F12: 0
B13: Sume din excedentul bugetului local utilizate pentru finantarea cheltuielilor sectiunii de dezvoltare | C13: 40.14 | D13: 0 | E13: 3128948.2 | F13: 0
B16: PRIMAR, | E16: CONSILIER SUPERIOR
E17: COMP.BUGET CONTABILITATE,
B18: NASTASE ADRIAN | D18: TITA ANNE MARIE
A24: ='venituri functionare'!E6+'venituri dezvoltare'!E6 -> 9151431.8

Sheet cheltuieli dezvoltare
F1: ANEXA 6
C2: CHELTUIELI ALE SECTIUNII DE DEZVOLTARE
A4: NR. CRT. | B4: DENUMIRE CONT | C4: COD INDICATOR | D4: Prevazut la | E4: Realizat la | F4: %
D5: 45107 | E5: 45107
A6: TOTAL | D6: =D7+D13+D18+D22+D27+D35 -> 8708000 | E6: =E7+E13+E18+E22+E27+E35 -> 3124096.4 | F6: =E6/D6 -> 0.35876164
A7: 1 | B7: AUTORITATI PUBLICE SI ACTIUNI EXTERNE | C7: 51.02 | D7: =D8 -> 370000 | E7: =E8 -> 2031.03 | F7: =E7/D7 -> 0.0054892703
B8: ACTIVE FIXE | C8: 51.02.71.01 | D8: =D9+D12+D10+D11 -> 370000 | E8: =E9+E12 -> 2031.03 | F8: =E8/D8 -> 0.0054892703
B9: Constructii | C9: 51.02.71.01.01 | D9: 215000 | E9: 0 | F9: =E9/D9 -> 0
B10: Masini, echipamente si mijloace de transport | C10: 51.02.71.01.02 | D10: 90000 | E10: 0
B11: Mobilier, aparatura birotica si alte active corporale | C11: 51.02.71.01.03 | D11: 15000 | E11: 0
B12: Alte active fixe | C12: 51.02.71.01.30 | D12: 50000 | E12: 2031.03 | F12: =E12/D12 -> 0.0406206
A13: 2 | B13: INVATAMANT | C13: 65.02 | D13: =D14 -> 185000 | E13: =E14 -> 0 | F13: =E13/D13 -> 0
B14: ACTIVE FIXE | C14: 65.02.71 | D14: =D15+D17+D16 -> 185000 | E14: =E15+E17 -> 0 | F14: =E14/D14 -> 0
B15: Constructii | C15: 65.02.71.01.01 | D15: 100000 | E15: 0 | F15: =E15/D15 -> 0
B16: Mobilier, aparatura birotica si alte active corporale | C16: 65.02.71.01.03 | D16: 15000 | E16: 0 | F16: =E16/D16 -> 0
B17: Alte active fixe | C17: 65.02.71.01.30 | D17: 70000 | E17: 0 | F17: =E17/D17 -> 0
A18: 3 | B18: CULTURA, RECREERE, RELIGIE | C18: 67.02 | D18: =D19 -> 630000 | E18: =E19 -> 392511.53 | F18: =E18/D18 -> 0.62303417
B19: ACTIVE FIXE | C19: 67.02.71 | D19: =D21+D20 -> 630000 | E19: =E20+E21 -> 392511.53 | F19: =E19/D19 -> 0.62303417
B20: Constructii | C20: 67.02.71.01.01 | D20: 580000 | E20: 379991.53
B21: Alte active fixe | C21: 67.02.71.01.30 | D21: 50000 | E21: 12520 | F21: =E21/D21 -> 0.2504
A22: 4 | B22: LOCUINTE, SERVICII SI DEZVOLTARE | C22: 70.02 | D22: =D23 -> 1836000 | E22: =E23 -> 1170853.9 | F22: =E22/D22 -> 0.63772001
B23: ACTIVE FIXE | C23: 70.02.71 | D23: =D26+D24+D25 -> 1836000 | E23: =E26+E24 -> 1170853.9 | F23: =E23/D23 -> 0.63772001
B24: Constructii | C24: 70.02 71.01.01 | D24: 1575000 | E24: 1106473.9 | F24: =E24/D24 -> 0.70252313
B25: Masini, echipamente si mijloace de transport | C25: 70.02 71.01.02 | D25: 106000 | E25: 0 | F25: =E25/D25 -> 0
B26: Alte active fixe | C26: 70.02.71.01.30 | D26: 155000 | E26: 64380 | F26: =E26/D26 -> 0.41535484
A27: 5 | B27: PROTECTIA MEDIULUI | C27: 74.02 | D27: =D28+D31 -> 4246000 | E27: =E28+E31 -> 1523902.2 | F27: =E27/D27 -> 0.35890302
B28: PROIECTE CU FINANTARE DIN FONDURI EXTERNE NERAMBURSABILE CADRULUI FINANCIAR 2014-2020 | C28: 74.02.58 | D28: =D29 -> 2280500 | E28: =E29 -> 1142184.5 | F28: =E28/D28 -> 0.5008483
B29: Programe din Fondul European Agricol de Dezvoltare Rurala (FEADR) | C29: 74.02.58.04 | D29: =D30 -> 2280500 | E29: =E30 -> 1142184.5 | F29: =E29/D29 -> 0.5008483
B30: Finantarea externa nerambursabila | C30: 74.05.58.04.02 | D30: 2280500 | E30: 1142184.5 | F30: =E30/D30 -> 0.5008483
B31: ACTIVE FIXE | C31: 74.02.71.01 | D31: =D32+D33 -> 1965500 | E31: =E32+E33+E34 -> 381717.68 | F31: =E31/D31 -> 0.19420894
B32: Constructii | C32: 74.02.71.01.01 | D32: 1755500 | E32: 371736.85 | F32: =E32/D32 -> 0.21175554
B33: Alte active fixe | C33: 74.02.71.01.30 | D33: 210000 | E33: 14832.64 | F33: =E33/D33 -> 0.070631619
B34: Plati efectuate in anul precedent si recuperate in anul curent | C34: 74.02.85.01.02 | D34: 0 | E34: -4851.81 | F34: =E34/D34 -> #DIV/0!
A35: 6 | B35: TRANSPORTURI | C35: 84.02 | D35: =D36 -> 1441000 | E35: =E36 -> 34797.66 | F35: =E35/D35 -> 0.024148272
B36: ACTIVE FIXE | C36: 84.02.71.01 | D36: =D37+D38 -> 1441000 | E36: =E37+E38 -> 34797.66 | F36: =E36/D36 -> 0.024148272
B37: Constructii | C37: 84.02.71.01.01 | D37: 1140000 | E37: 2997.55 | F37: =E37/D37 -> 0.0026294298
B38: Alte active fixe | C38: 84.02.71.01.30 | D38: 301000 | E38: 31800.11 | F38: =E38/D38 -> 0.10564821
B39: EXCEDENT / DEFICIT | E39: ='venituri dezvoltare'!E6-'cheltuieli dezvoltare'!E6 -> 19458.81
B42: PRIMAR, | D42: CONSILIER SUPERIOR
D43: COMP.BUGET CONTABILITATE,
...

Sheet VENITURI TOTALE
F1: ANEXA 1
C2: VENITURI TOTALE LA 30.06.2023
A4: NR. CRT. | B4: CLASIFICATIE BUGETARA | C4: DENUMIRE | D4: PREVEDERE BUGETARA | E4: EXECUTIE | F4: %
A5: 1 | B5: 031800 | C5: Impozitul pe veniturile din transferul proprietatilor imobiliare din patrimoniul personal | D5: ='venituri functionare'!D12 -> 1000 | E5: ='venituri functionare'!E12 -> 5563.5 | F5: =E5/D5 -> 5.5635
A6: 2 | B6: 040100 | C6: Cote defalcate din impozitul pe venit(se scad) | D6: ='venituri functionare'!D14 -> 3645000 | E6: ='venituri functionare'!E14 -> 2729668.4 | F6: =E6/D6 -> 0.74888022
A7: 3 | B7: 040400 | C7: Sume alocate din cotele defalcate din impozitul pe venit pentru echilibrarea bugetelor locale | D7: ='venituri functionare'!D15 -> 0 | E7: ='venituri functionare'!E15 -> 0 | F7: =E7/D7 -> #DIV/0!
A8: 4 | B8: 04 05 00 | C8: Sume repartizate din Fondul la dispozitia Consiliului Judetean | D8: ='venituri functionare'!D16 -> 470000 | E8: ='venituri functionare'!E16 -> 260292 | F8: =E8/D8 -> 0.55381277
A9: 5 | B9: 070101 | C9: Impozit pe cladiri de la persoane fizice | D9: ='venituri functionare'!D19 -> 121000 | E9: ='venituri functionare'!E19 -> 123725.68 | F9: =E9/D9 -> 1.0225263
A10: 6 | B10: 070102 | C10: Impozit si taxa pe cladiri de la persoane juridice | D10: ='venituri functionare'!D20 -> 121000 | E10: ='venituri functionare'!E20 -> 149651.58 | F10: =E10/D10 -> 1.2367899
A11: 7 | B11: 070201 | C11: Impozit pe terenuri de la persoane fizice | D11: ='venituri functionare'!D22 -> 93000 | E11: ='venituri functionare'!E22 -> 95874.16 | F11: =E11/D11 -> 1.0309049
A12: 8 | B12: 070202 | C12: Impozit si taxa pe teren de la persoane juridice | D12: ='venituri functionare'!D23 -> 28000 | E12: ='venituri functionare'!E23 -> 63911 | F12: =E12/D12 -> 2.2825357
A13: 9 | B13: 070203 | C13: Impozit pe terenul din extravilan | D13: ='venituri functionare'!D24 -> 67000 | E13: ='venituri functionare'!E24 -> 75953 | F13: =E13/D13 -> 1.1336269
A14: 10 | B14: 070300 | C14: Taxe judiciare de timbru si alte taxe de timbru | D14: ='venituri functionare'!D25 -> 9000 | E14: ='venituri functionare'!E25 -> 23830 | F14: =E14/D14 -> 2.6477778
A15: 11 | B15: 075000 | C15: Alte impozite si taxe pe proprietate | D15: ='venituri functionare'!D26 -> 12000 | E15: ='venituri functionare'!E26 -> 12372.29 | F15: =E15/D15 -> 1.0310242
A16: 12 | B16: 110200 | C16: Sume defalcate din taxa pe valoarea adaugata pentru finantarea cheltuielilor descentralizate la nivelul comunelor, oraselor, municipiilor, sectoarelor si Municipiului Bucuresti | D16: ='venituri functionare'!D29 -> 2012000 | E16: ='venituri functionare'!E29 -> 1572772.7 | F16: =E16/D16 -> 0.78169618
A17: 13 | B17: 110600 | C17: Sume defalcate din taxa pe valoarea adaugata pentru echilibrarea bugetelor locale | D17: ='venituri functionare'!D30 -> 0 | E17: ='venituri functionare'!E30 -> 0 | F17: =E17/D17 -> #DIV/0!
A18: 14 | B18: 160201 | C18: Impozit pe mijloacele de transport detinute de persoane fizice | D18: ='venituri functionare'!D33 -> 231000 | E18: ='venituri functionare'!E33 -> 234255.37 | F18: =E18/D18 -> 1.0140925
A19: 15 | B19: 160202 | C19: Impozit pe mijloacele de transport detinute de persoane juridice | D19: ='venituri functionare'!D34 -> 45000 | E19: ='venituri functionare'!E34 -> 36328 | F19: =E19/D19 -> 0.80728889
A20: 16 | B20: 160300 | C20: Taxe si tarife pentru eliberarea de licente si autorizatii de functionare | D20: ='venituri functionare'!D35 -> 1000 | E20: ='venituri functionare'!E35 -> 192.5 | F20: =E20/D20 -> 0.1925
A21: 17 | B21: 165000 | C21: Alte taxe pe utilizarea bunurilor, autorizarea utilizarii bunurilor sau pe desfasurare de activitati | D21: ='venituri functionare'!D36 -> 3000 | E21: ='venituri functionare'!E36 -> 2677 | F21: =E21/D21 -> 0.89233333
A22: 18 | B22: 185000 | C22: Alte impozite si taxe | D22: ='venituri functionare'!D38 -> 2000 | E22: ='venituri functionare'!E38 -> 1062 | F22: =E22/D22 -> 0.531
A23: 19 | B23: 300530 | C23: Alte venituri din concesiuni si inchirieri de catre institutiile publice | D23: ='venituri functionare'!D42 -> 114000 | E23: ='venituri functionare'!E42 -> 40103.58 | F23: =E23/D23 -> 0.35178579
A24: 20 | B24: 330800 | C24: Venituri din prestari de servicii | D24: ='venituri functionare'!D45 -> 2000 | E24: ='venituri functionare'!E45 -> 42777 | F24: =E24/D24 -> 21.3885
A25: 21 | B25: 332800 | C25: Venituri din recuperarea cheltuielilor de judecata, imputatii si despagubiri | D25: ='venituri functionare'!D46 -> 1000 | E25: ='venituri functionare'!E46 -> 1611.07 | F25: =E25/D25 -> 1.61107
A26: 22 | B26: 340200 | C26: Taxe extrajudiciare de timbru | D26: ='venituri functionare'!D48 -> 5000 | E26: ='venituri functionare'!E48 -> 6255.14 | F26: =E26/D26 -> 1.251028
A27: 23 | B27: 350102 | C27: Venituri din amenzi si alte sanctiuni aplicate de catre alte institutii de specialitate | D27: ='venituri functionare'!D51 -> 91000 | E27: ='venituri functionare'!E51 -> 92211.13 | F27: =E27/D27 -> 1.0133091
A28: 24 | B28: 355000 | C28: Alte amenzi, penalitati si confiscari | D28: ='venituri functionare'!D52 -> 37000 | E28: ='venituri functionare'!E52 -> 19877.1 | F28: =E28/D28 -> 0.53721892
A29: 25 | B29: 360600 | C29: Taxe speciale | D29: ='venituri functionare'!D54 -> 25000 | E29: ='venituri functionare'!E54 -> 36134.44 | F29: =E29/D29 -> 1.4453776
A30: 26 | B30: 365000 | C30: Alte venituri | D30: ='venituri functionare'!D55 -> 33000 | E30: ='venituri functionare'!E55 -> 21229 | F30: =E30/D30 -> 0.64330303
A31: 27 | B31: 370203 | C31: Varsaminte din sectiunea de functionare pentru finantarea sectiunii de dezvoltare a bugetului local | D31: ='venituri functionare'!D57 -> -470000 | E31: ='venituri functionare'!E57 -> 0 | F31: =E31/D31 -> 0
A32: 28 | B32: 370204 | C32: Varsaminte din sectiunea de functionare | D32: ='venituri dezvoltare'!D8 -> 470000 | E32: 0 | F32: =E32/D32 -> 0
A33: 29 | B33: 390300 | C33: Venituri din vanzarea locuintelor construite din fondurile statului | D33: 0 | E33: ='venituri dezvoltare'!E11 -> 14607 | F33: =E33/D33 -> #DIV/0!
A34: 30 | B34: 401100 | C34: Sume din excedentul anului precedent pentru acoperirea golurilor temporare de casa ale sectiunii de functionare | D34: 0 | E34: ='venituri functionare'!E58 -> 200000 | F34: =E34/D34 -> #DIV/0!
A35: 31 | B35: 401400 | C35: Sume din excedentul bugetului local utilizate pentru finantarea cheltuielilor sectiunii de dezvoltare | D35: 0 | E35: ='venituri dezvoltare'!E13 -> 3128948.2 | F35: =E35/D35 -> #DIV/0!
A36: 32 | B36: 423400 | C36: Subventii pentru acordarea ajutorului pentru incalzirea locuintei cu lemne, carbuni, combustibili petrolieri | D36: ='venituri functionare'!D60 -> 120700 | E36: ='venituri functionare'!E60 -> 126492 | F36: =E36/D36 -> 1.0479867
A37: 33 | B37: 424100 | C37: Subventii din bugetul de stat pentru finantarea sanatatii | D37: ='venituri functionare'!D61 -> 33000 | E37: ='venituri functionare'!E61 -> 33057 | F37: =E37/D37 -> 1.0017273
B38: TOTAL | D38: =SUM(D5:D37) -> 7322700 | E38: =SUM(E5:E37) -> 9151431.8 | F38: =E38/D38 -> 1.2497346
B41: PRIMAR, | E41: CONSILIER SUPERIOR
E42: COMP.BUGET CONTABILITATE,
B43: NASTASE ADRIAN | E43: TITA ANNE MARIE

Sheet CHELTUIELI TOTALE
G1: ANEXA 2
D2: CHELTUIELI TOTALE LA 30.06.2023
A4: NR. CRT. | B4: CLASIFICATIE BUGETARA | D4: DENUMIRE | E4: PREVEDERE BUGETARA | F4: EXECUTIE | G4: %
A5: 1 | B5: 510103 | C5: 100101 | D5: Salarii de baza | E5: 1210000 | F5: 1167279 | G5: =F5/E5 -> 0.96469339
A6: 2 | B6: 510103 | C6: 100112 | D6: Indemnizatii platite unor persoane din afara unitatii | E6: 102000 | F6: 98140 | G6: =F6/E6 -> 0.96215686
A7: 3 | B7: 510103 | C7: 100117 | D7: Indemnizatii de hrana | E7: 59000 | F7: 44316 | G7: =F7/E7 -> 0.75111864
A8: 4 | B8: 510103 | C8: 100206 | D8: Vouchere de vacanta | E8: 50000 | F8: 0 | G8: =F8/E8 -> 0
A9: 5 | B9: 510103 | C9: 100307 | D9: Contributia asiguratorie pentru munca | E9: 32000 | F9: 29357 | G9: =F9/E9 -> 0.91740625
A10: 6 | B10: 510103 | C10: 200101 | D10: Furnituri de birou | E10: 20000 | F10: 14889.83 | G10: =F10/E10 -> 0.7444915
A11: 7 | B11: 510103 | C11: 200102 | D11: Materiale pentru curatenie | E11: 9000 | F11: 3526.3 | G11: =F11/E11 -> 0.39181111
A12: 8 | B12: 510103 | C12: 200103 | D12: Incalzit, Iluminat si forta motrica | E12: 70000 | F12: 41499.63 | G12: =F12/E12 -> 0.59285186
A13: 9 | B13: 510103 | C13: 200104 | D13: Apa, canal si salubritate | E13: 2000 | F13: 862.78 | G13: =F13/E13 -> 0.43139
A14: 10 | B14: 510103 | C14: 200105 | D14: Carburanti si lubrifianti | E14: 40000 | F14: 17470.75 | G14: =F14/E14 -> 0.43676875
A15: 11 | B15: 510103 | C15: 200106 | D15: Piese de schimb | E15: 5000 | F15: 1683.78 | G15: =F15/E15 -> 0.336756
A16: 12 | B16: 510103 | C16: 200107 | D16: Transport | E16: 16000 | F16: 0 | G16: =F16/E16 -> 0
A17: 13 | B17: 510103 | C17: 200108 | D17: Posta, telecomunicatii, radio, tv, internet | E17: 35000 | F17: 24872.1 | G17: =F17/E17 -> 0.71063143
A18: 14 | B18: 510103 | C18: 200109 | D18: Materiale si prestari de servicii cu caracter functional | E18: 150000 | F18: 114798.75 | G18: =F18/E18 -> 0.765325
A19: 15 | B19: 510103 | C19: 200130 | D19: Alte bunuri si servicii pentru intretinere si functionare | E19: 100000 | F19: 99921.15 | G19: =F19/E19 -> 0.9992115
A20: 16 | B20: 510103 | C20: 200200 | D20: Reparatii curente | E20: 60000 | F20: 4889.32 | G20: =F20/E20 -> 0.081488667
A21: 17 | B21: 510103 | C21: 200530 | D21: Alte obiecte de inventar | E21: 50000 | F21: 10993 | G21: =F21/E21 -> 0.21986
A22: 18 | B22: 510103 | C22: 200601 | D22: Deplasari interne,detasari,transferari | E22: 4000 | F22: 0 | G22: =F22/E22 -> 0
A23: 19 | B23: 510103 | C23: 2013 | D23: Prgatire profesionala | E23: 25000 | F23: 650 | G23: =F23/E23 -> 0.026
A24: 20 | B24: 510103 | C24: 203001 | D24: Reclama si publicitate | E24: 30000 | F24: 15062.2 | G24: =F24/E24 -> 0.50207333
A25: 21 | B25: 510103 | C25: 203002 | D25: Protocol si reprezentare | E25: 20000 | F25: 5994 | G25: =F25/E25 -> 0.2997
A26: 22 | B26: 510103 | C26: 203030 | D26: Alte cheltuieli cu bunuri si servicii | E26: 200000 | F26: 185929.77 | G26: =F26/E26 -> 0.92964885
A27: 23 | B27: 510103 | C27: 710101 | D27: Constructii | E27: 215000 | F27: 0 | G27: =F27/E27 -> 0
A28: 24 | B28: 510103 | C28: 710102 | D28: Masini, echipamente si mijloace de transport | E28: 90000 | F28: 0 | G28: =F28/E28 -> 0
A29: 25 | B29: 510103 | C29: 710103 | D29: Mobilier aparatura birotica si alte active corporale | E29: 15000 | F29: 0 | G29: =F29/E29 -> 0
A30: 26 | B30: 510103 | C30: 710130 | D30: Alte active fixe | E30: 50000 | F30: 2031.03 | G30: =F30/E30 -> 0.0406206
A31: 27 | B31: 510103 | C31: 850101 | D31: Plati efectuate in anii precedenti si recuperate in anul curent | E31: 0 | F31: -4806.55 | G31: =F31/E31 -> #DIV/0!
A32: 28 | B32: 615000 | C32: 200105 | D32: Carburanti si lubrifianti | E32: 2000 | F32: 262.73 | G32: =F32/E32 -> 0.131365
A33: 29 | B33: 615000 | C33: 200106 | D33: Piese de schimb | E33: 4000 | F33: 0 | G33: =F33/E33 -> 0
A34: 30 | B34: 615000 | C34: 200109 | D34: Materiale si prestari de servicii cu caracter functional | E34: 5000 | F34: 3000 | G34: =F34/E34 -> 0.6
A35: 31 | B35: 615000 | C35: 203030 | D35: Alte cheltuieli cu bunuri si servicii | E35: 9000 | F35: 534.87 | G35: =F35/E35 -> 0.05943
B36: 615000 | C36: 850101 | D36: Plati efectuate in anii precedenti si recuperate in anul curent | F36: -727.6
A37: 32 | B37: 650301 | C37: 710101 | D37: Constructii | E37: 100000 | F37: 0 | G37: =F37/E37 -> 0
A38: 33 | B38: 650302 | C38: 710103 | D38: Mobilier aparatura birotica si alte active corporale | E38: 15000 | F38: 0 | G38: =F38/E38 -> 0
A39: 34 | B39: 650302 | C39: 710130 | D39: Alte active fixe | E39: 40000 | F39: 0 | G39: =F39/E39 -> 0
A40: 35 | B40: 650401 | C40: 200101 | D40: Furnituri de birou | E40: 20000 | F40: 13433.68 | G40: =F40/E40 -> 0.671684
A41: 36 | B41: 650401 | C41: 200102 | D41: Materiale pentru curatenie | E41: 20000 | F41: 9681.7 | G41: =F41/E41 -> 0.484085
...

Sheet indicatori
B1: PRIMARIA COMUNEI I.L.CARAGIALE | F1: ANEXA 7
C3: Indicatorii executiei bugetului local pe trim.IV 2022
A4: VENITURI
A5: Nr. | B5: Indicatori sinteza | C5: Formula de calcul | D5: Sume | E5: Procent | F5: Perioada
A6: crt.
A7: 1 | B7: Gradul de realizare a veniturilor | C7: Venituri total incasate (t21) | D7: ='VENITURI TOTALE'!E38 -> 9151431.8 | E7: =D7/D8*100 -> 124.97346 | F7: Trimestrial
C8: Venituri totale programate | D8: ='VENITURI TOTALE'!D38 -> 7322700
A9: 2 | B9: Gradul de realizare a veniturilor proprii | C9: Venituri proprii incasate (Vp= t21-alte venituri (TVA, subventii) | D9: ='VENITURI TOTALE'!E38-'venituri functionare'!E28-'venituri functionare'!E59 -> 7419110.1 | E9: =D9/D10*100 -> 143.86485 | F9: Trimestrial
C10: Venituri proprii programate | D10: ='VENITURI TOTALE'!D38-'venituri functionare'!D28-'venituri functionare'!D59 -> 5157000
A11: 3 | B11: Gradul de finantare din venituri proprii | C11: Venituri proprii incasate (Vp= t21-alte venituri (TVA, subventii) | D11: ='VENITURI TOTALE'!E38-'venituri functionare'!E28-'venituri functionare'!E59 -> 7419110.1 | E11: =D11/D12*100 -> 81.070484 | F11: Trimestrial
C12: Venituri total incasate (t21) | D12: ='VENITURI TOTALE'!E38 -> 9151431.8
A13: 4 | B13: Gradul de autofinantare | C13: Venituri proprii incasate (exclusiv cote) (Vpec=Vp-cote defalcate) | D13: ='VENITURI TOTALE'!E38-'venituri functionare'!E13-'venituri functionare'!E28-'venituri functionare'!E59 -> 4429149.7 | E13: =D13/D14*100 -> 48.398434 | F13: Trimestrial
C14: Venituri totale incasate (t21) | D14: ='VENITURI TOTALE'!E38 -> 9151431.8
A15: 5 | B15: Venituri proprii incasate per capita | C15: Venituri proprii incasate(Vp= t21-alte venituri (TVA, subventii) | E15: =#DIV/0! -> #DIV/0! | F15: Anual
C16: Numar de locuitori
A17: 6 | B17: Gradul de realizare a impozitelor pe proprietate | C17: Venituri din impozite pe proprietate incasate | E17: =#DIV/0! -> #DIV/0! | F17: Anual
C18: (Vip = 070201+070202+160202)
C19: Venituri din impozite pe proprietate programate
A20: 7 | B20: Gradul de dependenta al bugetului local fata de bugetul de stat | C20: Incasari din surse primite de la bugetul de stat | E20: =#DIV/0! -> #DIV/0! | F20: Anual
C21: (Sbs = 0402+1102+4202+4302)
C22: Venituri totale incasate(t21)
A23: 8 | B23: Gradul de autonomie decizionala | C23: Venituri depersonalizate incasate (Vp+110206) | D23: ='VENITURI TOTALE'!E38-'venituri functionare'!E59-'venituri functionare'!E28 -> 7419110.1 | E23: =D23/D24*100 -> 81.070484 | F23: Trimestrial
C24: Venituri totale incasate(t21) | D24: ='VENITURI TOTALE'!E38 -> 9151431.8
A25: 9 | B25: Estimatul anual din venituri fiscale
A26: a) | B26: Coeficient de realizare a veniturilor fiscale in anul anterior (se calculeaza trimestrial) | C26: Venituri fiscale cumulate an anterior (trim.I,II,III) | D26: 909742.24 | E26: =D26/D27 -> 0.87428091 | F26: An anterior 2010
C27: Total venituri fiscale an anterior | D27: 1040560.6
A28: b) | B28: Estimatul anual din venituri fiscale | C28: Venituri fiscale cumulate an de calcul (trim.I,II,III) | D28: 848468.86 | E28: 975251.56 | F28: An curent (2011)
C29: Coeficient | D29: =D28/E28 -> 0.87
A32: CHELTUIELI
A33: Nr.crt. | B33: Indicatori sinteza | C33: Formula de calcul | D33: Sume | E33: Procent | F33: Perioada
A34: 1 | B34: Rigiditatea cheltuielilor | C34: Plati aferente cheltuielilor de personal | E34: =#DIV/0! -> #DIV/0! | F34: Anual
C35: (total titlul 10)
C36: Total plati (t24)
A37: 2 | B37: Ponderea sectiunii de functionare | C37: Plati aferente sectiunii de functionare (t24f) | D37: ='cheltuieli functionare'!E6 -> 4754942 | E37: =D37/D38*100 -> 60.349268 | F37: Trimestrial
C38: Total plati (t24) | D38: ='CHELTUIELI TOTALE'!F116 -> 7879038.4
A39: 3 | B39: Ponderea sectiunii de dezvoltare | C39: Plati aferente sectiunii de dezvoltare (t24d) | D39: ='cheltuieli dezvoltare'!E6 -> 3124096.4 | E39: =D39/D40*100 -> 39.650732 | F39: Trimestrial
C40: Total plati (t24) | D40: ='CHELTUIELI TOTALE'!F116 -> 7879038.4
A41: 4 | B41: Ponderea serviciului datoriei publice | C41: Serviciul datoriei publice locale | D41: 0 | E41: =#DIV/0! -> #DIV/0! | F41: Anual
C42: Total plati (t24)
A43: 5 | B43: Excedent /Deficit –sectiune functionare | C43: Venituri incasate-(plati efectuate+plati restante) | D43: ='venituri functionare'!E6-'cheltuieli functionare'!E6 -> 1252934.6 | F43: Trimestrial
...
